BEGIN:VCALENDAR
VERSION:2.0
PRODID:-//AFOCER - ECPv6.15.20//NONSGML v1.0//EN
CALSCALE:GREGORIAN
METHOD:PUBLISH
X-WR-CALNAME:AFOCER
X-ORIGINAL-URL:https://afocer.cat
X-WR-CALDESC:Eventos para AFOCER
REFRESH-INTERVAL;VALUE=DURATION:PT1H
X-Robots-Tag:noindex
X-PUBLISHED-TTL:PT1H
BEGIN:VTIMEZONE
TZID:Europe/Madrid
BEGIN:DAYLIGHT
TZOFFSETFROM:+0100
TZOFFSETTO:+0200
TZNAME:CEST
DTSTART:20220327T010000
END:DAYLIGHT
BEGIN:STANDARD
TZOFFSETFROM:+0200
TZOFFSETTO:+0100
TZNAME:CET
DTSTART:20221030T010000
END:STANDARD
BEGIN:DAYLIGHT
TZOFFSETFROM:+0100
TZOFFSETTO:+0200
TZNAME:CEST
DTSTART:20230326T010000
END:DAYLIGHT
BEGIN:STANDARD
TZOFFSETFROM:+0200
TZOFFSETTO:+0100
TZNAME:CET
DTSTART:20231029T010000
END:STANDARD
BEGIN:DAYLIGHT
TZOFFSETFROM:+0100
TZOFFSETTO:+0200
TZNAME:CEST
DTSTART:20240331T010000
END:DAYLIGHT
BEGIN:STANDARD
TZOFFSETFROM:+0200
TZOFFSETTO:+0100
TZNAME:CET
DTSTART:20241027T010000
END:STANDARD
BEGIN:DAYLIGHT
TZOFFSETFROM:+0100
TZOFFSETTO:+0200
TZNAME:CEST
DTSTART:20250330T010000
END:DAYLIGHT
BEGIN:STANDARD
TZOFFSETFROM:+0200
TZOFFSETTO:+0100
TZNAME:CET
DTSTART:20251026T010000
END:STANDARD
END:VTIMEZONE
BEGIN:VEVENT
DTSTART;VALUE=DATE:20231125
DTEND;VALUE=DATE:20240127
DTSTAMP:20260420T215406
CREATED:20231103T191738Z
LAST-MODIFIED:20231103T191738Z
UID:41759-1700870400-1706313599@afocer.cat
SUMMARY:Exposició 540 de Josep Requena al local social
DESCRIPTION:Exposició 540 de Josep Requena\nLocal social Afocer\nDel 25 de novembre al gener de 2024
URL:https://afocer.cat/event/exposicio-540-de-josep-requena-al-local-social/
LOCATION:Ateneu de Cerdanyola\, Indústria 38-40\, Cerdanyola del Vallès\, Barcelona\, 08290\, Spain
CATEGORIES:Exposicions
ORGANIZER;CN="Afocer exposicions":MAILTO:exposicions@afocer.cat
END:VEVENT
BEGIN:VEVENT
DTSTART;VALUE=DATE:20231125
DTEND;VALUE=DATE:20240127
DTSTAMP:20260420T215406
CREATED:20231103T191738Z
LAST-MODIFIED:20231103T191839Z
UID:41764-1700870400-1706313599@afocer.cat
SUMMARY:Exposición 540 de Josep Requena en el local social
DESCRIPTION:Exposición 540 de Josep Requena\nLocal social Afocer\nDel 25 de noviembre a enero de 2024
URL:https://afocer.cat/event/exposicio-540-de-josep-requena-al-local-social/
LOCATION:Ateneu de Cerdanyola\, Indústria 38-40\, Cerdanyola del Vallès\, Barcelona\, 08290\, Spain
ORGANIZER;CN="Afocer exposicions":MAILTO:exposicions@afocer.cat
END:VEVENT
BEGIN:VEVENT
DTSTART;VALUE=DATE:20231201
DTEND;VALUE=DATE:20240201
DTSTAMP:20260420T215406
CREATED:20231210T151158Z
LAST-MODIFIED:20231210T151158Z
UID:42527-1701388800-1706745599@afocer.cat
SUMMARY:Exposició concurs centre penitenciari Mas Enric
DESCRIPTION:Exposició concurs centre penitenciari Mas Enric\nSala Elisa Arimany – Ateneu de Cerdanyola\ndel 1 de desembre al 31 de gener de 2024\nInformació
URL:https://afocer.cat/event/exposicio-concurs-centre-penitenciari-mas-enric/
LOCATION:Ateneu de Cerdanyola\, Indústria 38-40\, Cerdanyola del Vallès\, Barcelona\, 08290\, Spain
CATEGORIES:Exposicions
ORGANIZER;CN="Afocer comissariat":MAILTO:comissariat@afocer.cat
END:VEVENT
BEGIN:VEVENT
DTSTART;VALUE=DATE:20231201
DTEND;VALUE=DATE:20240201
DTSTAMP:20260420T215406
CREATED:20231210T151158Z
LAST-MODIFIED:20231210T151356Z
UID:42529-1701388800-1706745599@afocer.cat
SUMMARY:Exposición concurso centro penitenciario Mas Enric
DESCRIPTION:Exposición concurso centro penitenciario Mas Enric\nSala Elisa Arimany – Ateneu de Cerdanyola\ndel 1 de diciembre al 31 de enero de 2024\nInformación
URL:https://afocer.cat/event/exposicio-concurs-centre-penitenciari-mas-enric/
LOCATION:Ateneu de Cerdanyola\, Indústria 38-40\, Cerdanyola del Vallès\, Barcelona\, 08290\, Spain
ORGANIZER;CN="Afocer comissariat":MAILTO:comissariat@afocer.cat
END:VEVENT
END:VCALENDAR