BEGIN:VCALENDAR
VERSION:2.0
PRODID:-//AFOCER - ECPv6.15.20//NONSGML v1.0//EN
CALSCALE:GREGORIAN
METHOD:PUBLISH
X-WR-CALNAME:AFOCER
X-ORIGINAL-URL:https://afocer.cat
X-WR-CALDESC:Eventos para AFOCER
REFRESH-INTERVAL;VALUE=DURATION:PT1H
X-Robots-Tag:noindex
X-PUBLISHED-TTL:PT1H
BEGIN:VTIMEZONE
TZID:Europe/Madrid
BEGIN:DAYLIGHT
TZOFFSETFROM:+0100
TZOFFSETTO:+0200
TZNAME:CEST
DTSTART:20230326T010000
END:DAYLIGHT
BEGIN:STANDARD
TZOFFSETFROM:+0200
TZOFFSETTO:+0100
TZNAME:CET
DTSTART:20231029T010000
END:STANDARD
BEGIN:DAYLIGHT
TZOFFSETFROM:+0100
TZOFFSETTO:+0200
TZNAME:CEST
DTSTART:20240331T010000
END:DAYLIGHT
BEGIN:STANDARD
TZOFFSETFROM:+0200
TZOFFSETTO:+0100
TZNAME:CET
DTSTART:20241027T010000
END:STANDARD
BEGIN:DAYLIGHT
TZOFFSETFROM:+0100
TZOFFSETTO:+0200
TZNAME:CEST
DTSTART:20250330T010000
END:DAYLIGHT
BEGIN:STANDARD
TZOFFSETFROM:+0200
TZOFFSETTO:+0100
TZNAME:CET
DTSTART:20251026T010000
END:STANDARD
END:VTIMEZONE
BEGIN:VEVENT
DTSTART;VALUE=DATE:20240201
DTEND;VALUE=DATE:20240501
DTSTAMP:20260420T174954
CREATED:20240202T193411Z
LAST-MODIFIED:20240202T193411Z
UID:43712-1706745600-1714521599@afocer.cat
SUMMARY:Exposició 40 anys CEJFEJANT una mirada a través del temps
DESCRIPTION:Exposició 40 anys CEJFEJANT una mirada a través del temps\nC/ Pau Clarís\, 158 – Barcelona\nHorari: dilluns a divendres\, de 9:00 a 19.30 h\nDel 1 febrer a l’abril\nAquesta mostra\, comissariada per Glòria Molina\, de l’àrea de Comissariat d’Afocer\, celebra els 40 anys del CEJFE\nINFORMACIÓ
URL:https://afocer.cat/event/exposicio-40-anys-cejfejant-una-mirada-a-traves-del-temps/
LOCATION:Barcelona
CATEGORIES:Exposicions
ORGANIZER;CN="Afocer comissariat":MAILTO:comissariat@afocer.cat
END:VEVENT
BEGIN:VEVENT
DTSTART;VALUE=DATE:20240201
DTEND;VALUE=DATE:20240501
DTSTAMP:20260420T174954
CREATED:20240202T193411Z
LAST-MODIFIED:20240202T193618Z
UID:43714-1706745600-1714521599@afocer.cat
SUMMARY:Exposición 40 años CEJFEJANT una mirada a través del tiempo
DESCRIPTION:Exposición 40 años CEJFEJANT una mirada a través del tiempo\nC/ Pau Clarís\, 158 – Barcelona\nHorario: Lunes a viernes de 9:00 a 19.30 h\nDel 1 febrero a abril\nEsta muestra\, comisariada por Glòria Molina\, del área de Comisariado de Afocer\, celebra los 40 años del CEJFE\nINFORMACIÓN
URL:https://afocer.cat/event/exposicio-40-anys-cejfejant-una-mirada-a-traves-del-temps/
LOCATION:Barcelona
ORGANIZER;CN="Afocer comissariat":MAILTO:comissariat@afocer.cat
END:VEVENT
BEGIN:VEVENT
DTSTART;VALUE=DATE:20240224
DTEND;VALUE=DATE:20240406
DTSTAMP:20260420T174954
CREATED:20240218T062805Z
LAST-MODIFIED:20240229T143532Z
UID:43963-1708732800-1712361599@afocer.cat
SUMMARY:Exposició de Miquel Alba al local social
DESCRIPTION:Exposició de Miquel Alba al local social\nAteneu de Cerdanyola\ndel 24 de febrer al 5 d’abril
URL:https://afocer.cat/event/exposicio-de-miquel-alba-al-local-social/
LOCATION:Ateneu de Cerdanyola\, Indústria 38-40\, Cerdanyola del Vallès\, Barcelona\, 08290\, Spain
CATEGORIES:Exposicions
ORGANIZER;CN="Afocer concurs digital":MAILTO:socialdigital@afocer.cat
END:VEVENT
BEGIN:VEVENT
DTSTART;VALUE=DATE:20240224
DTEND;VALUE=DATE:20240406
DTSTAMP:20260420T174954
CREATED:20240218T062805Z
LAST-MODIFIED:20240229T143604Z
UID:43965-1708732800-1712361599@afocer.cat
SUMMARY:Exposición de Miquel Alba en el local social
DESCRIPTION:Exposición de Miquel Alba en el local social\nAteneu de Cerdanyola\ndel 24 de febrero al 5 de abril
URL:https://afocer.cat/event/exposicio-de-miquel-alba-al-local-social/
LOCATION:Ateneu de Cerdanyola\, Indústria 38-40\, Cerdanyola del Vallès\, Barcelona\, 08290\, Spain
ORGANIZER;CN="Afocer concurs digital":MAILTO:socialdigital@afocer.cat
END:VEVENT
BEGIN:VEVENT
DTSTART;VALUE=DATE:20240301
DTEND;VALUE=DATE:20240330
DTSTAMP:20260420T174954
CREATED:20231114T155442Z
LAST-MODIFIED:20240218T062248Z
UID:41909-1709251200-1711756799@afocer.cat
SUMMARY:Exposició 18a copa món clubs FIAP a la biblioteca Ripollet
DESCRIPTION:Exposició 18ª copa del món de clubs FIAP\nBiblioteca de Ripollet\nAv. Estació 40\nDel 1 al 29 de març de 2024
URL:https://afocer.cat/event/exposicio-biblioteca-ripollet/
LOCATION:Biblioteca de Ripollet\, Carretera de l'Estació 40\, Ripollet\, Barcelona\, 08291\, Spain
CATEGORIES:Exposicions
ORGANIZER;CN="Afocer exposicions":MAILTO:exposicions@afocer.cat
END:VEVENT
BEGIN:VEVENT
DTSTART;VALUE=DATE:20240301
DTEND;VALUE=DATE:20240330
DTSTAMP:20260420T174954
CREATED:20231114T155442Z
LAST-MODIFIED:20240218T062401Z
UID:41912-1709251200-1711756799@afocer.cat
SUMMARY:Exposición 18a copa del mundo de clubs FIAP en la biblioteca Ripollet
DESCRIPTION:Exposición 18a copa del mundo de clubs FIAP en la biblioteca Ripollet\nBiblioteca de Ripollet\nAv. Estació 40\nDel 1 al 29 de marzo de 2024
URL:https://afocer.cat/event/exposicio-biblioteca-ripollet/
LOCATION:Biblioteca de Ripollet\, Carretera de l'Estació 40\, Ripollet\, Barcelona\, 08291\, Spain
ORGANIZER;CN="Afocer exposicions":MAILTO:exposicions@afocer.cat
END:VEVENT
BEGIN:VEVENT
DTSTART;VALUE=DATE:20240304
DTEND;VALUE=DATE:20240328
DTSTAMP:20260420T174954
CREATED:20240224T112528Z
LAST-MODIFIED:20240224T112528Z
UID:44149-1709510400-1711583999@afocer.cat
SUMMARY:Exposició Jo\, pallassa al centre Ton i Guida de Barcelona
DESCRIPTION:Exposició Jo\, Pallassa\nCentre Ton i Guida\nCarrer Romaní 6\, Nou Barris\, Barcelona\nde dilluns a divendres de 10 a 13 h i de 16 a 21 h\ndel 4 al 27 de març de 2024
URL:https://afocer.cat/event/exposicio-jo-pallassa-al-centre-ton-i-guida-de-barcelona/
LOCATION:Barcelona
CATEGORIES:Exposicions
ORGANIZER;CN="Afocer comissariat":MAILTO:comissariat@afocer.cat
END:VEVENT
BEGIN:VEVENT
DTSTART;VALUE=DATE:20240304
DTEND;VALUE=DATE:20240328
DTSTAMP:20260420T174954
CREATED:20240224T112528Z
LAST-MODIFIED:20240224T112712Z
UID:44151-1709510400-1711583999@afocer.cat
SUMMARY:Exposición Yo\, payasa en el centre Ton i Guida de Barcelona
DESCRIPTION:Exposición Yo\, Payasa\nCentre Ton i Guida\nCalle Romaní 6\, Nou Barris\, Barcelona\nde lunes a viernes de 10 a 13 h i de 16 a 21 h\ndel 4 al 27 de marzo de 2024
URL:https://afocer.cat/event/exposicio-jo-pallassa-al-centre-ton-i-guida-de-barcelona/
LOCATION:Barcelona
ORGANIZER;CN="Afocer comissariat":MAILTO:comissariat@afocer.cat
END:VEVENT
BEGIN:VEVENT
DTSTART;VALUE=DATE:20240319
DTEND;VALUE=DATE:20240420
DTSTAMP:20260420T174954
CREATED:20240209T152705Z
LAST-MODIFIED:20240224T101724Z
UID:43886-1710806400-1713571199@afocer.cat
SUMMARY:Exposición de los concursos Aplec Sant Iscle y Pere Viltró 2023
DESCRIPTION:Exposición fotos concursos Aplec Sant Iscle y Pere Viltró 2023\nSala 22 – Ateneu de Cerdanyola\ndel 19 de marzo al 19 de abril
URL:https://afocer.cat/event/exposicio-dels-concursos-aplec-sant-iscle-i-pere-viltro-2023/
LOCATION:Ateneu de Cerdanyola\, Indústria 38-40\, Cerdanyola del Vallès\, Barcelona\, 08290\, Spain
ORGANIZER;CN="Afocer exposicions":MAILTO:exposicions@afocer.cat
END:VEVENT
BEGIN:VEVENT
DTSTART;VALUE=DATE:20240319
DTEND;VALUE=DATE:20240420
DTSTAMP:20260420T174954
CREATED:20240209T152705Z
LAST-MODIFIED:20240224T101653Z
UID:43884-1710806400-1713571199@afocer.cat
SUMMARY:Exposició dels concursos Aplec Sant Iscle i Pere Viltró 2023
DESCRIPTION:Exposició fotos concurs Aplec Sant Iscle i Pere Viltró 2023\nSalat 22 – Ateneu de Cerdanyola\ndel 19 de març al 19 d’abril
URL:https://afocer.cat/event/exposicio-dels-concursos-aplec-sant-iscle-i-pere-viltro-2023/
LOCATION:Ateneu de Cerdanyola\, Indústria 38-40\, Cerdanyola del Vallès\, Barcelona\, 08290\, Spain
CATEGORIES:Exposicions
ORGANIZER;CN="Afocer exposicions":MAILTO:exposicions@afocer.cat
END:VEVENT
END:VCALENDAR