BEGIN:VCALENDAR
VERSION:2.0
PRODID:-//AFOCER - ECPv6.15.20//NONSGML v1.0//EN
CALSCALE:GREGORIAN
METHOD:PUBLISH
X-WR-CALNAME:AFOCER
X-ORIGINAL-URL:https://afocer.cat
X-WR-CALDESC:Eventos para AFOCER
REFRESH-INTERVAL;VALUE=DURATION:PT1H
X-Robots-Tag:noindex
X-PUBLISHED-TTL:PT1H
BEGIN:VTIMEZONE
TZID:Europe/Madrid
BEGIN:DAYLIGHT
TZOFFSETFROM:+0100
TZOFFSETTO:+0200
TZNAME:CEST
DTSTART:20230326T010000
END:DAYLIGHT
BEGIN:STANDARD
TZOFFSETFROM:+0200
TZOFFSETTO:+0100
TZNAME:CET
DTSTART:20231029T010000
END:STANDARD
BEGIN:DAYLIGHT
TZOFFSETFROM:+0100
TZOFFSETTO:+0200
TZNAME:CEST
DTSTART:20240331T010000
END:DAYLIGHT
BEGIN:STANDARD
TZOFFSETFROM:+0200
TZOFFSETTO:+0100
TZNAME:CET
DTSTART:20241027T010000
END:STANDARD
BEGIN:DAYLIGHT
TZOFFSETFROM:+0100
TZOFFSETTO:+0200
TZNAME:CEST
DTSTART:20250330T010000
END:DAYLIGHT
BEGIN:STANDARD
TZOFFSETFROM:+0200
TZOFFSETTO:+0100
TZNAME:CET
DTSTART:20251026T010000
END:STANDARD
END:VTIMEZONE
BEGIN:VEVENT
DTSTART;VALUE=DATE:20240201
DTEND;VALUE=DATE:20240501
DTSTAMP:20260420T173626
CREATED:20240202T193411Z
LAST-MODIFIED:20240202T193411Z
UID:43712-1706745600-1714521599@afocer.cat
SUMMARY:Exposició 40 anys CEJFEJANT una mirada a través del temps
DESCRIPTION:Exposició 40 anys CEJFEJANT una mirada a través del temps\nC/ Pau Clarís\, 158 – Barcelona\nHorari: dilluns a divendres\, de 9:00 a 19.30 h\nDel 1 febrer a l’abril\nAquesta mostra\, comissariada per Glòria Molina\, de l’àrea de Comissariat d’Afocer\, celebra els 40 anys del CEJFE\nINFORMACIÓ
URL:https://afocer.cat/event/exposicio-40-anys-cejfejant-una-mirada-a-traves-del-temps/
LOCATION:Barcelona
CATEGORIES:Exposicions
ORGANIZER;CN="Afocer comissariat":MAILTO:comissariat@afocer.cat
END:VEVENT
BEGIN:VEVENT
DTSTART;VALUE=DATE:20240201
DTEND;VALUE=DATE:20240501
DTSTAMP:20260420T173626
CREATED:20240202T193411Z
LAST-MODIFIED:20240202T193618Z
UID:43714-1706745600-1714521599@afocer.cat
SUMMARY:Exposición 40 años CEJFEJANT una mirada a través del tiempo
DESCRIPTION:Exposición 40 años CEJFEJANT una mirada a través del tiempo\nC/ Pau Clarís\, 158 – Barcelona\nHorario: Lunes a viernes de 9:00 a 19.30 h\nDel 1 febrero a abril\nEsta muestra\, comisariada por Glòria Molina\, del área de Comisariado de Afocer\, celebra los 40 años del CEJFE\nINFORMACIÓN
URL:https://afocer.cat/event/exposicio-40-anys-cejfejant-una-mirada-a-traves-del-temps/
LOCATION:Barcelona
ORGANIZER;CN="Afocer comissariat":MAILTO:comissariat@afocer.cat
END:VEVENT
BEGIN:VEVENT
DTSTART;VALUE=DATE:20240319
DTEND;VALUE=DATE:20240420
DTSTAMP:20260420T173626
CREATED:20240209T152705Z
LAST-MODIFIED:20240224T101653Z
UID:43884-1710806400-1713571199@afocer.cat
SUMMARY:Exposició dels concursos Aplec Sant Iscle i Pere Viltró 2023
DESCRIPTION:Exposició fotos concurs Aplec Sant Iscle i Pere Viltró 2023\nSalat 22 – Ateneu de Cerdanyola\ndel 19 de març al 19 d’abril
URL:https://afocer.cat/event/exposicio-dels-concursos-aplec-sant-iscle-i-pere-viltro-2023/
LOCATION:Ateneu de Cerdanyola\, Indústria 38-40\, Cerdanyola del Vallès\, Barcelona\, 08290\, Spain
CATEGORIES:Exposicions
ORGANIZER;CN="Afocer exposicions":MAILTO:exposicions@afocer.cat
END:VEVENT
BEGIN:VEVENT
DTSTART;VALUE=DATE:20240319
DTEND;VALUE=DATE:20240420
DTSTAMP:20260420T173626
CREATED:20240209T152705Z
LAST-MODIFIED:20240224T101724Z
UID:43886-1710806400-1713571199@afocer.cat
SUMMARY:Exposición de los concursos Aplec Sant Iscle y Pere Viltró 2023
DESCRIPTION:Exposición fotos concursos Aplec Sant Iscle y Pere Viltró 2023\nSala 22 – Ateneu de Cerdanyola\ndel 19 de marzo al 19 de abril
URL:https://afocer.cat/event/exposicio-dels-concursos-aplec-sant-iscle-i-pere-viltro-2023/
LOCATION:Ateneu de Cerdanyola\, Indústria 38-40\, Cerdanyola del Vallès\, Barcelona\, 08290\, Spain
ORGANIZER;CN="Afocer exposicions":MAILTO:exposicions@afocer.cat
END:VEVENT
BEGIN:VEVENT
DTSTART;VALUE=DATE:20240403
DTEND;VALUE=DATE:20240501
DTSTAMP:20260420T173626
CREATED:20240411T162357Z
LAST-MODIFIED:20240411T162357Z
UID:45320-1712102400-1714521599@afocer.cat
SUMMARY:Exposició de Joan Mimó al Centre Cívic La Sagrera
DESCRIPTION:Exposició de Joan Mimó al Centre Cívic La Sagrera\nCentre Cívic La Sagrera (La Barraca)\nC/ Martí Molins 29\, Barcelona\nDel 3 al 30 d’abril de 2024
URL:https://afocer.cat/event/exposicio-de-joan-mimo-al-centre-civic-la-sagrera/
LOCATION:Barcelona
CATEGORIES:Exposicions
END:VEVENT
BEGIN:VEVENT
DTSTART;VALUE=DATE:20240403
DTEND;VALUE=DATE:20240501
DTSTAMP:20260420T173626
CREATED:20240411T162357Z
LAST-MODIFIED:20240411T162456Z
UID:45322-1712102400-1714521599@afocer.cat
SUMMARY:Exposición de Joan Mimó en el Centre Cívic La Sagrera
DESCRIPTION:Exposición de Joan Mimó en el Centre Cívic La Sagrera\nCentre Cívic La Sagrera (La Barraca)\nC/ Martí Molins 29\, Barcelona\nDel 3 al 30 de abril de 2024
URL:https://afocer.cat/event/exposicio-de-joan-mimo-al-centre-civic-la-sagrera/
LOCATION:Barcelona
END:VEVENT
BEGIN:VEVENT
DTSTART;VALUE=DATE:20240403
DTEND;VALUE=DATE:20240504
DTSTAMP:20260420T173626
CREATED:20240323T155329Z
LAST-MODIFIED:20240323T155329Z
UID:44926-1712102400-1714780799@afocer.cat
SUMMARY:Exposició Re-Producción de Eugenia Couoh a la sala Elisa Arimany
DESCRIPTION:Exposició Re-Producción de Eugenia Couoh a la sala Elisa Arimany\nSala Elisa Arimany – Biblioteca Central de Cerdanyola\ndel 3 d’abril al 3 de maig\nINFORMACIÓ
URL:https://afocer.cat/event/exposicio-re-produccion-de-eugenia-couoh-a-la-sala-elisa-arimany/
LOCATION:Sala Elisa Arimany – Biblioteca central de Cerdanyola\, Plaça Enric Granados 1\, Cerdanyola del Vallès\, Barcelona\, 08290\, Spain
CATEGORIES:Exposicions
ORGANIZER;CN="Afocer exposicions":MAILTO:exposicions@afocer.cat
END:VEVENT
BEGIN:VEVENT
DTSTART;VALUE=DATE:20240403
DTEND;VALUE=DATE:20240504
DTSTAMP:20260420T173626
CREATED:20240323T155329Z
LAST-MODIFIED:20240323T155442Z
UID:44928-1712102400-1714780799@afocer.cat
SUMMARY:Exposición Re-Producción de Eugenia Couoh en la sala Elisa Arimany
DESCRIPTION:Exposición Re-Producción de Eugenia Couoh en la sala Elisa Arimany\nSala Elisa Arimany – Biblioteca Central de Cerdanyola\ndel 3 de abril al 3 de mayo\nINFORMACIÓN
URL:https://afocer.cat/event/exposicio-re-produccion-de-eugenia-couoh-a-la-sala-elisa-arimany/
LOCATION:Sala Elisa Arimany – Biblioteca central de Cerdanyola\, Plaça Enric Granados 1\, Cerdanyola del Vallès\, Barcelona\, 08290\, Spain
ORGANIZER;CN="Afocer exposicions":MAILTO:exposicions@afocer.cat
END:VEVENT
BEGIN:VEVENT
DTSTART;VALUE=DATE:20240404
DTEND;VALUE=DATE:20240427
DTSTAMP:20260420T173626
CREATED:20240323T160231Z
LAST-MODIFIED:20240323T160520Z
UID:44937-1712188800-1714175999@afocer.cat
SUMMARY:Exposición Yo Payasa en el Centre Cívic Drassanes
DESCRIPTION:Exposición colectiva Yo Payasa\nCentre Cívic Drassanes\nNou de Rambla 43\, Barcelona\ndel 4 al 26 de abril de 2024\nInauguración 24 de abril a las 19:30\ncon la actuación de la payasa Andreia Moreira
URL:https://afocer.cat/event/exposicio-jo-pallassa-al-centre-civic-drassanes/
LOCATION:Barcelona
ORGANIZER;CN="Afocer comissariat":MAILTO:comissariat@afocer.cat
END:VEVENT
BEGIN:VEVENT
DTSTART;VALUE=DATE:20240404
DTEND;VALUE=DATE:20240427
DTSTAMP:20260420T173626
CREATED:20240323T160231Z
LAST-MODIFIED:20240323T160348Z
UID:44934-1712188800-1714175999@afocer.cat
SUMMARY:Exposició Jo Pallassa al Centre Cívic Drassanes
DESCRIPTION:Exposició col·lectiva Jo Pallassa\nCentre Cívic Drassanes\nNou de Rambla 43\, Barcelona\ndel 4 al 26 d’abril de 2024\nInauguració 24 d’abril a les 19:30\namb actuació de la pallassa Andreia Moreira
URL:https://afocer.cat/event/exposicio-jo-pallassa-al-centre-civic-drassanes/
LOCATION:Barcelona
CATEGORIES:Exposicions
ORGANIZER;CN="Afocer comissariat":MAILTO:comissariat@afocer.cat
END:VEVENT
BEGIN:VEVENT
DTSTART;VALUE=DATE:20240405
DTEND;VALUE=DATE:20240601
DTSTAMP:20260420T173626
CREATED:20240323T154348Z
LAST-MODIFIED:20240404T145336Z
UID:44897-1712275200-1717199999@afocer.cat
SUMMARY:Exposició Estimada Terra de Joan Guerrero i Cesar Pace a la UAB
DESCRIPTION:Exposició Estimada Terra de Joan Guerrero i Cesar Pace\nBiblioteca de Comunicació i Hemeroteca General UAB\n5 d’abril al 31 de maig\nINFORMACIÓ\n 
URL:https://afocer.cat/event/exposicio-estimada-terra-de-joan-guerrero-i-cesar-pace-a-la-uab/
LOCATION:Biblioteca comunicació UAB\, Edifici N Campus\, Edifici N\, Plaça Cívica\, s/n\, Cerdanyola del Vallès\, Barcelona\, 08193\, Spain
CATEGORIES:Exposicions
ORGANIZER;CN="Afocer comissariat":MAILTO:comissariat@afocer.cat
END:VEVENT
BEGIN:VEVENT
DTSTART;VALUE=DATE:20240405
DTEND;VALUE=DATE:20240601
DTSTAMP:20260420T173626
CREATED:20240323T154348Z
LAST-MODIFIED:20240404T145425Z
UID:44899-1712275200-1717199999@afocer.cat
SUMMARY:Exposición Estimada Terra de Joan Guerrero y Cesar Pace en la UAB
DESCRIPTION:Exposición Estimada Terra de Joan Guerrero y Cesar Pace\nBiblioteca de Comunicació i Hemeroteca General UAB\n5 de abril al 31 de mayo\nINFORMACIÓN\n 
URL:https://afocer.cat/event/exposicio-estimada-terra-de-joan-guerrero-i-cesar-pace-a-la-uab/
LOCATION:Biblioteca comunicació UAB\, Edifici N Campus\, Edifici N\, Plaça Cívica\, s/n\, Cerdanyola del Vallès\, Barcelona\, 08193\, Spain
ORGANIZER;CN="Afocer comissariat":MAILTO:comissariat@afocer.cat
END:VEVENT
BEGIN:VEVENT
DTSTART;VALUE=DATE:20240406
DTEND;VALUE=DATE:20240427
DTSTAMP:20260420T173626
CREATED:20240303T181326Z
LAST-MODIFIED:20240303T181501Z
UID:44470-1712361600-1714175999@afocer.cat
SUMMARY:Exposición Paisajes de Islandia de Miquel Pons
DESCRIPTION:Exposición Paisajes de Islandia de Miquel Pons\nLocal social – Ateneu de Cerdanyola\ndel 6 al 26 de abril de 2024
URL:https://afocer.cat/event/exposicio-paisatges-dislandia-de-miquel-pons/
LOCATION:Ateneu de Cerdanyola\, Indústria 38-40\, Cerdanyola del Vallès\, Barcelona\, 08290\, Spain
ORGANIZER;CN="Afocer concurs digital":MAILTO:socialdigital@afocer.cat
END:VEVENT
BEGIN:VEVENT
DTSTART;VALUE=DATE:20240406
DTEND;VALUE=DATE:20240427
DTSTAMP:20260420T173626
CREATED:20240303T181326Z
LAST-MODIFIED:20240303T181326Z
UID:44468-1712361600-1714175999@afocer.cat
SUMMARY:Exposició Paisatges d'Islàndia de Miquel Pons
DESCRIPTION:Exposició Paisatges d’Islàndia\, de Miquel Pons\nLocal social – Ateneu de Cerdanyola\ndel 6 al 26 d’abril de 2024
URL:https://afocer.cat/event/exposicio-paisatges-dislandia-de-miquel-pons/
LOCATION:Ateneu de Cerdanyola\, Indústria 38-40\, Cerdanyola del Vallès\, Barcelona\, 08290\, Spain
CATEGORIES:Exposicions
ORGANIZER;CN="Afocer concurs digital":MAILTO:socialdigital@afocer.cat
END:VEVENT
END:VCALENDAR