BEGIN:VCALENDAR
VERSION:2.0
PRODID:-//AFOCER - ECPv6.15.20//NONSGML v1.0//EN
CALSCALE:GREGORIAN
METHOD:PUBLISH
X-ORIGINAL-URL:https://afocer.cat
X-WR-CALDESC:Eventos para AFOCER
REFRESH-INTERVAL;VALUE=DURATION:PT1H
X-Robots-Tag:noindex
X-PUBLISHED-TTL:PT1H
BEGIN:VTIMEZONE
TZID:Europe/Madrid
BEGIN:DAYLIGHT
TZOFFSETFROM:+0100
TZOFFSETTO:+0200
TZNAME:CEST
DTSTART:20230326T010000
END:DAYLIGHT
BEGIN:STANDARD
TZOFFSETFROM:+0200
TZOFFSETTO:+0100
TZNAME:CET
DTSTART:20231029T010000
END:STANDARD
BEGIN:DAYLIGHT
TZOFFSETFROM:+0100
TZOFFSETTO:+0200
TZNAME:CEST
DTSTART:20240331T010000
END:DAYLIGHT
BEGIN:STANDARD
TZOFFSETFROM:+0200
TZOFFSETTO:+0100
TZNAME:CET
DTSTART:20241027T010000
END:STANDARD
BEGIN:DAYLIGHT
TZOFFSETFROM:+0100
TZOFFSETTO:+0200
TZNAME:CEST
DTSTART:20250330T010000
END:DAYLIGHT
BEGIN:STANDARD
TZOFFSETFROM:+0200
TZOFFSETTO:+0100
TZNAME:CET
DTSTART:20251026T010000
END:STANDARD
END:VTIMEZONE
BEGIN:VEVENT
DTSTART;VALUE=DATE:20240405
DTEND;VALUE=DATE:20240601
DTSTAMP:20260420T174714
CREATED:20240323T154348Z
LAST-MODIFIED:20240404T145425Z
UID:44899-1712275200-1717199999@afocer.cat
SUMMARY:Exposición Estimada Terra de Joan Guerrero y Cesar Pace en la UAB
DESCRIPTION:Exposición Estimada Terra de Joan Guerrero y Cesar Pace\nBiblioteca de Comunicació i Hemeroteca General UAB\n5 de abril al 31 de mayo\nINFORMACIÓN\n 
URL:https://afocer.cat/event/exposicio-estimada-terra-de-joan-guerrero-i-cesar-pace-a-la-uab/
LOCATION:Biblioteca comunicació UAB\, Edifici N Campus\, Edifici N\, Plaça Cívica\, s/n\, Cerdanyola del Vallès\, Barcelona\, 08193\, Spain
ORGANIZER;CN="Afocer comissariat":MAILTO:comissariat@afocer.cat
END:VEVENT
BEGIN:VEVENT
DTSTART;VALUE=DATE:20240405
DTEND;VALUE=DATE:20240601
DTSTAMP:20260420T174714
CREATED:20240323T154348Z
LAST-MODIFIED:20240404T145336Z
UID:44897-1712275200-1717199999@afocer.cat
SUMMARY:Exposició Estimada Terra de Joan Guerrero i Cesar Pace a la UAB
DESCRIPTION:Exposició Estimada Terra de Joan Guerrero i Cesar Pace\nBiblioteca de Comunicació i Hemeroteca General UAB\n5 d’abril al 31 de maig\nINFORMACIÓ\n 
URL:https://afocer.cat/event/exposicio-estimada-terra-de-joan-guerrero-i-cesar-pace-a-la-uab/
LOCATION:Biblioteca comunicació UAB\, Edifici N Campus\, Edifici N\, Plaça Cívica\, s/n\, Cerdanyola del Vallès\, Barcelona\, 08193\, Spain
CATEGORIES:Exposicions
ORGANIZER;CN="Afocer comissariat":MAILTO:comissariat@afocer.cat
END:VEVENT
BEGIN:VEVENT
DTSTART;VALUE=DATE:20240426
DTEND;VALUE=DATE:20240928
DTSTAMP:20260420T174714
CREATED:20240316T101611Z
LAST-MODIFIED:20240411T160107Z
UID:44651-1714089600-1727481599@afocer.cat
SUMMARY:Exposició Escala 5 planta 4 de Carme Aldana a l'Hospital Clínic
DESCRIPTION:Exposició Escala 5 planta 4 de Carme Aldana\nHospital Clínic de Barcelona\ndel 26 d’abril al 27 de setembre de 2024
URL:https://afocer.cat/event/exposicio-escala-5-planta-4-de-carme-aldana-a-lhospital-clinic/
LOCATION:Barcelona
CATEGORIES:Exposicions
ORGANIZER;CN="Afocer comissariat":MAILTO:comissariat@afocer.cat
END:VEVENT
BEGIN:VEVENT
DTSTART;VALUE=DATE:20240426
DTEND;VALUE=DATE:20240928
DTSTAMP:20260420T174714
CREATED:20240316T101611Z
LAST-MODIFIED:20240411T160207Z
UID:44653-1714089600-1727481599@afocer.cat
SUMMARY:Exposición Escala 5 planta 4 de Carme Aldana en el Hospital Clínic
DESCRIPTION:Exposición Escala 5 planta 4 de Carme Aldana\nHospital Clínic de Barcelona\ndel 26 de abril al 27 de setembre de 2024
URL:https://afocer.cat/event/exposicio-escala-5-planta-4-de-carme-aldana-a-lhospital-clinic/
LOCATION:Barcelona
ORGANIZER;CN="Afocer comissariat":MAILTO:comissariat@afocer.cat
END:VEVENT
BEGIN:VEVENT
DTSTART;VALUE=DATE:20240427
DTEND;VALUE=DATE:20240526
DTSTAMP:20260420T174714
CREATED:20240421T052029Z
LAST-MODIFIED:20240425T133800Z
UID:45350-1714176000-1716681599@afocer.cat
SUMMARY:Exposició de Joan Mimó al local social
DESCRIPTION:Exposició de Joan Mimó al local social\nAteneu de Cerdanyola\ndel 27 d’abril al 25 de maig
URL:https://afocer.cat/event/exposicio-al-local-social-3/
LOCATION:Ateneu de Cerdanyola\, Indústria 38-40\, Cerdanyola del Vallès\, Barcelona\, 08290\, Spain
CATEGORIES:Exposicions
ORGANIZER;CN="Afocer exposicions":MAILTO:exposicions@afocer.cat
END:VEVENT
BEGIN:VEVENT
DTSTART;VALUE=DATE:20240427
DTEND;VALUE=DATE:20240526
DTSTAMP:20260420T174714
CREATED:20240421T052613Z
LAST-MODIFIED:20240425T133739Z
UID:45357-1714176000-1716681599@afocer.cat
SUMMARY:Exposición de Joan Mimó en el local social
DESCRIPTION:Exposición de Joan Mimó en el local social\nAteneu de Cerdanyola\nDel 27 de abril al 25 de mayo
URL:https://afocer.cat/event/exposicion-en-el-local-social/
LOCATION:Ateneu de Cerdanyola\, Indústria 38-40\, Cerdanyola del Vallès\, Barcelona\, 08290\, Spain
ORGANIZER;CN="Afocer exposicions":MAILTO:exposicions@afocer.cat
END:VEVENT
BEGIN:VEVENT
DTSTART;VALUE=DATE:20240504
DTEND;VALUE=DATE:20240506
DTSTAMP:20260420T174714
CREATED:20240209T153813Z
LAST-MODIFIED:20240209T153813Z
UID:43897-1714780800-1714953599@afocer.cat
SUMMARY:Taller infantil de fotografia del Roser de Maig
DESCRIPTION:Taller infantil de fotografia del Roser de Maig\nCerdanyola del Vallès\nDissabte 4 de maig de 09:30 a 13:00\nDiumenge 5 de maig de 10:00 a 13:30\nNens i nenes de 8 a 12 anys\nInscripcions a analogic@afocer.cat
URL:https://afocer.cat/event/taller-infantil-de-fotografia-del-roser-de-maig/
LOCATION:Barcelona
CATEGORIES:Activitats,Taller
ORGANIZER;CN="Afocer activitats":MAILTO:activitats@afocer.cat
END:VEVENT
BEGIN:VEVENT
DTSTART;VALUE=DATE:20240504
DTEND;VALUE=DATE:20240506
DTSTAMP:20260420T174714
CREATED:20240209T153813Z
LAST-MODIFIED:20240209T153919Z
UID:43899-1714780800-1714953599@afocer.cat
SUMMARY:Taller infantil de fotografia del Roser de Maig
DESCRIPTION:Taller infantil de fotografía del Roser de Maig\nCerdanyola del Vallès\nSábado 4 de mayo de 09:30 a 13:00\nDomingo 5 de mayo de 10:00 a 13:30\nNiños y niñas de 8 a 12 años\nInscripciones a analogic@afocer.cat
URL:https://afocer.cat/event/taller-infantil-de-fotografia-del-roser-de-maig/
LOCATION:Barcelona
ORGANIZER;CN="Afocer activitats":MAILTO:activitats@afocer.cat
END:VEVENT
END:VCALENDAR