BEGIN:VCALENDAR
VERSION:2.0
PRODID:-//AFOCER - ECPv6.15.20//NONSGML v1.0//EN
CALSCALE:GREGORIAN
METHOD:PUBLISH
X-WR-CALNAME:AFOCER
X-ORIGINAL-URL:https://afocer.cat
X-WR-CALDESC:Eventos para AFOCER
REFRESH-INTERVAL;VALUE=DURATION:PT1H
X-Robots-Tag:noindex
X-PUBLISHED-TTL:PT1H
BEGIN:VTIMEZONE
TZID:Europe/Madrid
BEGIN:DAYLIGHT
TZOFFSETFROM:+0100
TZOFFSETTO:+0200
TZNAME:CEST
DTSTART:20230326T010000
END:DAYLIGHT
BEGIN:STANDARD
TZOFFSETFROM:+0200
TZOFFSETTO:+0100
TZNAME:CET
DTSTART:20231029T010000
END:STANDARD
BEGIN:DAYLIGHT
TZOFFSETFROM:+0100
TZOFFSETTO:+0200
TZNAME:CEST
DTSTART:20240331T010000
END:DAYLIGHT
BEGIN:STANDARD
TZOFFSETFROM:+0200
TZOFFSETTO:+0100
TZNAME:CET
DTSTART:20241027T010000
END:STANDARD
BEGIN:DAYLIGHT
TZOFFSETFROM:+0100
TZOFFSETTO:+0200
TZNAME:CEST
DTSTART:20250330T010000
END:DAYLIGHT
BEGIN:STANDARD
TZOFFSETFROM:+0200
TZOFFSETTO:+0100
TZNAME:CET
DTSTART:20251026T010000
END:STANDARD
BEGIN:DAYLIGHT
TZOFFSETFROM:+0100
TZOFFSETTO:+0200
TZNAME:CEST
DTSTART:20260329T010000
END:DAYLIGHT
BEGIN:STANDARD
TZOFFSETFROM:+0200
TZOFFSETTO:+0100
TZNAME:CET
DTSTART:20261025T010000
END:STANDARD
END:VTIMEZONE
BEGIN:VEVENT
DTSTART;VALUE=DATE:20241130
DTEND;VALUE=DATE:20250126
DTSTAMP:20260420T065314
CREATED:20241126T145245Z
LAST-MODIFIED:20241126T145245Z
UID:50400-1732924800-1737849599@afocer.cat
SUMMARY:Exposició Cels i làmines d'aigua del Delta de Toni Marin
DESCRIPTION:Exposició Cels i làmines d’aigua del Delta de Toni Marin\nLocal social  – Ateneu de Cerdanyola\nDel 30 de novembre al 25 de gener de 2025
URL:https://afocer.cat/event/exposicio-cels-i-lamines-daigua-del-delta-de-toni-marin/
LOCATION:Ateneu de Cerdanyola\, Indústria 38-40\, Cerdanyola del Vallès\, Barcelona\, 08290\, Spain
CATEGORIES:Exposicions
ORGANIZER;CN="Afocer concurs digital":MAILTO:socialdigital@afocer.cat
END:VEVENT
BEGIN:VEVENT
DTSTART;VALUE=DATE:20241130
DTEND;VALUE=DATE:20250126
DTSTAMP:20260420T065314
CREATED:20241126T145401Z
LAST-MODIFIED:20241126T145402Z
UID:50402-1732924800-1737849599@afocer.cat
SUMMARY:Exposición Exposició Cels i làmines d'aigua de Toni Marin
DESCRIPTION:Exposición Cels i làmines d’aigua del Delta de Toni Marin\nLocal social  – Ateneu de Cerdanyola\nDel 30 de noviembre al 25 de enero de 2025
URL:https://afocer.cat/event/exposicion-exposicio-cels-i-lamines-daigua-de-toni-marin/
LOCATION:Ateneu de Cerdanyola\, Indústria 38-40\, Cerdanyola del Vallès\, Barcelona\, 08290\, Spain
ORGANIZER;CN="Afocer concurs digital":MAILTO:socialdigital@afocer.cat
END:VEVENT
BEGIN:VEVENT
DTSTART;VALUE=DATE:20241201
DTEND;VALUE=DATE:20250111
DTSTAMP:20260420T065314
CREATED:20241125T185832Z
LAST-MODIFIED:20250107T165515Z
UID:50383-1733011200-1736553599@afocer.cat
SUMMARY:Exposició col·lectiva Ballem
DESCRIPTION:Exposició col·lectiva d’Afocer Ballem !!\nSala Elisa Arimany – Biblioteca Central de Cerdanyola\nPlaça Enric Granados\ndel 1 de desembre al 10 de gener\nInauguració 13 de desembre a les 18:30
URL:https://afocer.cat/event/exposicio-colectiva-ballem/
LOCATION:Sala Elisa Arimany – Biblioteca central de Cerdanyola\, Plaça Enric Granados 1\, Cerdanyola del Vallès\, Barcelona\, 08290\, Spain
CATEGORIES:Exposicions
ORGANIZER;CN="Afocer exposicions":MAILTO:exposicions@afocer.cat
END:VEVENT
BEGIN:VEVENT
DTSTART;VALUE=DATE:20241201
DTEND;VALUE=DATE:20250111
DTSTAMP:20260420T065314
CREATED:20241125T190015Z
LAST-MODIFIED:20241125T190016Z
UID:50385-1733011200-1736553599@afocer.cat
SUMMARY:Exposición colectiva Ballem
DESCRIPTION:Exposición colectiva de Afocer Ballem !!\nSala Elisa Arimany – Biblioteca Central de Cerdanyola\nPlaza Enric Granados\ndel 1 de diciembre al 10 de enero\nInauguración 13 de diciembre a las 18:30
URL:https://afocer.cat/event/exposicion-colectiva-ballem/
LOCATION:Sala Elisa Arimany – Biblioteca central de Cerdanyola\, Plaça Enric Granados 1\, Cerdanyola del Vallès\, Barcelona\, 08290\, Spain
ORGANIZER;CN="Afocer exposicions":MAILTO:exposicions@afocer.cat
END:VEVENT
END:VCALENDAR