BEGIN:VCALENDAR
VERSION:2.0
PRODID:-//AFOCER - ECPv6.15.20//NONSGML v1.0//EN
CALSCALE:GREGORIAN
METHOD:PUBLISH
X-WR-CALNAME:AFOCER
X-ORIGINAL-URL:https://afocer.cat
X-WR-CALDESC:Eventos para AFOCER
REFRESH-INTERVAL;VALUE=DURATION:PT1H
X-Robots-Tag:noindex
X-PUBLISHED-TTL:PT1H
BEGIN:VTIMEZONE
TZID:Europe/Madrid
BEGIN:DAYLIGHT
TZOFFSETFROM:+0100
TZOFFSETTO:+0200
TZNAME:CEST
DTSTART:20240331T010000
END:DAYLIGHT
BEGIN:STANDARD
TZOFFSETFROM:+0200
TZOFFSETTO:+0100
TZNAME:CET
DTSTART:20241027T010000
END:STANDARD
BEGIN:DAYLIGHT
TZOFFSETFROM:+0100
TZOFFSETTO:+0200
TZNAME:CEST
DTSTART:20250330T010000
END:DAYLIGHT
BEGIN:STANDARD
TZOFFSETFROM:+0200
TZOFFSETTO:+0100
TZNAME:CET
DTSTART:20251026T010000
END:STANDARD
BEGIN:DAYLIGHT
TZOFFSETFROM:+0100
TZOFFSETTO:+0200
TZNAME:CEST
DTSTART:20260329T010000
END:DAYLIGHT
BEGIN:STANDARD
TZOFFSETFROM:+0200
TZOFFSETTO:+0100
TZNAME:CET
DTSTART:20261025T010000
END:STANDARD
BEGIN:DAYLIGHT
TZOFFSETFROM:+0100
TZOFFSETTO:+0200
TZNAME:CEST
DTSTART:20270328T010000
END:DAYLIGHT
BEGIN:STANDARD
TZOFFSETFROM:+0200
TZOFFSETTO:+0100
TZNAME:CET
DTSTART:20271031T010000
END:STANDARD
END:VTIMEZONE
BEGIN:VEVENT
DTSTART;VALUE=DATE:20251101
DTEND;VALUE=DATE:20251202
DTSTAMP:20260422T002553
CREATED:20251023T152750Z
LAST-MODIFIED:20251023T152750Z
UID:57388-1761955200-1764633599@afocer.cat
SUMMARY:Exposició El niño que vendió el mundo de Dom Fernandez a la UAB
DESCRIPTION:Exposició El niño que vendió el mundo de Dom Fernández\nBiblioteca de Ciències Socials – Universitat Autònoma de Barcelona\ndel 1 de novembre al 1 de desembre de 2025
URL:https://afocer.cat/event/exposicio-el-nino-que-vendio-el-mundo-de-dom-fernandez-a-la-uab/
LOCATION:Barcelona
CATEGORIES:Exposicions
END:VEVENT
BEGIN:VEVENT
DTSTART;VALUE=DATE:20251103
DTEND;VALUE=DATE:20260101
DTSTAMP:20260422T002553
CREATED:20251009T144027Z
LAST-MODIFIED:20251009T144027Z
UID:57324-1762128000-1767225599@afocer.cat
SUMMARY:Exposició l'Altra Ciutat de Vicenç Semper a la UAB
DESCRIPTION:Exposició l’Altra Ciutat de Vicenç Semper a la UAB\nBiblioteca de Comunicació i Hemeroteca General\nUniversitat Autònoma de Barcelona\nPlaça Cívica s/n\, edifici N\ndel 3 de novembre al 31 de desembre
URL:https://afocer.cat/event/exposicio-laltra-ciutat-de-vicenc-semper-a-la-uab/
LOCATION:Biblioteca comunicació UAB\, Edifici N Campus\, Edifici N\, Plaça Cívica\, s/n\, Cerdanyola del Vallès\, Barcelona\, 08193\, Spain
CATEGORIES:Exposicions
ORGANIZER;CN="Afocer comissariat":MAILTO:comissariat@afocer.cat
END:VEVENT
BEGIN:VEVENT
DTSTART;VALUE=DATE:20251120
DTEND;VALUE=DATE:20251228
DTSTAMP:20260422T002553
CREATED:20251114T110017Z
LAST-MODIFIED:20251116T053237Z
UID:57683-1763596800-1766879999@afocer.cat
SUMMARY:Exposició DONES al Centre Cívic Can Cuiàs
DESCRIPTION:Exposició D.O.N.E.S. al Centre Cívic Can Cuiàs\nCarrer Geranis\, S/N – Montcada i Reixac\nDel 20 de novembre al 27 de desembre
URL:https://afocer.cat/event/exposicio-dones-al-centre-civic-can-cuias-2/
LOCATION:Barcelona
CATEGORIES:Exposicions
ORGANIZER;CN="Afocer comissariat":MAILTO:comissariat@afocer.cat
END:VEVENT
BEGIN:VEVENT
DTSTART;VALUE=DATE:20251122
DTEND;VALUE=DATE:20251216
DTSTAMP:20260422T002553
CREATED:20251110T081650Z
LAST-MODIFIED:20251110T081650Z
UID:57562-1763769600-1765843199@afocer.cat
SUMMARY:Exposició Albert Pueyo\, 50 tecles i un objectiu
DESCRIPTION:Exposició Albert Pueyo\, 50 tecles i un objectiu\nAteneu de Cerdanyola \ndel 22 de novembre al 15 de desembre
URL:https://afocer.cat/event/exposicio-albert-pueyo-50-tecles-i-un-objectiu/
LOCATION:Ateneu de Cerdanyola\, Indústria 38-40\, Cerdanyola del Vallès\, Barcelona\, 08290\, Spain
CATEGORIES:Exposicions
ORGANIZER;CN="Afocer":MAILTO:activitats@afocer.cat
END:VEVENT
BEGIN:VEVENT
DTSTART;VALUE=DATE:20251129
DTEND;VALUE=DATE:20260131
DTSTAMP:20260422T002553
CREATED:20251123T211359Z
LAST-MODIFIED:20251123T211359Z
UID:57826-1764374400-1769817599@afocer.cat
SUMMARY:Exposició Fotografies en clau de sol de Pere López al local social
DESCRIPTION:Exposició Fotografies en clau de sol de Pere López\nLocal social – Ateneu de Cerdanyola\nDel 29 de novembre al 30 de gener de 2026
URL:https://afocer.cat/event/exposicio-fotografies-en-clau-de-sol-de-pere-lopez-al-local-social/
LOCATION:Ateneu de Cerdanyola\, Indústria 38-40\, Cerdanyola del Vallès\, Barcelona\, 08290\, Spain
CATEGORIES:Exposicions
ORGANIZER;CN="Afocer concurs digital":MAILTO:socialdigital@afocer.cat
END:VEVENT
END:VCALENDAR