BEGIN:VCALENDAR
VERSION:2.0
PRODID:-//AFOCER - ECPv6.15.20//NONSGML v1.0//EN
CALSCALE:GREGORIAN
METHOD:PUBLISH
X-ORIGINAL-URL:https://afocer.cat
X-WR-CALDESC:Eventos para AFOCER
REFRESH-INTERVAL;VALUE=DURATION:PT1H
X-Robots-Tag:noindex
X-PUBLISHED-TTL:PT1H
BEGIN:VTIMEZONE
TZID:Europe/Madrid
BEGIN:DAYLIGHT
TZOFFSETFROM:+0100
TZOFFSETTO:+0200
TZNAME:CEST
DTSTART:20210328T010000
END:DAYLIGHT
BEGIN:STANDARD
TZOFFSETFROM:+0200
TZOFFSETTO:+0100
TZNAME:CET
DTSTART:20211031T010000
END:STANDARD
BEGIN:DAYLIGHT
TZOFFSETFROM:+0100
TZOFFSETTO:+0200
TZNAME:CEST
DTSTART:20220327T010000
END:DAYLIGHT
BEGIN:STANDARD
TZOFFSETFROM:+0200
TZOFFSETTO:+0100
TZNAME:CET
DTSTART:20221030T010000
END:STANDARD
BEGIN:DAYLIGHT
TZOFFSETFROM:+0100
TZOFFSETTO:+0200
TZNAME:CEST
DTSTART:20230326T010000
END:DAYLIGHT
BEGIN:STANDARD
TZOFFSETFROM:+0200
TZOFFSETTO:+0100
TZNAME:CET
DTSTART:20231029T010000
END:STANDARD
BEGIN:DAYLIGHT
TZOFFSETFROM:+0100
TZOFFSETTO:+0200
TZNAME:CEST
DTSTART:20240331T010000
END:DAYLIGHT
BEGIN:STANDARD
TZOFFSETFROM:+0200
TZOFFSETTO:+0100
TZNAME:CET
DTSTART:20241027T010000
END:STANDARD
END:VTIMEZONE
BEGIN:VEVENT
DTSTART;VALUE=DATE:20221029
DTEND;VALUE=DATE:20221126
DTSTAMP:20260424T192043
CREATED:20221003T093012Z
LAST-MODIFIED:20221003T093012Z
UID:33622-1667001600-1669420799@afocer.cat
SUMMARY:Exposició Mirades de Myanmmar d'Adelina Putellas
DESCRIPTION:Exposició Mirades de Myanmmar\nAdelina Putellas\nLocal social Afocer\ndel 29 d’octubre al 25 de novembre
URL:https://afocer.cat/event/exposicio-mirades-de-myanmmar-dadelina-putellas/
LOCATION:Ateneu de Cerdanyola\, Indústria 38-40\, Cerdanyola del Vallès\, Barcelona\, 08290\, Spain
CATEGORIES:Exposicions
ORGANIZER;CN="Afocer exposicions":MAILTO:exposicions@afocer.cat
END:VEVENT
BEGIN:VEVENT
DTSTART;VALUE=DATE:20221101
DTEND;VALUE=DATE:20221201
DTSTAMP:20260424T192043
CREATED:20211211T180836Z
LAST-MODIFIED:20221024T161917Z
UID:28778-1667260800-1669852799@afocer.cat
SUMMARY:Exposició Blues visions a la Biblioteca de Ripollet
DESCRIPTION:Exposició fotografies\nBiblioteca de Ripollet
URL:https://afocer.cat/event/exposicio-a-la-biblioteca-de-ripollet-4/
LOCATION:Biblioteca de Ripollet\, Carretera de l'Estació 40\, Ripollet\, Barcelona\, 08291\, Spain
CATEGORIES:Exposicions
ORGANIZER;CN="Afocer exposicions":MAILTO:exposicions@afocer.cat
END:VEVENT
BEGIN:VEVENT
DTSTART;VALUE=DATE:20221102
DTEND;VALUE=DATE:20221201
DTSTAMP:20260424T192043
CREATED:20221006T100858Z
LAST-MODIFIED:20221006T100858Z
UID:33660-1667347200-1669852799@afocer.cat
SUMMARY:Exposició Llibertats Perdudes a Ripollet
DESCRIPTION:Exposició Llibertats Perdudes\nCatalunya Mirades Solidàries\nCentre cultural de Ripollet\ndel 2 al 30 de novembre\nDossier exposició
URL:https://afocer.cat/event/exposicio-llibertats-perdudes-a-ripollet/
LOCATION:Centre cultural de Ripollet\, Rambla Sant Jordi 2-4\, Ripollet\, Barcelona\, Spain
CATEGORIES:Exposicions
ORGANIZER;CN="Afocer exposicions":MAILTO:exposicions@afocer.cat
END:VEVENT
BEGIN:VEVENT
DTSTART;VALUE=DATE:20221103
DTEND;VALUE=DATE:20230109
DTSTAMP:20260424T192043
CREATED:20220929T090055Z
LAST-MODIFIED:20220929T090055Z
UID:33399-1667433600-1673222399@afocer.cat
SUMMARY:Exposició Blues Visions a l'Hemeroteca de la UAB
DESCRIPTION:Exposició col·lectiva Blues Visions\nBiblioteca de comunicació i Hemeroteca general UAB\ndel 3 de novembre al 8 de gener de 2023\nINFORMACIÓ
URL:https://afocer.cat/event/exposicio-blues-visions-a-lhemeroteca-de-la-uab/
LOCATION:Biblioteca comunicació UAB\, Edifici N Campus\, Edifici N\, Plaça Cívica\, s/n\, Cerdanyola del Vallès\, Barcelona\, 08193\, Spain
CATEGORIES:Exposicions
ORGANIZER;CN="Afocer comissariat":MAILTO:comissariat@afocer.cat
END:VEVENT
BEGIN:VEVENT
DTSTART;TZID=Europe/Madrid:20221115T190000
DTEND;TZID=Europe/Madrid:20221115T200000
DTSTAMP:20260424T192043
CREATED:20221112T064740Z
LAST-MODIFIED:20221112T064740Z
UID:34481-1668538800-1668542400@afocer.cat
SUMMARY:Visita guiada exposició L'ull que camina de Pepe Encinas
DESCRIPTION:Visita guiada exposició L’ull que camina de Pepe Encinas\nDimarts 15 de novembre a les 19:00\nPalo Alto – C/ Pellaires 30-38\, Barcelona\nConfirmar assistència a formacio@afocer.cat
URL:https://afocer.cat/event/visita-guiada-exposicio-lull-que-camina-de-pepe-encinas/
LOCATION:Barcelona
CATEGORIES:Activitats,Events,Exposicions
ORGANIZER;CN="Afocer formaci%C3%B3":MAILTO:formacio@afocer.cat
END:VEVENT
END:VCALENDAR