BEGIN:VCALENDAR
VERSION:2.0
PRODID:-//AFOCER - ECPv6.15.20//NONSGML v1.0//EN
CALSCALE:GREGORIAN
METHOD:PUBLISH
X-WR-CALNAME:AFOCER
X-ORIGINAL-URL:https://afocer.cat
X-WR-CALDESC:Eventos para AFOCER
REFRESH-INTERVAL;VALUE=DURATION:PT1H
X-Robots-Tag:noindex
X-PUBLISHED-TTL:PT1H
BEGIN:VTIMEZONE
TZID:Europe/Madrid
BEGIN:DAYLIGHT
TZOFFSETFROM:+0100
TZOFFSETTO:+0200
TZNAME:CEST
DTSTART:20220327T010000
END:DAYLIGHT
BEGIN:STANDARD
TZOFFSETFROM:+0200
TZOFFSETTO:+0100
TZNAME:CET
DTSTART:20221030T010000
END:STANDARD
BEGIN:DAYLIGHT
TZOFFSETFROM:+0100
TZOFFSETTO:+0200
TZNAME:CEST
DTSTART:20230326T010000
END:DAYLIGHT
BEGIN:STANDARD
TZOFFSETFROM:+0200
TZOFFSETTO:+0100
TZNAME:CET
DTSTART:20231029T010000
END:STANDARD
BEGIN:DAYLIGHT
TZOFFSETFROM:+0100
TZOFFSETTO:+0200
TZNAME:CEST
DTSTART:20240331T010000
END:DAYLIGHT
BEGIN:STANDARD
TZOFFSETFROM:+0200
TZOFFSETTO:+0100
TZNAME:CET
DTSTART:20241027T010000
END:STANDARD
END:VTIMEZONE
BEGIN:VEVENT
DTSTART;VALUE=DATE:20230102
DTEND;VALUE=DATE:20230201
DTSTAMP:20260424T155815
CREATED:20230115T062549Z
LAST-MODIFIED:20230115T062925Z
UID:35581-1672617600-1675209599@afocer.cat
SUMMARY:Exposició WC FIAP 2022
DESCRIPTION:Exposició fotos Afocer a la WC FIAP 2022\nBiblioteca de Ripollet\nDel 2 al 31 de gener de 2023
URL:https://afocer.cat/event/exposicio-wc-fiap-2022/
LOCATION:Biblioteca de Ripollet\, Carretera de l'Estació 40\, Ripollet\, Barcelona\, 08291\, Spain
CATEGORIES:Exposicions
ORGANIZER;CN="Afocer exposicions":MAILTO:exposicions@afocer.cat
END:VEVENT
BEGIN:VEVENT
DTSTART;VALUE=DATE:20230118
DTEND;VALUE=DATE:20230228
DTSTAMP:20260424T155815
CREATED:20230122T060825Z
LAST-MODIFIED:20230122T060944Z
UID:35668-1674000000-1677542399@afocer.cat
SUMMARY:Exposició Amic Amat a la Hemeroteca UAB
DESCRIPTION:Exposició col·lectiva Amic Amat\nBiblioteca de comunicació i Hemeroteca General UAB\nPlaça cívica s/n\, edifici N campus\nDel 18 de gener al 27 de febrer
URL:https://afocer.cat/event/exposicio-amic-amat-a-la-hemeroteca-uab/
LOCATION:Barcelona
CATEGORIES:Exposicions
ORGANIZER;CN="Afocer comissariat":MAILTO:comissariat@afocer.cat
END:VEVENT
BEGIN:VEVENT
DTSTART;VALUE=DATE:20230128
DTEND;VALUE=DATE:20230226
DTSTAMP:20260424T155815
CREATED:20230127T162323Z
LAST-MODIFIED:20230127T162323Z
UID:35777-1674864000-1677369599@afocer.cat
SUMMARY:Exposició de Joan Mimó al local social
DESCRIPTION:Exposició premis Catalunya 2020 i Nacional 2022 de Joan Mimó\nLocal social – Ateneu de Cerdanyola\ndel 28 de gener al 25 de febrer
URL:https://afocer.cat/event/exposicio-de-joan-mimo-al-local-social/
LOCATION:Ateneu de Cerdanyola\, Indústria 38-40\, Cerdanyola del Vallès\, Barcelona\, 08290\, Spain
CATEGORIES:Exposicions
ORGANIZER;CN="Afocer exposicions":MAILTO:exposicions@afocer.cat
END:VEVENT
BEGIN:VEVENT
DTSTART;TZID=Europe/Madrid:20230128T190000
DTEND;TZID=Europe/Madrid:20230128T213000
DTSTAMP:20260424T155815
CREATED:20230122T063659Z
LAST-MODIFIED:20230126T174217Z
UID:35679-1674932400-1674941400@afocer.cat
SUMMARY:Inauguració exposició de Joan Mimó al local social
DESCRIPTION:Inauguració exposició de Joan Mimó\nPremi Catalunya 2020 i Finalista Premio Nacional 2022\nLocal social – Ateneu de Cerdanyola\nDissabte 28 de gener – 19:00
URL:https://afocer.cat/event/inauguracio-exposicio-al-local-social/
LOCATION:Ateneu de Cerdanyola\, Indústria 38-40\, Cerdanyola del Vallès\, Barcelona\, 08290\, Spain
CATEGORIES:Events,Exposicions
ORGANIZER;CN="Afocer exposicions":MAILTO:exposicions@afocer.cat
END:VEVENT
END:VCALENDAR