BEGIN:VCALENDAR
VERSION:2.0
PRODID:-//AFOCER - ECPv6.15.20//NONSGML v1.0//EN
CALSCALE:GREGORIAN
METHOD:PUBLISH
X-ORIGINAL-URL:https://afocer.cat
X-WR-CALDESC:Eventos para AFOCER
REFRESH-INTERVAL;VALUE=DURATION:PT1H
X-Robots-Tag:noindex
X-PUBLISHED-TTL:PT1H
BEGIN:VTIMEZONE
TZID:Europe/Madrid
BEGIN:DAYLIGHT
TZOFFSETFROM:+0100
TZOFFSETTO:+0200
TZNAME:CEST
DTSTART:20250330T010000
END:DAYLIGHT
BEGIN:STANDARD
TZOFFSETFROM:+0200
TZOFFSETTO:+0100
TZNAME:CET
DTSTART:20251026T010000
END:STANDARD
BEGIN:DAYLIGHT
TZOFFSETFROM:+0100
TZOFFSETTO:+0200
TZNAME:CEST
DTSTART:20260329T010000
END:DAYLIGHT
BEGIN:STANDARD
TZOFFSETFROM:+0200
TZOFFSETTO:+0100
TZNAME:CET
DTSTART:20261025T010000
END:STANDARD
BEGIN:DAYLIGHT
TZOFFSETFROM:+0100
TZOFFSETTO:+0200
TZNAME:CEST
DTSTART:20270328T010000
END:DAYLIGHT
BEGIN:STANDARD
TZOFFSETFROM:+0200
TZOFFSETTO:+0100
TZNAME:CET
DTSTART:20271031T010000
END:STANDARD
END:VTIMEZONE
BEGIN:VEVENT
DTSTART;VALUE=DATE:20260901
DTEND;VALUE=DATE:20261001
DTSTAMP:20260422T034749
CREATED:20260102T185258Z
LAST-MODIFIED:20260102T185258Z
UID:58004-1788220800-1790812799@afocer.cat
SUMMARY:Exposició a la Biblioteca de Ripollet
DESCRIPTION:Exposició \nBiblioteca de Ripollet\nC/ Estació 40\, Ripollet\nDel 1 al 30 de setembre de 2026
URL:https://afocer.cat/event/exposicio-a-la-biblioteca-de-ripollet-6/
LOCATION:Biblioteca de Ripollet\, Carretera de l'Estació 40\, Ripollet\, Barcelona\, 08291\, Spain
CATEGORIES:Exposicions
ORGANIZER;CN="Afocer exposicions":MAILTO:exposicions@afocer.cat
END:VEVENT
END:VCALENDAR