BEGIN:VCALENDAR
VERSION:2.0
PRODID:-//AFOCER - ECPv6.15.20//NONSGML v1.0//EN
CALSCALE:GREGORIAN
METHOD:PUBLISH
X-WR-CALNAME:AFOCER
X-ORIGINAL-URL:https://afocer.cat
X-WR-CALDESC:Eventos para AFOCER
REFRESH-INTERVAL;VALUE=DURATION:PT1H
X-Robots-Tag:noindex
X-PUBLISHED-TTL:PT1H
BEGIN:VTIMEZONE
TZID:Europe/Madrid
BEGIN:DAYLIGHT
TZOFFSETFROM:+0100
TZOFFSETTO:+0200
TZNAME:CEST
DTSTART:20160327T010000
END:DAYLIGHT
BEGIN:STANDARD
TZOFFSETFROM:+0200
TZOFFSETTO:+0100
TZNAME:CET
DTSTART:20161030T010000
END:STANDARD
BEGIN:DAYLIGHT
TZOFFSETFROM:+0100
TZOFFSETTO:+0200
TZNAME:CEST
DTSTART:20170326T010000
END:DAYLIGHT
BEGIN:STANDARD
TZOFFSETFROM:+0200
TZOFFSETTO:+0100
TZNAME:CET
DTSTART:20171029T010000
END:STANDARD
BEGIN:DAYLIGHT
TZOFFSETFROM:+0100
TZOFFSETTO:+0200
TZNAME:CEST
DTSTART:20180325T010000
END:DAYLIGHT
BEGIN:STANDARD
TZOFFSETFROM:+0200
TZOFFSETTO:+0100
TZNAME:CET
DTSTART:20181028T010000
END:STANDARD
END:VTIMEZONE
BEGIN:VEVENT
DTSTART;VALUE=DATE:20170701
DTEND;VALUE=DATE:20171001
DTSTAMP:20260421T180510
CREATED:20170712T193528Z
LAST-MODIFIED:20170712T193822Z
UID:236-1498867200-1506815999@afocer.cat
SUMMARY:Exposició "Polaroid" de Joan Manuel Vera
DESCRIPTION:Exposició «Polaroid» de Joan Manuel Vera\nLocal Social Afocer (sala 15)\nAteneu de Cerdanyola del Vallès
URL:https://afocer.cat/event/exposicio-polaroid-de-joan-manuel-vera/
LOCATION:Ateneu de Cerdanyola\, Indústria 38-40\, Cerdanyola del Vallès\, Barcelona\, 08290\, Spain
CATEGORIES:Exposicions
ATTACH;FMTTYPE=image/jpeg:https://afocer.cat/wp-content/uploads/2017/07/2017_ExpTito_00.jpg
END:VEVENT
BEGIN:VEVENT
DTSTART;VALUE=DATE:20170701
DTEND;VALUE=DATE:20171001
DTSTAMP:20260421T180510
CREATED:20170712T193528Z
LAST-MODIFIED:20170712T193528Z
UID:2047-1498867200-1506815999@afocer.cat
SUMMARY:Exposició "Polaroid" de Joan Manuel Vera
DESCRIPTION:Exposició «Polaroid» de Joan Manuel Vera\nLocal Social Afocer (sala 15)\nAteneu de Cerdanyola del Vallès
URL:https://afocer.cat/event/exposicio-polaroid-de-joan-manuel-vera/
LOCATION:Ateneu de Cerdanyola\, Indústria 38-40\, Cerdanyola del Vallès\, Barcelona\, 08290\, Spain
ATTACH;FMTTYPE=image/jpeg:https://afocer.cat/wp-content/uploads/2017/07/2017_ExpTito_00.jpg
END:VEVENT
BEGIN:VEVENT
DTSTART;VALUE=DATE:20170901
DTEND;VALUE=DATE:20171001
DTSTAMP:20260421T180510
CREATED:20170712T194810Z
LAST-MODIFIED:20170712T194810Z
UID:2045-1504224000-1506815999@afocer.cat
SUMMARY:Exposició fotos MIF a la Biblioteca de Ripollet
DESCRIPTION:Exposició d’una selecció de fotografies del MIF en monocrom\nBiblipoteca de Ripollet
URL:https://afocer.cat/event/exposicio-fotos-mif-a-la-biblioteca-de-ripollet/
LOCATION:Biblioteca de Ripollet\, Carretera de l'Estació 40\, Ripollet\, Barcelona\, 08291\, Spain
ATTACH;FMTTYPE=image/jpeg:https://afocer.cat/wp-content/uploads/2017/07/ExpoAfocer1B.jpg
END:VEVENT
BEGIN:VEVENT
DTSTART;VALUE=DATE:20170901
DTEND;VALUE=DATE:20171001
DTSTAMP:20260421T180510
CREATED:20170712T194810Z
LAST-MODIFIED:20170712T195005Z
UID:240-1504224000-1506815999@afocer.cat
SUMMARY:Exposició fotos MIF a la Biblioteca de Ripollet
DESCRIPTION:Exposició d’una selecció de fotografies del MIF en monocrom\nBiblipoteca de Ripollet
URL:https://afocer.cat/event/exposicio-fotos-mif-a-la-biblioteca-de-ripollet/
LOCATION:Biblioteca de Ripollet\, Carretera de l'Estació 40\, Ripollet\, Barcelona\, 08291\, Spain
CATEGORIES:Exposicions
ATTACH;FMTTYPE=image/jpeg:https://afocer.cat/wp-content/uploads/2017/07/ExpoAfocer1B.jpg
END:VEVENT
BEGIN:VEVENT
DTSTART;VALUE=DATE:20170930
DTEND;VALUE=DATE:20171017
DTSTAMP:20260421T180510
CREATED:20171004T135117Z
LAST-MODIFIED:20171004T135117Z
UID:3240-1506729600-1508198399@afocer.cat
SUMMARY:Exposició "Polaroid" de Joan Manuel Vera a l'Ateneu
DESCRIPTION:Exposició «Polaroid» de Joan Manuel Vera al vestíbul de  l’Ateneu
URL:https://afocer.cat/event/exposicio-polaroid-de-joan-manuel-vera-a-lateneu/
LOCATION:Ateneu de Cerdanyola\, Indústria 38-40\, Cerdanyola del Vallès\, Barcelona\, 08290\, Spain
CATEGORIES:Exposicions
END:VEVENT
BEGIN:VEVENT
DTSTART;VALUE=DATE:20170930
DTEND;VALUE=DATE:20171017
DTSTAMP:20260421T180510
CREATED:20171004T135117Z
LAST-MODIFIED:20171004T135212Z
UID:3242-1506729600-1508198399@afocer.cat
SUMMARY:Exposición "Polaroid" de Joan Manuel Vera en el Ateneu
DESCRIPTION:Exposición «Polaroid» de Joan Manuel Vera en el vestíbulo del Ateneu
URL:https://afocer.cat/event/exposicio-polaroid-de-joan-manuel-vera-a-lateneu/
LOCATION:Ateneu de Cerdanyola\, Indústria 38-40\, Cerdanyola del Vallès\, Barcelona\, 08290\, Spain
END:VEVENT
BEGIN:VEVENT
DTSTART;VALUE=DATE:20170930
DTEND;VALUE=DATE:20171029
DTSTAMP:20260421T180510
CREATED:20170714T134050Z
LAST-MODIFIED:20170925T102102Z
UID:293-1506729600-1509235199@afocer.cat
SUMMARY:Exposició de Carlos Santabárbara
DESCRIPTION:Exposició de Carlos Santabárbara al local social d’Afocer\nDel 30/09 al 28/10/17
URL:https://afocer.cat/event/exposicio-de-carlos-santabarbara/
LOCATION:Ateneu de Cerdanyola\, Indústria 38-40\, Cerdanyola del Vallès\, Barcelona\, 08290\, Spain
CATEGORIES:Exposicions
END:VEVENT
BEGIN:VEVENT
DTSTART;VALUE=DATE:20170930
DTEND;VALUE=DATE:20171029
DTSTAMP:20260421T180510
CREATED:20170714T134050Z
LAST-MODIFIED:20170925T102029Z
UID:2021-1506729600-1509235199@afocer.cat
SUMMARY:Exposición de Carlos Santabárbara
DESCRIPTION:Exposición de Carlos Santabárbara en el local social de Afocer\nDel 30/09 al 28/10/17
URL:https://afocer.cat/event/exposicio-de-carlos-santabarbara/
LOCATION:Ateneu de Cerdanyola\, Indústria 38-40\, Cerdanyola del Vallès\, Barcelona\, 08290\, Spain
END:VEVENT
BEGIN:VEVENT
DTSTART;TZID=Europe/Madrid:20170930T170000
DTEND;TZID=Europe/Madrid:20170930T190000
DTSTAMP:20260421T180510
CREATED:20170714T134404Z
LAST-MODIFIED:20170721T171131Z
UID:299-1506790800-1506798000@afocer.cat
SUMMARY:Veredicte concurs social color/monocrom setembre
DESCRIPTION:Veredicte concurs social color/monocrom del mes de setembre\nAteneu de Cerdanyola del Vallès\nde 17:00 a 19:00
URL:https://afocer.cat/event/veredicte-concurs-social-colormonocrom/
LOCATION:Ateneu de Cerdanyola\, Indústria 38-40\, Cerdanyola del Vallès\, Barcelona\, 08290\, Spain
CATEGORIES:Concursos
END:VEVENT
BEGIN:VEVENT
DTSTART;TZID=Europe/Madrid:20170930T170000
DTEND;TZID=Europe/Madrid:20170930T190000
DTSTAMP:20260421T180510
CREATED:20170714T134404Z
LAST-MODIFIED:20170714T134404Z
UID:2020-1506790800-1506798000@afocer.cat
SUMMARY:Veredicte concurs social color/monocrom setembre
DESCRIPTION:Veredicte concurs social color/monocrom del mes de setembre\nAteneu de Cerdanyola del Vallès\nde 17:00 a 19:00
URL:https://afocer.cat/event/veredicte-concurs-social-colormonocrom/
LOCATION:Ateneu de Cerdanyola\, Indústria 38-40\, Cerdanyola del Vallès\, Barcelona\, 08290\, Spain
END:VEVENT
BEGIN:VEVENT
DTSTART;TZID=Europe/Madrid:20170930T190000
DTEND;TZID=Europe/Madrid:20170930T213000
DTSTAMP:20260421T180510
CREATED:20170714T134155Z
LAST-MODIFIED:20170925T101855Z
UID:297-1506798000-1506807000@afocer.cat
SUMMARY:Inauguració exposició Carlos Santabárbara
DESCRIPTION:Inauguració de l´exposició de Carlos Santabárbara al local social d’Afocer\nDissabte 30 de setembre de 2017\, a les 19:00
URL:https://afocer.cat/event/inauguracio-exposicio-carlos-santabarbara/
LOCATION:Ateneu de Cerdanyola\, Indústria 38-40\, Cerdanyola del Vallès\, Barcelona\, 08290\, Spain
CATEGORIES:Events
END:VEVENT
BEGIN:VEVENT
DTSTART;TZID=Europe/Madrid:20170930T190000
DTEND;TZID=Europe/Madrid:20170930T213000
DTSTAMP:20260421T180510
CREATED:20170714T134155Z
LAST-MODIFIED:20170925T101946Z
UID:2019-1506798000-1506807000@afocer.cat
SUMMARY:Inauguración exposición Carlos Santabárbara
DESCRIPTION:Inauguración de la exposición de Carlos Santabárbara en el local social de Afocer\nSábado 30 de septiembre de 2017\, a les 19:00
URL:https://afocer.cat/event/inauguracio-exposicio-carlos-santabarbara/
LOCATION:Ateneu de Cerdanyola\, Indústria 38-40\, Cerdanyola del Vallès\, Barcelona\, 08290\, Spain
END:VEVENT
BEGIN:VEVENT
DTSTART;VALUE=DATE:20171001
DTEND;VALUE=DATE:20171101
DTSTAMP:20260421T180510
CREATED:20170721T142826Z
LAST-MODIFIED:20170721T142826Z
UID:928-1506816000-1509494399@afocer.cat
SUMMARY:Exposició "L'Estètica del Circ" al centre cultural de Ripollet
DESCRIPTION:Exposició «L’Estètica del Circ» al centre cultural de Ripollet\nFotos del Circ Raluy\nSala d’Art\, Centre cultural del Ripollet
URL:https://afocer.cat/event/exposicio-lestetica-del-circ-al-centre-cultural-de-ripollet/
LOCATION:Centre cultural de Ripollet\, Rambla Sant Jordi 2-4\, Ripollet\, Barcelona\, Spain
CATEGORIES:Exposicions
END:VEVENT
BEGIN:VEVENT
DTSTART;VALUE=DATE:20171001
DTEND;VALUE=DATE:20171101
DTSTAMP:20260421T180510
CREATED:20170721T142826Z
LAST-MODIFIED:20170721T142826Z
UID:2017-1506816000-1509494399@afocer.cat
SUMMARY:Exposició "L'Estètica del Circ" al centre cultural de Ripollet
DESCRIPTION:Exposició «L’Estètica del Circ» al centre cultural de Ripollet\nFotos del Circ Raluy\nSala d’Art\, Centre cultural del Ripollet
URL:https://afocer.cat/event/exposicio-lestetica-del-circ-al-centre-cultural-de-ripollet/
LOCATION:Centre cultural de Ripollet\, Rambla Sant Jordi 2-4\, Ripollet\, Barcelona\, Spain
END:VEVENT
BEGIN:VEVENT
DTSTART;TZID=Europe/Madrid:20171005T190000
DTEND;TZID=Europe/Madrid:20171005T210000
DTSTAMP:20260421T180510
CREATED:20170919T172018Z
LAST-MODIFIED:20170919T184231Z
UID:2538-1507230000-1507237200@afocer.cat
SUMMARY:Curs d'iniciació a la fotografia
DESCRIPTION:
URL:https://afocer.cat/event/curs-diniciacio-a-la-fotografia-3/
LOCATION:Barcelona
ATTACH;FMTTYPE=image/jpeg:https://afocer.cat/wp-content/uploads/2017/09/LOGOCURSWEB.jpg
END:VEVENT
BEGIN:VEVENT
DTSTART;TZID=Europe/Madrid:20171006T190000
DTEND;TZID=Europe/Madrid:20171006T210000
DTSTAMP:20260421T180510
CREATED:20170721T135508Z
LAST-MODIFIED:20170921T153200Z
UID:2016-1507316400-1507323600@afocer.cat
SUMMARY:Lliurament premis Photoreporter
DESCRIPTION:Acte lliurament premis del concurs Photoreportar 2017\nMAC Cerdanyola
URL:https://afocer.cat/event/lliurament-premis-photoreporter/
LOCATION:Museu d’Art de Cerdanyola\, Sant Martí 88\, Cerdanyola del Vallès\, Barcelona\, 08290\, Spain
END:VEVENT
BEGIN:VEVENT
DTSTART;TZID=Europe/Madrid:20171006T190000
DTEND;TZID=Europe/Madrid:20171006T210000
DTSTAMP:20260421T180510
CREATED:20170721T135508Z
LAST-MODIFIED:20170921T153159Z
UID:905-1507316400-1507323600@afocer.cat
SUMMARY:Lliurament premis Photoreporter
DESCRIPTION:Acte lliurament premis del concurs Photoreportar 2017\nMAC Cerdanyola
URL:https://afocer.cat/event/lliurament-premis-photoreporter/
LOCATION:Museu d’Art de Cerdanyola\, Sant Martí 88\, Cerdanyola del Vallès\, Barcelona\, 08290\, Spain
CATEGORIES:Concursos,Events
END:VEVENT
BEGIN:VEVENT
DTSTART;TZID=Europe/Madrid:20171010T193000
DTEND;TZID=Europe/Madrid:20171010T203000
DTSTAMP:20260421T180510
CREATED:20171005T165654Z
LAST-MODIFIED:20171005T165813Z
UID:3408-1507663800-1507667400@afocer.cat
SUMMARY:Inauguración exposición "La Estética del Circo" en Ripollet
DESCRIPTION:Inauguración de la exposición colectiva de Afocer «La Estética del Circo»\, en la sala d’Art del Centre Cultural del Ripollet
URL:https://afocer.cat/event/inauguracio-exposicio-lestetica-del-circ-a-ripollet/
LOCATION:Centre cultural de Ripollet\, Rambla Sant Jordi 2-4\, Ripollet\, Barcelona\, Spain
ATTACH;FMTTYPE=image/jpeg:https://afocer.cat/wp-content/uploads/2017/07/Cartell_baixa-e1500705861461.jpg
END:VEVENT
BEGIN:VEVENT
DTSTART;TZID=Europe/Madrid:20171010T193000
DTEND;TZID=Europe/Madrid:20171010T203000
DTSTAMP:20260421T180510
CREATED:20171005T165654Z
LAST-MODIFIED:20171005T165654Z
UID:3406-1507663800-1507667400@afocer.cat
SUMMARY:Inauguració exposició "L'Estètica del Circ" a Ripollet
DESCRIPTION:Inauguració de l’exposició col·lectiva d’Afocer «L’Estètica del Circ»\, a la sala d’Art del Centre Cultural del Ripollet
URL:https://afocer.cat/event/inauguracio-exposicio-lestetica-del-circ-a-ripollet/
LOCATION:Centre cultural de Ripollet\, Rambla Sant Jordi 2-4\, Ripollet\, Barcelona\, Spain
CATEGORIES:Events,Exposicions
ATTACH;FMTTYPE=image/jpeg:https://afocer.cat/wp-content/uploads/2017/07/Cartell_baixa-e1500705861461.jpg
END:VEVENT
BEGIN:VEVENT
DTSTART;VALUE=DATE:20171016
DTEND;VALUE=DATE:20171105
DTSTAMP:20260421T180510
CREATED:20171004T135551Z
LAST-MODIFIED:20171004T135606Z
UID:3245-1508112000-1509839999@afocer.cat
SUMMARY:Exposició social setembre al vestíbul Ateneu
DESCRIPTION:Exposició de fotos del concurs social color/monocrom de setembre al vestíbul de l’Ateneu
URL:https://afocer.cat/event/exposicio-social-setembre-al-vestibul-ateneu/
LOCATION:Ateneu de Cerdanyola\, Indústria 38-40\, Cerdanyola del Vallès\, Barcelona\, 08290\, Spain
CATEGORIES:Exposicions
END:VEVENT
BEGIN:VEVENT
DTSTART;VALUE=DATE:20171016
DTEND;VALUE=DATE:20171105
DTSTAMP:20260421T180510
CREATED:20171004T135551Z
LAST-MODIFIED:20171004T135722Z
UID:3248-1508112000-1509839999@afocer.cat
SUMMARY:Exposición social septiembre en el vestíbulo Ateneu
DESCRIPTION:Exposición de fotos del concurso social color/monocromo de septiembre en el vestíbulo del Ateneu
URL:https://afocer.cat/event/exposicio-social-setembre-al-vestibul-ateneu/
LOCATION:Ateneu de Cerdanyola\, Indústria 38-40\, Cerdanyola del Vallès\, Barcelona\, 08290\, Spain
END:VEVENT
BEGIN:VEVENT
DTSTART;TZID=Europe/Madrid:20171019T190000
DTEND;TZID=Europe/Madrid:20171019T210000
DTSTAMP:20260421T180510
CREATED:20170919T172540Z
LAST-MODIFIED:20170919T183432Z
UID:2546-1508439600-1508446800@afocer.cat
SUMMARY:Curs d'iniciació a la fotografia
DESCRIPTION:
URL:https://afocer.cat/event/curs-diniciacio-a-la-fotografia-5/
LOCATION:Barcelona
ATTACH;FMTTYPE=image/jpeg:https://afocer.cat/wp-content/uploads/2017/09/LOGOCURSWEB.jpg
END:VEVENT
BEGIN:VEVENT
DTSTART;TZID=Europe/Madrid:20171019T220000
DTEND;TZID=Europe/Madrid:20171019T233000
DTSTAMP:20260421T180510
CREATED:20170721T140037Z
LAST-MODIFIED:20170721T171312Z
UID:910-1508450400-1508455800@afocer.cat
SUMMARY:Veredicte concurs social digital octubre
DESCRIPTION:Veredicte del concurs social digital/tema obligat d’octubre\nLocal social Afocer
URL:https://afocer.cat/event/veredicte-concurs-social-digitial-octubre/
LOCATION:Ateneu de Cerdanyola\, Indústria 38-40\, Cerdanyola del Vallès\, Barcelona\, 08290\, Spain
CATEGORIES:Concursos
END:VEVENT
BEGIN:VEVENT
DTSTART;TZID=Europe/Madrid:20171019T220000
DTEND;TZID=Europe/Madrid:20171019T233000
DTSTAMP:20260421T180510
CREATED:20170721T140037Z
LAST-MODIFIED:20171015T052357Z
UID:2014-1508450400-1508455800@afocer.cat
SUMMARY:Veredicto concurso social digital octubre
DESCRIPTION:Veredicto del concurso social digital/tema obligado de octubre\nLocal social Afocer
URL:https://afocer.cat/event/veredicte-concurs-social-digitial-octubre/
LOCATION:Ateneu de Cerdanyola\, Indústria 38-40\, Cerdanyola del Vallès\, Barcelona\, 08290\, Spain
END:VEVENT
BEGIN:VEVENT
DTSTART;TZID=Europe/Madrid:20171026T190000
DTEND;TZID=Europe/Madrid:20171026T210000
DTSTAMP:20260421T180510
CREATED:20170919T184455Z
LAST-MODIFIED:20170919T184455Z
UID:2558-1509044400-1509051600@afocer.cat
SUMMARY:Curs d'iniciació a la fotografia
DESCRIPTION:
URL:https://afocer.cat/event/curs-diniciacio-a-la-fotografia-7/
LOCATION:Barcelona
ATTACH;FMTTYPE=image/jpeg:https://afocer.cat/wp-content/uploads/2017/09/LOGOCURSWEB.jpg
END:VEVENT
BEGIN:VEVENT
DTSTART;TZID=Europe/Madrid:20171026T221500
DTEND;TZID=Europe/Madrid:20171026T233000
DTSTAMP:20260421T180510
CREATED:20171023T134338Z
LAST-MODIFIED:20171023T134459Z
UID:3614-1509056100-1509060600@afocer.cat
SUMMARY:Audiovisual "Sexenni de Morella" de Paco Archs
DESCRIPTION:Dijous 26\, a les 22:15\, el nostre company Paco Archs\, ens passarà un audiovisual sobre el » Sexenni de Morella». \nEl Sexenni és una festa que se celebra a Morella (Els Ports\, País Valencià) en honor a la Mare de Déu de Vallivana. Aquesta festa té lloc cada sis anys la darrera quinzena d’agost. L’origen se situa al segle XVII. \nDes del 8 de maig de 2012\, per resolució de la Secretaria d’Estat de Turisme\, a l’Anunci i el Sexenni se’ls concedeix el títol de Festes d’interés Turístic Nacional
URL:https://afocer.cat/event/audiovisual-sexeni-de-morella-de-paco-archs/
LOCATION:Ateneu de Cerdanyola\, Indústria 38-40\, Cerdanyola del Vallès\, Barcelona\, 08290\, Spain
CATEGORIES:Activitats
END:VEVENT
BEGIN:VEVENT
DTSTART;TZID=Europe/Madrid:20171026T221500
DTEND;TZID=Europe/Madrid:20171026T233000
DTSTAMP:20260421T180510
CREATED:20171023T134338Z
LAST-MODIFIED:20171023T134857Z
UID:3616-1509056100-1509060600@afocer.cat
SUMMARY:Audiovisual "Sexenio de Morella" de Paco Archs
DESCRIPTION:Jueves 26\, a las 22:15\, el nuestro compañero Paco Archs\, nos pasará un audiovisual sobre el «Sexenio de Morella». \nEl Sexenio es una fiesta que se celebra en Morella (Els Ports\, País Valencià) en honor a la Madre de Dios de Vallivana. Esta fiesta tiene lugar cada seis años la última quincena de agosto. El origen se sitúa en el  siglo XVII. \nDesde el 8 de mayo de 2012\, por resolución de la Secretaria de Estado de Turismo\, en el Anuncio y el Sexenio se les concede el título de Fiestas de interés turístico nacional
URL:https://afocer.cat/event/audiovisual-sexeni-de-morella-de-paco-archs/
LOCATION:Ateneu de Cerdanyola\, Indústria 38-40\, Cerdanyola del Vallès\, Barcelona\, 08290\, Spain
END:VEVENT
BEGIN:VEVENT
DTSTART;VALUE=DATE:20171028
DTEND;VALUE=DATE:20171126
DTSTAMP:20260421T180510
CREATED:20170721T125733Z
LAST-MODIFIED:20171025T135947Z
UID:897-1509148800-1511654399@afocer.cat
SUMMARY:Exposició Josep Mimó
DESCRIPTION:Exposició «40 anys fent fotos amb Afocer» de Josep Mimó al local social\ndel 28/10 al 25/11/17
URL:https://afocer.cat/event/exposicio-josep-mimo/
LOCATION:Ateneu de Cerdanyola\, Indústria 38-40\, Cerdanyola del Vallès\, Barcelona\, 08290\, Spain
CATEGORIES:Exposicions
END:VEVENT
BEGIN:VEVENT
DTSTART;VALUE=DATE:20171028
DTEND;VALUE=DATE:20171126
DTSTAMP:20260421T180510
CREATED:20170721T125733Z
LAST-MODIFIED:20171025T140059Z
UID:2013-1509148800-1511654399@afocer.cat
SUMMARY:Exposición Josep Mimó
DESCRIPTION:Exposición «40 años haciendo fotos con Afocer» de Josep Mimó al local social\ndel 28/10 al 25/11/17
URL:https://afocer.cat/event/exposicio-josep-mimo/
LOCATION:Ateneu de Cerdanyola\, Indústria 38-40\, Cerdanyola del Vallès\, Barcelona\, 08290\, Spain
END:VEVENT
BEGIN:VEVENT
DTSTART;TZID=Europe/Madrid:20171028T170000
DTEND;TZID=Europe/Madrid:20171028T190000
DTSTAMP:20260421T180510
CREATED:20170721T140325Z
LAST-MODIFIED:20170721T171443Z
UID:914-1509210000-1509217200@afocer.cat
SUMMARY:Veredicte concurs social color/monocrom octubre
DESCRIPTION:Veredicte del concurs social color/monocrom d’octubre\nLocal social Afocer
URL:https://afocer.cat/event/veredicte-concurs-social-colormonocrom-octubre/
LOCATION:Ateneu de Cerdanyola\, Indústria 38-40\, Cerdanyola del Vallès\, Barcelona\, 08290\, Spain
CATEGORIES:Concursos
END:VEVENT
END:VCALENDAR