BEGIN:VCALENDAR
VERSION:2.0
PRODID:-//AFOCER - ECPv6.15.20//NONSGML v1.0//EN
CALSCALE:GREGORIAN
METHOD:PUBLISH
X-ORIGINAL-URL:https://afocer.cat
X-WR-CALDESC:Eventos para AFOCER
REFRESH-INTERVAL;VALUE=DURATION:PT1H
X-Robots-Tag:noindex
X-PUBLISHED-TTL:PT1H
BEGIN:VTIMEZONE
TZID:Europe/Madrid
BEGIN:DAYLIGHT
TZOFFSETFROM:+0100
TZOFFSETTO:+0200
TZNAME:CEST
DTSTART:20240331T010000
END:DAYLIGHT
BEGIN:STANDARD
TZOFFSETFROM:+0200
TZOFFSETTO:+0100
TZNAME:CET
DTSTART:20241027T010000
END:STANDARD
BEGIN:DAYLIGHT
TZOFFSETFROM:+0100
TZOFFSETTO:+0200
TZNAME:CEST
DTSTART:20250330T010000
END:DAYLIGHT
BEGIN:STANDARD
TZOFFSETFROM:+0200
TZOFFSETTO:+0100
TZNAME:CET
DTSTART:20251026T010000
END:STANDARD
BEGIN:DAYLIGHT
TZOFFSETFROM:+0100
TZOFFSETTO:+0200
TZNAME:CEST
DTSTART:20260329T010000
END:DAYLIGHT
BEGIN:STANDARD
TZOFFSETFROM:+0200
TZOFFSETTO:+0100
TZNAME:CET
DTSTART:20261025T010000
END:STANDARD
END:VTIMEZONE
BEGIN:VEVENT
DTSTART;VALUE=DATE:20250329
DTEND;VALUE=DATE:20250426
DTSTAMP:20260420T065442
CREATED:20250327T185210Z
LAST-MODIFIED:20250327T185341Z
UID:54268-1743206400-1745625599@afocer.cat
SUMMARY:Exposició Vietnam\, Pais de agua de Luis Fonseca al local social
DESCRIPTION:Exposició «Vietnam: Pais de agua» de Luis Fonseca\nLocal social – Ateneu de Cerdanyola \nDel 29 de març al 26 d’abril de 2025
URL:https://afocer.cat/event/exposicio-vietnam-pais-de-agua-de-luis-fonseca-al-local-social/
LOCATION:Ateneu de Cerdanyola\, Indústria 38-40\, Cerdanyola del Vallès\, Barcelona\, 08290\, Spain
CATEGORIES:Exposicions
ORGANIZER;CN="Afocer concurs digital":MAILTO:socialdigital@afocer.cat
END:VEVENT
BEGIN:VEVENT
DTSTART;VALUE=DATE:20250401
DTEND;VALUE=DATE:20250601
DTSTAMP:20260420T065442
CREATED:20250316T055733Z
LAST-MODIFIED:20250316T055733Z
UID:54020-1743465600-1748735999@afocer.cat
SUMMARY:Exposició Ballem a la hemeroteca de la UAB
DESCRIPTION:Exposició col·lectiva Ballem !!\nBiblioteca comunicació i hemeroteca General UAB\ndel 1 d’abril al 31 de maig de 2025
URL:https://afocer.cat/event/exposicio-ballem-a-la-hemeroteca-de-la-uab/
LOCATION:Biblioteca comunicació UAB\, Edifici N Campus\, Edifici N\, Plaça Cívica\, s/n\, Cerdanyola del Vallès\, Barcelona\, 08193\, Spain
CATEGORIES:Exposicions
ORGANIZER;CN="Afocer comissariat":MAILTO:comissariat@afocer.cat
END:VEVENT
BEGIN:VEVENT
DTSTART;VALUE=DATE:20250401
DTEND;VALUE=DATE:20250601
DTSTAMP:20260420T065442
CREATED:20250316T055902Z
LAST-MODIFIED:20250316T055904Z
UID:54022-1743465600-1748735999@afocer.cat
SUMMARY:Exposición Ballem en la hemeroteca de la UAB
DESCRIPTION:Exposición colectiva Ballem !!\nBiblioteca comunicación y hemeroteca General UAB\ndel 1 de abril al 31 de mayo de 2025
URL:https://afocer.cat/event/exposicion-ballem-en-la-hemeroteca-de-la-uab/
LOCATION:Biblioteca comunicació UAB\, Edifici N Campus\, Edifici N\, Plaça Cívica\, s/n\, Cerdanyola del Vallès\, Barcelona\, 08193\, Spain
ORGANIZER;CN="Afocer comissariat":MAILTO:comissariat@afocer.cat
END:VEVENT
BEGIN:VEVENT
DTSTART;TZID=Europe/Madrid:20250403T180000
DTEND;TZID=Europe/Madrid:20250403T200000
DTSTAMP:20260420T065442
CREATED:20250316T083105Z
LAST-MODIFIED:20250316T083409Z
UID:54037-1743703200-1743710400@afocer.cat
SUMMARY:Taller de fotomuntatge creatiu amb Sergio Tello
DESCRIPTION:Taller de fotomuntatge creatiu amb Sergio Tello\nSala formació AFR\, Centre Cultural de Ripollet\nInici 3 d’abril\, durada 3 mesos – 50€/mes\nDijous de 18:00 a 20:00 (12 sessions)\nOrganitza AFR\, 3 places per socis/es Afocer\nInformació i inscripcions formacioafr@gmail.com
URL:https://afocer.cat/event/taller-de-fotomuntatge-creatiu-amb-sergio-tello/
LOCATION:Centre cultural de Ripollet\, Rambla Sant Jordi 2-4\, Ripollet\, Barcelona\, Spain
CATEGORIES:Curs,Formació
ORGANIZER;CN="Afocer formaci%C3%B3":MAILTO:formacio@afocer.cat
END:VEVENT
BEGIN:VEVENT
DTSTART;TZID=Europe/Madrid:20250403T180000
DTEND;TZID=Europe/Madrid:20250403T200000
DTSTAMP:20260420T065442
CREATED:20250316T083347Z
LAST-MODIFIED:20250316T083348Z
UID:54039-1743703200-1743710400@afocer.cat
SUMMARY:Taller de fotomontaje creativo con Sergio Tello
DESCRIPTION:Taller de fotomontaje creativo con Sergio Tello\nSala formación AFR\, Centre Cultural de Ripollet\nInicio 3 de abril\, duración 3 meses – Precio 50€/mes\nJueves de 18:00 a 20:00 (12 sesiones)\nOrganiza AFR\, 3 plazas para socios/as Afocer\nInformación y inscripciones formacioafr@gmail.com
URL:https://afocer.cat/event/taller-de-fotomontaje-creativo-con-sergio-tello/
LOCATION:Centre cultural de Ripollet\, Rambla Sant Jordi 2-4\, Ripollet\, Barcelona\, Spain
ORGANIZER;CN="Afocer formaci%C3%B3":MAILTO:formacio@afocer.cat
END:VEVENT
BEGIN:VEVENT
DTSTART;TZID=Europe/Madrid:20250410T193000
DTEND;TZID=Europe/Madrid:20250410T210000
DTSTAMP:20260420T065442
CREATED:20241217T180530Z
LAST-MODIFIED:20241224T191439Z
UID:51302-1744313400-1744318800@afocer.cat
SUMMARY:Veredicte concurs social digital/tema obligat d'abril
DESCRIPTION:Veredicte concurs social digital i tema obligat d’abril\nAteneu de Cerdanyola – 19:30\nData límit presentació obres: 5 d’abril
URL:https://afocer.cat/event/veredicte-concurs-social-digital-tema-obligat-dabril-2/
LOCATION:Ateneu de Cerdanyola\, Indústria 38-40\, Cerdanyola del Vallès\, Barcelona\, 08290\, Spain
CATEGORIES:Concursos,Events
ORGANIZER;CN="Afocer concurs digital":MAILTO:socialdigital@afocer.cat
END:VEVENT
BEGIN:VEVENT
DTSTART;TZID=Europe/Madrid:20250410T193000
DTEND;TZID=Europe/Madrid:20250410T210000
DTSTAMP:20260420T065442
CREATED:20241217T182147Z
LAST-MODIFIED:20241225T080006Z
UID:52056-1744313400-1744318800@afocer.cat
SUMMARY:Veredicto concurso social digital/tema obligado de abril
DESCRIPTION:Veredicto concurso social digital/tema obligado de abril\nAteneu de Cerdanyola\nFecha límite presentación obras: 5 de abril
URL:https://afocer.cat/event/veredicto-concurso-social-digital-tema-obligado-de-abril/
LOCATION:Ateneu de Cerdanyola\, Indústria 38-40\, Cerdanyola del Vallès\, Barcelona\, 08290\, Spain
ORGANIZER;CN="Afocer concurs digital":MAILTO:socialdigital@afocer.cat
END:VEVENT
BEGIN:VEVENT
DTSTART;TZID=Europe/Madrid:20250424T183000
DTEND;TZID=Europe/Madrid:20250424T200000
DTSTAMP:20260420T065442
CREATED:20250420T050314Z
LAST-MODIFIED:20250420T050643Z
UID:54739-1745519400-1745524800@afocer.cat
SUMMARY:Muntatge i edició de panoràmiques
DESCRIPTION: Muntatge i edició de panoràmiques\nLocal social – Ateneu de Cerdanyola –\nDijous 24 d’abril de 18:30 a 20:00\nOrganitzat per Jordi Blasco
URL:https://afocer.cat/event/muntatge-i-edicio-de-panoramiques/
LOCATION:Ateneu de Cerdanyola\, Indústria 38-40\, Cerdanyola del Vallès\, Barcelona\, 08290\, Spain
CATEGORIES:Activitats,Formació
ORGANIZER;CN="Afocer activitats":MAILTO:activitats@afocer.cat
END:VEVENT
BEGIN:VEVENT
DTSTART;TZID=Europe/Madrid:20250424T183000
DTEND;TZID=Europe/Madrid:20250424T200000
DTSTAMP:20260420T065442
CREATED:20250420T050614Z
LAST-MODIFIED:20250420T050706Z
UID:54741-1745519400-1745524800@afocer.cat
SUMMARY:Montaje y edición de panorámicas
DESCRIPTION:Montaje y edición de panorámicas\nLocal social – Ateneu de Cerdanyola\nJueves 24 de abril de 18:30 a 20:00\nOrganizado por Jordi Blasco
URL:https://afocer.cat/event/montaje-y-edicion-de-panoramicas/
LOCATION:Ateneu de Cerdanyola\, Indústria 38-40\, Cerdanyola del Vallès\, Barcelona\, 08290\, Spain
ORGANIZER;CN="Afocer activitats":MAILTO:activitats@afocer.cat
END:VEVENT
BEGIN:VEVENT
DTSTART;TZID=Europe/Madrid:20250425T200000
DTEND;TZID=Europe/Madrid:20250425T210000
DTSTAMP:20260420T065442
CREATED:20250420T051419Z
LAST-MODIFIED:20250420T051419Z
UID:54746-1745611200-1745614800@afocer.cat
SUMMARY:Veredicte concurs aniversari 50e Aplec de la sardana
DESCRIPTION:Veredicte concurs aniversari 50e Aplec de la sardana\nLocal social -Ateneu de Cerdanyola\nDivendres 25 d’abril a les 20:00
URL:https://afocer.cat/event/veredicte-concurs-aniversari-50e-aplec-de-la-sardana/
LOCATION:Ateneu de Cerdanyola\, Indústria 38-40\, Cerdanyola del Vallès\, Barcelona\, 08290\, Spain
CATEGORIES:Concursos,Events
ORGANIZER;CN="Afocer concursos":MAILTO:concursos@afocer.cat
END:VEVENT
BEGIN:VEVENT
DTSTART;TZID=Europe/Madrid:20250425T200000
DTEND;TZID=Europe/Madrid:20250425T210000
DTSTAMP:20260420T065442
CREATED:20250420T051610Z
LAST-MODIFIED:20250420T051611Z
UID:54748-1745611200-1745614800@afocer.cat
SUMMARY:Veredicto concurso aniversario del 50º Aplec de la Sardana
DESCRIPTION:Veredicto concurso aniversario 50º Aplec de la sardana\nLocal social -Ateneu de Cerdanyola\nViernes 25 de abril a las 20:00
URL:https://afocer.cat/event/veredicto-concurso-aniversario-del-50o-aplec-de-la-sardana/
LOCATION:Ateneu de Cerdanyola\, Indústria 38-40\, Cerdanyola del Vallès\, Barcelona\, 08290\, Spain
ORGANIZER;CN="Afocer concursos":MAILTO:concursos@afocer.cat
END:VEVENT
BEGIN:VEVENT
DTSTART;VALUE=DATE:20250426
DTEND;VALUE=DATE:20250531
DTSTAMP:20260420T065442
CREATED:20250425T203219Z
LAST-MODIFIED:20250425T203219Z
UID:55003-1745625600-1748649599@afocer.cat
SUMMARY:Exposició Ruta per la costa oest dels EEUU de MariCarmen Benitez
DESCRIPTION:Exposició Ruta per la costa oest dels EEUU de MariCarmen Benitez\nLocal social – Ateneu de Cerdanyola\nDel 26 d’abril al 31 de maig
URL:https://afocer.cat/event/exposicio-ruta-per-la-costa-oest-dels-eeuu-de-maricarmen-benitez/
LOCATION:Barcelona
CATEGORIES:Exposicions
ORGANIZER;CN="Afocer concurs digital":MAILTO:socialdigital@afocer.cat
END:VEVENT
BEGIN:VEVENT
DTSTART;VALUE=DATE:20250426
DTEND;VALUE=DATE:20250531
DTSTAMP:20260420T065442
CREATED:20250425T203359Z
LAST-MODIFIED:20250425T203400Z
UID:55005-1745625600-1748649599@afocer.cat
SUMMARY:Exposición Ruta por el oeste de EEUU de MariCarmen Benitez
DESCRIPTION:Exposición Ruta por el oeste de EEUU de MariCarmen Benitez\nLocal social – Ateneu de Cerdanyola\nDel 26 de abril al 31 de mayo
URL:https://afocer.cat/event/exposicion-ruta-por-el-oeste-de-eeuu-de-maricarmen-benitez/
LOCATION:Barcelona
ORGANIZER;CN="Afocer concurs digital":MAILTO:socialdigital@afocer.cat
END:VEVENT
BEGIN:VEVENT
DTSTART;TZID=Europe/Madrid:20250426T173000
DTEND;TZID=Europe/Madrid:20250426T190000
DTSTAMP:20260420T065442
CREATED:20241224T190042Z
LAST-MODIFIED:20241224T190732Z
UID:52251-1745688600-1745694000@afocer.cat
SUMMARY:Veredicte concurs social color i monocrom d'abril
DESCRIPTION:Veredicte concurs social color i monocrom d’abril\nAteneu de Cerdanyola – 17:30\nData límit presentació obres: 24 d’abril
URL:https://afocer.cat/event/veredicte-concurs-social-color-i-monocrom-dabril-3/
LOCATION:Ateneu de Cerdanyola\, Indústria 38-40\, Cerdanyola del Vallès\, Barcelona\, 08290\, Spain
CATEGORIES:Concursos,Events
ORGANIZER;CN="Afocer concurs paper":MAILTO:socialpaper@afocer.cat
END:VEVENT
BEGIN:VEVENT
DTSTART;TZID=Europe/Madrid:20250426T173000
DTEND;TZID=Europe/Madrid:20250426T190000
DTSTAMP:20260420T065442
CREATED:20241225T080641Z
LAST-MODIFIED:20241225T080642Z
UID:52315-1745688600-1745694000@afocer.cat
SUMMARY:Veredicto concurso social color y monocromo de abril
DESCRIPTION:Veredicto concurso social color y monocromo de abril\nAteneu de Cerdanyola\nFecha límite presentación obras: 24 de abril
URL:https://afocer.cat/event/veredicto-concurso-social-color-y-monocromo-de-abril/
LOCATION:Ateneu de Cerdanyola\, Indústria 38-40\, Cerdanyola del Vallès\, Barcelona\, 08290\, Spain
ORGANIZER;CN="Afocer concurs paper":MAILTO:socialpaper@afocer.cat
END:VEVENT
BEGIN:VEVENT
DTSTART;TZID=Europe/Madrid:20250426T190000
DTEND;TZID=Europe/Madrid:20250426T203000
DTSTAMP:20260420T065442
CREATED:20250420T051924Z
LAST-MODIFIED:20250425T202854Z
UID:54751-1745694000-1745699400@afocer.cat
SUMMARY:Inauguració exposició de MariCarmen Benitez al local social
DESCRIPTION:Inauguració exposició de MariCarmen Benitez al local social\nLocal social – Ateneu de Cerdanyola \nDissabte 26 d’abril a les 19:00
URL:https://afocer.cat/event/inauguracio-exposicio-al-local-social-4/
LOCATION:Ateneu de Cerdanyola\, Indústria 38-40\, Cerdanyola del Vallès\, Barcelona\, 08290\, Spain
CATEGORIES:Events,Exposicions
ORGANIZER;CN="Afocer concurs digital":MAILTO:socialdigital@afocer.cat
END:VEVENT
BEGIN:VEVENT
DTSTART;TZID=Europe/Madrid:20250426T190000
DTEND;TZID=Europe/Madrid:20250426T203000
DTSTAMP:20260420T065442
CREATED:20250420T052050Z
LAST-MODIFIED:20250425T202924Z
UID:54753-1745694000-1745699400@afocer.cat
SUMMARY:Inauguración exposición de MariCarmen Benitez en el local social
DESCRIPTION:Inauguración exposición de MariCarmen Benitez en el local social\nLocal social – Ateneu de Cerdanyola \nSábado 26 de abril a las 19:00
URL:https://afocer.cat/event/inauguracion-exposicion-en-el-local-social-2/
LOCATION:Ateneu de Cerdanyola\, Indústria 38-40\, Cerdanyola del Vallès\, Barcelona\, 08290\, Spain
ORGANIZER;CN="Afocer concurs digital":MAILTO:socialdigital@afocer.cat
END:VEVENT
BEGIN:VEVENT
DTSTART;VALUE=DATE:20250427
DTEND;VALUE=DATE:20250428
DTSTAMP:20260420T065442
CREATED:20250420T171234Z
LAST-MODIFIED:20250420T173010Z
UID:54911-1745712000-1745798399@afocer.cat
SUMMARY:Exposició de Jordi Blasco a Cerdanyola
DESCRIPTION:Exposició de Jordi Blasco dels comerços del barri de Fontetes de Cerdanyola\nPlaça dels Pinetons\, Cerdanyola\nDiumenge 27 d’abril pel matí\n(dins la programació de l’AV Les Fontetes)
URL:https://afocer.cat/event/exposicio-de-jordi-blasco-a-cerdanyola/
LOCATION:Barcelona
ORGANIZER;CN="Afocer":MAILTO:activitats@afocer.cat
END:VEVENT
BEGIN:VEVENT
DTSTART;VALUE=DATE:20250427
DTEND;VALUE=DATE:20250428
DTSTAMP:20260420T065442
CREATED:20250420T171425Z
LAST-MODIFIED:20250420T173044Z
UID:54913-1745712000-1745798399@afocer.cat
SUMMARY:Exposició de Jordi Blasco a Cerdanyola
DESCRIPTION:Exposición de Jordi Blasco de los comercios del barrio de Fontetes de Cerdanyola\nPlaza dels Pinetons\, Cerdanyola\nDomingo 27 de abril por la mañana\n(Dentro de la programación de l’AV Les Fontetes)
URL:https://afocer.cat/event/exposicio-de-jordi-blasco-a-cerdanyola/
LOCATION:Barcelona
ORGANIZER;CN="Afocer":MAILTO:activitats@afocer.cat
END:VEVENT
BEGIN:VEVENT
DTSTART;VALUE=DATE:20250502
DTEND;VALUE=DATE:20250519
DTSTAMP:20260420T065442
CREATED:20250420T054430Z
LAST-MODIFIED:20250420T163548Z
UID:54761-1746144000-1747612799@afocer.cat
SUMMARY:Concurs Festes del Roser de Maig 2025
DESCRIPTION:IX Concurs de les Festes del Roser de Maig 2025\nDel 2 al 5 de maig de 2025\nData límit presentació fotos: 18/05/25\nVeredicte: 21/05/25\nBASES
URL:https://afocer.cat/event/concurs-festes-del-roser-de-maig-2025/
LOCATION:Barcelona
CATEGORIES:Concursos
ORGANIZER;CN="Afocer concursos":MAILTO:concursos@afocer.cat
END:VEVENT
BEGIN:VEVENT
DTSTART;VALUE=DATE:20250502
DTEND;VALUE=DATE:20250519
DTSTAMP:20260420T065442
CREATED:20250420T054603Z
LAST-MODIFIED:20250420T163628Z
UID:54763-1746144000-1747612799@afocer.cat
SUMMARY:Concurso de las Festes del Roser de Maig 2025
DESCRIPTION:IX Concurso de les Festes del Roser de Maig 2025\nDel 2 al 5 de mayo de 2025\nFecha límite presentación fotos: 18/05/25\nVeredicto: 21/05/25\nBASES
URL:https://afocer.cat/event/concurso-de-las-festes-del-roser-de-maig-2025/
LOCATION:Barcelona
ORGANIZER;CN="Afocer concursos":MAILTO:concursos@afocer.cat
END:VEVENT
BEGIN:VEVENT
DTSTART;VALUE=DATE:20250503
DTEND;VALUE=DATE:20250505
DTSTAMP:20260420T065442
CREATED:20250412T060805Z
LAST-MODIFIED:20250412T060805Z
UID:54659-1746230400-1746403199@afocer.cat
SUMMARY:Taller infantil de fotografia del Roser de Maig 2025
DESCRIPTION:Taller infantil de fotografia del Roser de Maig 2025\n3 i 4 de maig de 2025\nDissabte de 9:30 a 13:00 / Diumenge de 10:00 a 13:30\nNens i nenes de 8 a 12 anys\nInscripcions a analogic@afocer.cat
URL:https://afocer.cat/event/taller-infantil-de-fotografia-del-roser-de-maig-2025/
LOCATION:Barcelona
CATEGORIES:Activitats,Taller
ORGANIZER;CN="Afocer":MAILTO:activitats@afocer.cat
END:VEVENT
BEGIN:VEVENT
DTSTART;VALUE=DATE:20250503
DTEND;VALUE=DATE:20250505
DTSTAMP:20260420T065442
CREATED:20250412T060952Z
LAST-MODIFIED:20250412T060953Z
UID:54661-1746230400-1746403199@afocer.cat
SUMMARY:Taller infantil de fotografia del Roser de Maig 2025
DESCRIPTION:Taller infantil de fotografia del Roser de Maig 2025\n3 y 4 de mayo de 2025\nSábado de 9:30 a 13:00 / Domingo de 10:00 a 13:30\nNiños y niñas de 8 a 12 años\nInscripciones en analogic@afocer.cat
URL:https://afocer.cat/event/taller-infantil-de-fotografia-del-roser-de-maig-2025/
LOCATION:Barcelona
ORGANIZER;CN="Afocer":MAILTO:activitats@afocer.cat
END:VEVENT
BEGIN:VEVENT
DTSTART;TZID=Europe/Madrid:20250503T163000
DTEND;TZID=Europe/Madrid:20250503T210000
DTSTAMP:20260420T065442
CREATED:20250412T102850Z
LAST-MODIFIED:20250412T102850Z
UID:54722-1746289800-1746306000@afocer.cat
SUMMARY:Taller congelant el foc
DESCRIPTION:Taller congelant el foc\nAcció fotogràﬁca Ripollet conjuntament amb el Foto Club de Tordera et convida a un taller únic: «Congelant el Foc»\nLloc: Antic Hospital dels Pobres de Tordera\nData: 3 de maig 16:30 – 21:00 (Teoria i pràctica amb els diables de Tordera)\nPlaces per a Afocer: 4 \,\nImport: 30€\, preu per socis Afocer\nInformació i inscripcions : formacioafr@gmail.com
URL:https://afocer.cat/event/taller-congelant-el-foc/
LOCATION:Barcelona
CATEGORIES:Activitats,Formació,Taller
ORGANIZER;CN="Afocer formaci%C3%B3":MAILTO:formacio@afocer.cat
END:VEVENT
BEGIN:VEVENT
DTSTART;TZID=Europe/Madrid:20250503T163000
DTEND;TZID=Europe/Madrid:20250503T210000
DTSTAMP:20260420T065442
CREATED:20250412T103046Z
LAST-MODIFIED:20250412T103047Z
UID:54724-1746289800-1746306000@afocer.cat
SUMMARY:Taller Congelando el fuego
DESCRIPTION:Taller congelando el fuego\nAcció fotogràﬁca Ripollet conjuntamente con el Foto Club de Tordera te invita a un taller único: «Congelando el Fuego»\nLugar: Antiguo Hospital de los Pobres de Tordera\nFecha: 3 de mayo 16:30 – 21:00 (Teoría y práctica con los diablos de Tordera)\nPlazas para Afocer: 4 \,\nImporte: 30€\, precio por socios Afocer\nInformación e inscripciones : formacioafr@gmail.com
URL:https://afocer.cat/event/taller-congelando-el-fuego/
LOCATION:Barcelona
ORGANIZER;CN="Afocer formaci%C3%B3":MAILTO:formacio@afocer.cat
END:VEVENT
BEGIN:VEVENT
DTSTART;TZID=Europe/Madrid:20250508T193000
DTEND;TZID=Europe/Madrid:20250508T210000
DTSTAMP:20260420T065442
CREATED:20241217T180637Z
LAST-MODIFIED:20241224T191519Z
UID:51305-1746732600-1746738000@afocer.cat
SUMMARY:Veredicte concurs social digital/tema obligat de maig
DESCRIPTION:Veredicte concurs social digital i tema obligat de maig\nAteneu de Cerdanyola – 19:30\nData límit presentació obres: 3 de maig
URL:https://afocer.cat/event/veredicte-concurs-social-digital-tema-obligat-de-maig-3/
LOCATION:Ateneu de Cerdanyola\, Indústria 38-40\, Cerdanyola del Vallès\, Barcelona\, 08290\, Spain
CATEGORIES:Concursos,Events
ORGANIZER;CN="Afocer concurs digital":MAILTO:socialdigital@afocer.cat
END:VEVENT
BEGIN:VEVENT
DTSTART;TZID=Europe/Madrid:20250508T193000
DTEND;TZID=Europe/Madrid:20250508T210000
DTSTAMP:20260420T065442
CREATED:20241225T075928Z
LAST-MODIFIED:20241225T075928Z
UID:52053-1746732600-1746738000@afocer.cat
SUMMARY:Veredicto concurso social digital/tema obligado de mayo
DESCRIPTION:Veredicto concurso social digital/tema obligado de mayo\nAteneu de Cerdanyola\nFecha límite presentación obras: 3 de mayo
URL:https://afocer.cat/event/veredicto-concurso-social-digital-tema-obligado-de-mayo/
LOCATION:Ateneu de Cerdanyola\, Indústria 38-40\, Cerdanyola del Vallès\, Barcelona\, 08290\, Spain
ORGANIZER;CN="Afocer concurs digital":MAILTO:socialdigital@afocer.cat
END:VEVENT
BEGIN:VEVENT
DTSTART;VALUE=DATE:20250509
DTEND;VALUE=DATE:20250512
DTSTAMP:20260420T065442
CREATED:20250501T143702Z
LAST-MODIFIED:20250509T061531Z
UID:55239-1746748800-1747007999@afocer.cat
SUMMARY:Sortida a la Romeria de Fuente de Cantos
DESCRIPTION:Sortida a la Romeria de Fuente de Cantos\, Badajoz\nDel 8 al 10 de maig
URL:https://afocer.cat/event/sortida-a-la-romeria-de-fuente-de-cantos/
LOCATION:Barcelona
CATEGORIES:Activitats,Sortides
ORGANIZER;CN="Afocer activitats":MAILTO:activitats@afocer.cat
END:VEVENT
BEGIN:VEVENT
DTSTART;VALUE=DATE:20250509
DTEND;VALUE=DATE:20250512
DTSTAMP:20260420T065442
CREATED:20250501T143808Z
LAST-MODIFIED:20250501T143809Z
UID:55241-1746748800-1747007999@afocer.cat
SUMMARY:Salida a la Romeria de Fuente de Cantos
DESCRIPTION:Salida a la Romeria de Fuente de Cantos\, Badajoz\ndel 8 al 10 de mayo
URL:https://afocer.cat/event/salida-a-la-romeria-de-fuente-de-cantos/
LOCATION:Barcelona
ORGANIZER;CN="Afocer activitats":MAILTO:activitats@afocer.cat
END:VEVENT
BEGIN:VEVENT
DTSTART;VALUE=DATE:20250509
DTEND;VALUE=DATE:20250526
DTSTAMP:20260420T065442
CREATED:20250510T141359Z
LAST-MODIFIED:20250510T141359Z
UID:55312-1746748800-1748217599@afocer.cat
SUMMARY:Exposició Camí particular de Dom Fernández
DESCRIPTION:Exposició Camí particular de Dom Fernández\nSala Delger / Carrer Forn 8 Caldes de Montbui\nDel 9 al 25 de maig de 2025
URL:https://afocer.cat/event/exposicio-cami-particular-de-dom-fernandez/
LOCATION:Barcelona
CATEGORIES:Exposicions
ORGANIZER;CN="Afocer":MAILTO:activitats@afocer.cat
END:VEVENT
END:VCALENDAR