BEGIN:VCALENDAR
VERSION:2.0
PRODID:-//AFOCER - ECPv6.15.20//NONSGML v1.0//EN
CALSCALE:GREGORIAN
METHOD:PUBLISH
X-ORIGINAL-URL:https://afocer.cat
X-WR-CALDESC:Eventos para AFOCER
REFRESH-INTERVAL;VALUE=DURATION:PT1H
X-Robots-Tag:noindex
X-PUBLISHED-TTL:PT1H
BEGIN:VTIMEZONE
TZID:Europe/Madrid
BEGIN:DAYLIGHT
TZOFFSETFROM:+0100
TZOFFSETTO:+0200
TZNAME:CEST
DTSTART:20240331T010000
END:DAYLIGHT
BEGIN:STANDARD
TZOFFSETFROM:+0200
TZOFFSETTO:+0100
TZNAME:CET
DTSTART:20241027T010000
END:STANDARD
BEGIN:DAYLIGHT
TZOFFSETFROM:+0100
TZOFFSETTO:+0200
TZNAME:CEST
DTSTART:20250330T010000
END:DAYLIGHT
BEGIN:STANDARD
TZOFFSETFROM:+0200
TZOFFSETTO:+0100
TZNAME:CET
DTSTART:20251026T010000
END:STANDARD
BEGIN:DAYLIGHT
TZOFFSETFROM:+0100
TZOFFSETTO:+0200
TZNAME:CEST
DTSTART:20260329T010000
END:DAYLIGHT
BEGIN:STANDARD
TZOFFSETFROM:+0200
TZOFFSETTO:+0100
TZNAME:CET
DTSTART:20261025T010000
END:STANDARD
END:VTIMEZONE
BEGIN:VEVENT
DTSTART;VALUE=DATE:20250920
DTEND;VALUE=DATE:20251025
DTSTAMP:20260425T045544
CREATED:20250918T155858Z
LAST-MODIFIED:20250918T160254Z
UID:57252-1758326400-1761350399@afocer.cat
SUMMARY:Exposició 1ª biennal Carme Aldana al local social
DESCRIPTION:Exposició 1ª biennal Carme Aldana al local social\nLocal social – Ateneu de Cerdanyola\nDel 20 de setembre al 24 d’octubre de 2025
URL:https://afocer.cat/event/exposicio-1a-biennal-carmen-aldana-al-local-social/
LOCATION:Ateneu de Cerdanyola\, Indústria 38-40\, Cerdanyola del Vallès\, Barcelona\, 08290\, Spain
CATEGORIES:Exposicions
ORGANIZER;CN="Afocer concurs digital":MAILTO:socialdigital@afocer.cat
END:VEVENT
BEGIN:VEVENT
DTSTART;VALUE=DATE:20250920
DTEND;VALUE=DATE:20250921
DTSTAMP:20260425T045544
CREATED:20250720T074439Z
LAST-MODIFIED:20250721T155259Z
UID:56915-1758326400-1758412799@afocer.cat
SUMMARY:Workshop Fine Art per Carmen Gavilan
DESCRIPTION:Workshop Fine Art per Carmen Gavilán\nsábado 20 de septiembre mañana y tarde (8 horas)\nc/ Sau\, 41  SABADELL\nPrecio 200€ – es necesario llevar cámara\nPreinscripción en formacio@afocer.cat
URL:https://afocer.cat/event/workshop-fine-art-per-carmen-gavilan/
LOCATION:Barcelona
ORGANIZER;CN="Afocer formaci%C3%B3":MAILTO:formacio@afocer.cat
END:VEVENT
BEGIN:VEVENT
DTSTART;VALUE=DATE:20250920
DTEND;VALUE=DATE:20250921
DTSTAMP:20260425T045544
CREATED:20250720T074220Z
LAST-MODIFIED:20250721T155238Z
UID:56913-1758326400-1758412799@afocer.cat
SUMMARY:Workshop Fine Art per Carmen Gavilán
DESCRIPTION:Workshop Fine Art per Carmen Gavilán\ndissabte 20 de setembre matí i tarda (8 hores)\nc/ Sau\, 41  SABADELL\nCost 200€ – cal portar càmera\nPre-inscripció  a formacio@afocer.cat
URL:https://afocer.cat/event/workshop-fine-art-per-carmen-gavilan/
LOCATION:Barcelona
CATEGORIES:Formació,Taller
ORGANIZER;CN="Afocer formaci%C3%B3":MAILTO:formacio@afocer.cat
END:VEVENT
BEGIN:VEVENT
DTSTART;TZID=Europe/Madrid:20250919T183000
DTEND;TZID=Europe/Madrid:20250919T193000
DTSTAMP:20260425T045544
CREATED:20250905T071257Z
LAST-MODIFIED:20250905T071257Z
UID:57012-1758306600-1758310200@afocer.cat
SUMMARY:Entrega de premios Aphotoreporter 2025 y inauguración exposición
DESCRIPTION:Entrega de premios Aphotoreporter 2025 y inauguración exposición\nSala Elisa Arimany – Biblioteca Central de Cerdanyola\nViernes 19 de septiembre – 18:30
URL:https://afocer.cat/event/entrega-de-premios-aphotoreporter-2025-y-inauguracion-exposicion/
LOCATION:Sala Elisa Arimany – Biblioteca central de Cerdanyola\, Plaça Enric Granados 1\, Cerdanyola del Vallès\, Barcelona\, 08290\, Spain
ORGANIZER;CN="Afocer concursos":MAILTO:concursos@afocer.cat
END:VEVENT
BEGIN:VEVENT
DTSTART;TZID=Europe/Madrid:20250919T183000
DTEND;TZID=Europe/Madrid:20250919T193000
DTSTAMP:20260425T045544
CREATED:20250905T071057Z
LAST-MODIFIED:20250905T071057Z
UID:57010-1758306600-1758310200@afocer.cat
SUMMARY:Lliurament premis Aphotoreporter 2025 i inauguració exposició
DESCRIPTION:Lliurament premis Aphotoreporter 2025 i inauguració exposició\nSala Elisa Arimany – Biblioteca Central de Cerdanyola\nDivendres 19 de setembre – 18:30
URL:https://afocer.cat/event/lliurament-premis-aphotoreporter-2025-i-inauguracio-exposicio/
LOCATION:Sala Elisa Arimany – Biblioteca central de Cerdanyola\, Plaça Enric Granados 1\, Cerdanyola del Vallès\, Barcelona\, 08290\, Spain
CATEGORIES:Concursos,Events,Exposicions
ORGANIZER;CN="Afocer concursos":MAILTO:concursos@afocer.cat
END:VEVENT
BEGIN:VEVENT
DTSTART;TZID=Europe/Madrid:20250918T190000
DTEND;TZID=Europe/Madrid:20250918T203000
DTSTAMP:20260425T045544
CREATED:20250913T132748Z
LAST-MODIFIED:20250913T132749Z
UID:57162-1758222000-1758227400@afocer.cat
SUMMARY:Charla de fotografía de calle con Pepe Encinas
DESCRIPTION:Charla de fotografía de calle con Pepe Encinas\nLocal social – Ateneu de Cerdanyola\nJueves 18 de septiembre a las 19:00
URL:https://afocer.cat/event/charla-de-fotografia-de-calle-con-pepe-encinas/
LOCATION:Ateneu de Cerdanyola\, Indústria 38-40\, Cerdanyola del Vallès\, Barcelona\, 08290\, Spain
ORGANIZER;CN="Afocer formaci%C3%B3":MAILTO:formacio@afocer.cat
END:VEVENT
BEGIN:VEVENT
DTSTART;TZID=Europe/Madrid:20250918T190000
DTEND;TZID=Europe/Madrid:20250918T203000
DTSTAMP:20260425T045544
CREATED:20250913T132556Z
LAST-MODIFIED:20250913T132812Z
UID:57160-1758222000-1758227400@afocer.cat
SUMMARY:Xerrada de fotografia de carrer amb Pepe Encinas
DESCRIPTION:Xerrada de fotografia de carrer amb Pepe Encinas\nLocal social – Ateneu de Cerdanyola\nDijous 18 de setembre a les 19:00
URL:https://afocer.cat/event/xerrada-de-fotografia-de-carrer-amb-pepe-encinas/
LOCATION:Ateneu de Cerdanyola\, Indústria 38-40\, Cerdanyola del Vallès\, Barcelona\, 08290\, Spain
CATEGORIES:Activitats,Events
ORGANIZER;CN="Afocer formaci%C3%B3":MAILTO:formacio@afocer.cat
END:VEVENT
BEGIN:VEVENT
DTSTART;TZID=Europe/Madrid:20250907T200000
DTEND;TZID=Europe/Madrid:20250907T230000
DTSTAMP:20260425T045544
CREATED:20250831T053411Z
LAST-MODIFIED:20250831T053413Z
UID:56984-1757275200-1757286000@afocer.cat
SUMMARY:Salida fotográfica Eclipse total de luna
DESCRIPTION:Salida fotográfica Eclipse total de luna\nDomingo 7 de septiembre\nPlaya de Badalona- Pont del Petroli\nhttps://es.m.wikipedia.org/wiki/Eclipse_lunar_de_septiembre_de_2025
URL:https://afocer.cat/event/salida-fotografica-eclipse-total-de-luna/
LOCATION:Barcelona
ORGANIZER;CN="Afocer activitats":MAILTO:activitats@afocer.cat
END:VEVENT
BEGIN:VEVENT
DTSTART;TZID=Europe/Madrid:20250907T200000
DTEND;TZID=Europe/Madrid:20250907T230000
DTSTAMP:20260425T045544
CREATED:20250831T053229Z
LAST-MODIFIED:20250831T053229Z
UID:56982-1757275200-1757286000@afocer.cat
SUMMARY:Sortida fotogràfica Eclipsi total de lluna
DESCRIPTION:Sortida fotogràfica Eclipsi total de lluna\nDiumenge 7 de setembre\nPlatja de Badalona- Pont del Petroli\nhttps://es.m.wikipedia.org/wiki/Eclipse_lunar_de_septiembre_de_2025
URL:https://afocer.cat/event/sortida-fotografica-eclipsi-total-de-lluna/
LOCATION:Barcelona
CATEGORIES:Activitats,Sortides
ORGANIZER;CN="Afocer activitats":MAILTO:activitats@afocer.cat
END:VEVENT
BEGIN:VEVENT
DTSTART;VALUE=DATE:20250906
DTEND;VALUE=DATE:20250907
DTSTAMP:20260425T045544
CREATED:20250831T050549Z
LAST-MODIFIED:20250831T050550Z
UID:56976-1757116800-1757203199@afocer.cat
SUMMARY:Salida al Objectif Image de Perpignan
DESCRIPTION:Sortida al Objectif Image de Perpignan\nSábado 6 de septiembre\, todo el día
URL:https://afocer.cat/event/salida-al-objectif-image-de-perpignan/
LOCATION:Barcelona
ORGANIZER;CN="Afocer activitats":MAILTO:activitats@afocer.cat
END:VEVENT
BEGIN:VEVENT
DTSTART;VALUE=DATE:20250906
DTEND;VALUE=DATE:20250907
DTSTAMP:20260425T045544
CREATED:20250831T050354Z
LAST-MODIFIED:20250831T050609Z
UID:56974-1757116800-1757203199@afocer.cat
SUMMARY:Sortida al Objectif Image de Perpignan
DESCRIPTION:Sortida al Objectif Image a Perpignan\nDissabte 6 de setembre tot el dia
URL:https://afocer.cat/event/sortida-al-objectif-image-de-perpignan/
LOCATION:Barcelona
CATEGORIES:Activitats,Events,Exposicions,Sortides
ORGANIZER;CN="Afocer activitats":MAILTO:activitats@afocer.cat
END:VEVENT
BEGIN:VEVENT
DTSTART;TZID=Europe/Madrid:20250904T193000
DTEND;TZID=Europe/Madrid:20250904T210000
DTSTAMP:20260425T045544
CREATED:20241217T181813Z
LAST-MODIFIED:20241225T075805Z
UID:51960-1757014200-1757019600@afocer.cat
SUMMARY:Veredicto concurso social digital/tema obligado de septiembre
DESCRIPTION:Veredicto concurso social digital/tema obligado de septiembre\nAteneu de Cerdanyola\nFecha límite presentación obras: 30 de agosto
URL:https://afocer.cat/event/veredicto-concurso-social-digital-tema-obligado-de-septiembre/
LOCATION:Ateneu de Cerdanyola\, Indústria 38-40\, Cerdanyola del Vallès\, Barcelona\, 08290\, Spain
ORGANIZER;CN="Afocer concurs digital":MAILTO:socialdigital@afocer.cat
END:VEVENT
BEGIN:VEVENT
DTSTART;TZID=Europe/Madrid:20250904T193000
DTEND;TZID=Europe/Madrid:20250904T210000
DTSTAMP:20260425T045544
CREATED:20241217T180841Z
LAST-MODIFIED:20241224T191647Z
UID:51311-1757014200-1757019600@afocer.cat
SUMMARY:Veredicte concurs social digital/tema obligat de setembre
DESCRIPTION:Veredicte concurs social digital i tema obligat de setembre\nAteneu de Cerdanyola – 19:30\nData límit presentació obres: 30 d’agost
URL:https://afocer.cat/event/veredicte-concurs-social-digital-tema-obligat-de-setembre-3/
LOCATION:Ateneu de Cerdanyola\, Indústria 38-40\, Cerdanyola del Vallès\, Barcelona\, 08290\, Spain
CATEGORIES:Concursos,Events
ORGANIZER;CN="Afocer concurs digital":MAILTO:socialdigital@afocer.cat
END:VEVENT
BEGIN:VEVENT
DTSTART;VALUE=DATE:20250902
DTEND;VALUE=DATE:20251001
DTSTAMP:20260425T045544
CREATED:20250905T070336Z
LAST-MODIFIED:20250905T070337Z
UID:57001-1756771200-1759276799@afocer.cat
SUMMARY:Exposición Aphotoreporter 2025
DESCRIPTION:Exposición Aphotoreporter 2025\nSala Elisa Arimany – Biblioteca Central de Cerdanyola\nDel 2 al 30 de septiembre de 2025
URL:https://afocer.cat/event/exposicion-aphotoreporter-2025/
LOCATION:Sala Elisa Arimany – Biblioteca central de Cerdanyola\, Plaça Enric Granados 1\, Cerdanyola del Vallès\, Barcelona\, 08290\, Spain
ORGANIZER;CN="Afocer exposicions":MAILTO:exposicions@afocer.cat
END:VEVENT
BEGIN:VEVENT
DTSTART;VALUE=DATE:20250902
DTEND;VALUE=DATE:20251001
DTSTAMP:20260425T045544
CREATED:20250905T070206Z
LAST-MODIFIED:20250905T070206Z
UID:56999-1756771200-1759276799@afocer.cat
SUMMARY:Exposició Aphotoreporter 2025 a Cerdanyola
DESCRIPTION:Exposició Aphotoreporter 2025\nSala Elisa Arimany – Biblioteca Central de Cerdanyola\nDel 2 al 30 de setembre de 2025
URL:https://afocer.cat/event/exposicio-aphotoreporter-2025-a-cerdanyola/
LOCATION:Sala Elisa Arimany – Biblioteca central de Cerdanyola\, Plaça Enric Granados 1\, Cerdanyola del Vallès\, Barcelona\, 08290\, Spain
CATEGORIES:Exposicions
ORGANIZER;CN="Afocer exposicions":MAILTO:exposicions@afocer.cat
END:VEVENT
BEGIN:VEVENT
DTSTART;VALUE=DATE:20250830
DTEND;VALUE=DATE:20250901
DTSTAMP:20260425T045544
CREATED:20250713T050222Z
LAST-MODIFIED:20250713T050223Z
UID:56902-1756512000-1756684799@afocer.cat
SUMMARY:Taller infantil de fotografia de la Festa Major de Ripollet
DESCRIPTION:Taller infantil de fotografía de la Festa Major de Ripollet\nSábado 30 de agosto de 10 a 13\nDomingo 31 de agosto de 10 a 13\nNiños i niñas de 8 a 12 años\ninscripciones en tito@afocer.cat
URL:https://afocer.cat/event/taller-infantil-de-fotografia-de-la-festa-major-de-ripollet/
LOCATION:Centre cultural de Ripollet\, Rambla Sant Jordi 2-4\, Ripollet\, Barcelona\, Spain
ORGANIZER;CN="Afocer":MAILTO:activitats@afocer.cat
END:VEVENT
BEGIN:VEVENT
DTSTART;VALUE=DATE:20250830
DTEND;VALUE=DATE:20250901
DTSTAMP:20260425T045544
CREATED:20250713T050016Z
LAST-MODIFIED:20250713T050016Z
UID:56900-1756512000-1756684799@afocer.cat
SUMMARY:Taller infantil de fotografia de la Festa Major de Ripollet
DESCRIPTION:Taller infantil de fotografia de la Festa Major de Ripollet\nDissabte 30 d’agost de 10 a 13\nDiumenge 31 d’agost de 10 a 13\nNens i nenes de 8 a 12 anys\ninscripcions a tito@afocer.cat
URL:https://afocer.cat/event/taller-infantil-de-fotografia-de-la-festa-major-de-ripollet-2/
LOCATION:Centre cultural de Ripollet\, Rambla Sant Jordi 2-4\, Ripollet\, Barcelona\, Spain
CATEGORIES:Activitats,Taller
ORGANIZER;CN="Afocer":MAILTO:activitats@afocer.cat
END:VEVENT
BEGIN:VEVENT
DTSTART;TZID=Europe/Madrid:20250705T190000
DTEND;TZID=Europe/Madrid:20250705T210000
DTSTAMP:20260425T045544
CREATED:20250629T170835Z
LAST-MODIFIED:20250702T045958Z
UID:56598-1751742000-1751749200@afocer.cat
SUMMARY:Inauguración exposición Joan Manuel Vera en el local social
DESCRIPTION:Inauguración exposición «Polaroid» de Joan Manuel Vera en el local social\nLocal social – Ateneu de Cerdanyola\nsábado 5 de julio a las 19:00
URL:https://afocer.cat/event/inauguracion-exposicion-joan-manuel-vera-en-el-local-social/
LOCATION:Ateneu de Cerdanyola\, Indústria 38-40\, Cerdanyola del Vallès\, Barcelona\, 08290\, Spain
END:VEVENT
BEGIN:VEVENT
DTSTART;TZID=Europe/Madrid:20250705T190000
DTEND;TZID=Europe/Madrid:20250705T210000
DTSTAMP:20260425T045544
CREATED:20250629T170627Z
LAST-MODIFIED:20250702T045906Z
UID:56596-1751742000-1751749200@afocer.cat
SUMMARY:Inauguració exposició Joan Manuel Vera al local social
DESCRIPTION:Inauguració exposició «Polaroid» de Joan Manuel Vera al local social\nLocal social – Ateneu de Cerdanyola\nDissabte 5 de juliol a les 19:00
URL:https://afocer.cat/event/inauguracio-exposicio-joan-manuel-vera-al-local-social-2/
LOCATION:Ateneu de Cerdanyola\, Indústria 38-40\, Cerdanyola del Vallès\, Barcelona\, 08290\, Spain
END:VEVENT
BEGIN:VEVENT
DTSTART;TZID=Europe/Madrid:20250705T173000
DTEND;TZID=Europe/Madrid:20250705T190000
DTSTAMP:20260425T045544
CREATED:20241225T080906Z
LAST-MODIFIED:20241225T080906Z
UID:52321-1751736600-1751742000@afocer.cat
SUMMARY:Veredicto concurso social color y monocromo de junio
DESCRIPTION:Veredicto concurso social color y monocromo de junio\nAteneu de Cerdanyola\nFecha límite presentación obras: 3 de julio
URL:https://afocer.cat/event/veredicto-concurso-social-color-y-monocromo-de-junio/
LOCATION:Ateneu de Cerdanyola\, Indústria 38-40\, Cerdanyola del Vallès\, Barcelona\, 08290\, Spain
ORGANIZER;CN="Afocer concurs paper":MAILTO:socialpaper@afocer.cat
END:VEVENT
BEGIN:VEVENT
DTSTART;TZID=Europe/Madrid:20250705T173000
DTEND;TZID=Europe/Madrid:20250705T190000
DTSTAMP:20260425T045544
CREATED:20241224T192651Z
LAST-MODIFIED:20241224T192651Z
UID:52276-1751736600-1751742000@afocer.cat
SUMMARY:Veredicte concurs social color i monocrom de juny
DESCRIPTION:Veredicte concurs social color i monocrom de juny\nAteneu de Cerdanyola – 17:30\nData límit presentació obres: 3 de juliol
URL:https://afocer.cat/event/veredicte-concurs-social-color-i-monocrom-de-juny-3/
LOCATION:Ateneu de Cerdanyola\, Indústria 38-40\, Cerdanyola del Vallès\, Barcelona\, 08290\, Spain
CATEGORIES:Concursos,Events
ORGANIZER;CN="Afocer concurs paper":MAILTO:socialpaper@afocer.cat
END:VEVENT
BEGIN:VEVENT
DTSTART;TZID=Europe/Madrid:20250705T080000
DTEND;TZID=Europe/Madrid:20250926T170000
DTSTAMP:20260425T045544
CREATED:20250702T050503Z
LAST-MODIFIED:20250702T050504Z
UID:56650-1751702400-1758906000@afocer.cat
SUMMARY:Exposición Polaroid de Joan Manuel Vera en el local social
DESCRIPTION:Exposición «Polaroid» de Joan Manuel Vera en el local social\nLocal social – Ateneu de Cerdanyola\nDel 5 de julio al 26 de septiembre de 2025
URL:https://afocer.cat/event/exposicion-polaroid-de-joan-manuel-vera-en-el-local-social/
LOCATION:Ateneu de Cerdanyola\, Indústria 38-40\, Cerdanyola del Vallès\, Barcelona\, 08290\, Spain
ORGANIZER;CN="Afocer concurs digital":MAILTO:socialdigital@afocer.cat
END:VEVENT
BEGIN:VEVENT
DTSTART;TZID=Europe/Madrid:20250705T080000
DTEND;TZID=Europe/Madrid:20250926T170000
DTSTAMP:20260425T045544
CREATED:20250702T050320Z
LAST-MODIFIED:20250702T050320Z
UID:56648-1751702400-1758906000@afocer.cat
SUMMARY:Exposició Polaroid de Joan Manuel Vera al local social
DESCRIPTION:Exposició «Polaroid» de Joan Manuel Vera al local social\nLocal social – Ateneu de Cerdanyola\nDel 5 de juliol al 26 de setembre de 2025
URL:https://afocer.cat/event/exposicio-polaroid-de-joan-manuel-vera-al-local-social/
LOCATION:Ateneu de Cerdanyola\, Indústria 38-40\, Cerdanyola del Vallès\, Barcelona\, 08290\, Spain
CATEGORIES:Exposicions
ORGANIZER;CN="Afocer concurs digital":MAILTO:socialdigital@afocer.cat
END:VEVENT
BEGIN:VEVENT
DTSTART;TZID=Europe/Madrid:20250628T200000
DTEND;TZID=Europe/Madrid:20250628T230000
DTSTAMP:20260425T045544
CREATED:20250607T081024Z
LAST-MODIFIED:20250607T081630Z
UID:56086-1751140800-1751151600@afocer.cat
SUMMARY:Taller de Lightpainting amb Juan José Carrasco
DESCRIPTION:Taller de Lighpainting amb Juan José Carrasco\n26 de juny teórica – 19:00\nLocal social – Ateneu de Cerdanyola \n28 de juny pràctica de 20:00 a 23:00\nEspai abandonat a Llinars del Vallès\nEdició fotos a l’octubre\nInscripcions abans de 15/06/25 – Preu 15€
URL:https://afocer.cat/event/taller-de-lightpainting-amb-juan-jose-carrasco-2/
LOCATION:Barcelona
CATEGORIES:Formació,Taller
ORGANIZER;CN="Afocer formaci%C3%B3":MAILTO:formacio@afocer.cat
END:VEVENT
BEGIN:VEVENT
DTSTART;TZID=Europe/Madrid:20250628T113000
DTEND;TZID=Europe/Madrid:20250628T123000
DTSTAMP:20260425T045544
CREATED:20250614T083457Z
LAST-MODIFIED:20250614T083458Z
UID:56313-1751110200-1751113800@afocer.cat
SUMMARY:Entrega de premios 1ª bienal Carmen Aldana
DESCRIPTION:Entrega de premios 1ª bienal Carme Aldana\nSala d’Art Centre Cultural de Ripollet\nSábado 28 de junio a las 11:30
URL:https://afocer.cat/event/entrega-de-premios-1a-bienal-carmen-aldana/
LOCATION:Centre cultural de Ripollet\, Rambla Sant Jordi 2-4\, Ripollet\, Barcelona\, Spain
ORGANIZER;CN="Afocer concursos":MAILTO:concursos@afocer.cat
END:VEVENT
BEGIN:VEVENT
DTSTART;TZID=Europe/Madrid:20250628T113000
DTEND;TZID=Europe/Madrid:20250628T123000
DTSTAMP:20260425T045544
CREATED:20250614T083322Z
LAST-MODIFIED:20250614T083322Z
UID:56311-1751110200-1751113800@afocer.cat
SUMMARY:Lliurament premis 1ª biennal Carme Aldana
DESCRIPTION:Lliurament premis 1ª biennal Carme Aldana\nSala d’Art Centre Cultural de Ripollet\nDissabte 28 de juny a les 11:30
URL:https://afocer.cat/event/lliurament-premis-1a-biennal-carme-aldana/
LOCATION:Centre cultural de Ripollet\, Rambla Sant Jordi 2-4\, Ripollet\, Barcelona\, Spain
CATEGORIES:Concursos,Events
ORGANIZER;CN="Afocer concursos":MAILTO:concursos@afocer.cat
END:VEVENT
BEGIN:VEVENT
DTSTART;VALUE=DATE:20250628
DTEND;VALUE=DATE:20250720
DTSTAMP:20260425T045544
CREATED:20250614T083007Z
LAST-MODIFIED:20250614T083008Z
UID:56304-1751068800-1752969599@afocer.cat
SUMMARY:Exposición fotografias 1ª bienal Carme Aldana
DESCRIPTION:Exposición fotografías 1ª bienal Carme Aldana\nCentre Cultural de Ripollet\nDel 28 de junio al 19 de julio de 2025
URL:https://afocer.cat/event/exposicion-fotografias-1a-bienal-carme-aldana/
LOCATION:Centre cultural de Ripollet\, Rambla Sant Jordi 2-4\, Ripollet\, Barcelona\, Spain
ORGANIZER;CN="Afocer exposicions":MAILTO:exposicions@afocer.cat
END:VEVENT
BEGIN:VEVENT
DTSTART;VALUE=DATE:20250628
DTEND;VALUE=DATE:20250720
DTSTAMP:20260425T045544
CREATED:20250614T082731Z
LAST-MODIFIED:20250614T083039Z
UID:56299-1751068800-1752969599@afocer.cat
SUMMARY:Exposició fotografies 1ª biennal Carme Aldana
DESCRIPTION:Exposició fotografies 1ª biennal Carme Aldana\nCentre Cultural de Ripollet\nDel 28 de juny al 19 de juliol de 2025
URL:https://afocer.cat/event/exposicio-fotografies-1o-biennal-carme-aldana/
LOCATION:Centre cultural de Ripollet\, Rambla Sant Jordi 2-4\, Ripollet\, Barcelona\, Spain
CATEGORIES:Concursos,Exposicions
ORGANIZER;CN="Afocer exposicions":MAILTO:exposicions@afocer.cat
END:VEVENT
BEGIN:VEVENT
DTSTART;VALUE=DATE:20250628
DTEND;VALUE=DATE:20250629
DTSTAMP:20260425T045544
CREATED:20250515T084817Z
LAST-MODIFIED:20250515T084821Z
UID:55346-1751068800-1751155199@afocer.cat
SUMMARY:Workshop de retrato creativo con Cesar Viera
DESCRIPTION:Workshop de Retrato creativo con Cesar Viera\nOrganitzado por AFR\nCentre Cultural de Ripollet\n28 de junio mañana y tarde\nPreu: 200€\nInformación y inscripciones:\nhttps://afr.cat/workshop-cesarviera/
URL:https://afocer.cat/event/workshop-de-retrato-creativo-con-cesar-viera/
LOCATION:Centre cultural de Ripollet\, Rambla Sant Jordi 2-4\, Ripollet\, Barcelona\, Spain
ORGANIZER;CN="Afocer formaci%C3%B3":MAILTO:formacio@afocer.cat
END:VEVENT
BEGIN:VEVENT
DTSTART;VALUE=DATE:20250628
DTEND;VALUE=DATE:20250629
DTSTAMP:20260425T045544
CREATED:20250515T084503Z
LAST-MODIFIED:20250515T084541Z
UID:55340-1751068800-1751155199@afocer.cat
SUMMARY:Workshop de Retrat creatiu amb Cesar Viera
DESCRIPTION:Workshop de Retrat creatiu amb Cesar Viera\nOrganitzat per AFR\nCentre Cultural de Ripollet\n28 de juny matí i tarda\nPreu: 200€\nInformació i inscripcions:\nhttps://afr.cat/workshop-cesarviera/
URL:https://afocer.cat/event/workshop-de-retrat-creatiu-amb-cesar-viera/
LOCATION:Centre cultural de Ripollet\, Rambla Sant Jordi 2-4\, Ripollet\, Barcelona\, Spain
CATEGORIES:Formació,Taller
ORGANIZER;CN="Afocer formaci%C3%B3":MAILTO:formacio@afocer.cat
END:VEVENT
END:VCALENDAR