BEGIN:VCALENDAR
VERSION:2.0
PRODID:-//AFOCER - ECPv6.15.20//NONSGML v1.0//EN
CALSCALE:GREGORIAN
METHOD:PUBLISH
X-ORIGINAL-URL:https://afocer.cat
X-WR-CALDESC:Eventos para AFOCER
REFRESH-INTERVAL;VALUE=DURATION:PT1H
X-Robots-Tag:noindex
X-PUBLISHED-TTL:PT1H
BEGIN:VTIMEZONE
TZID:Europe/Madrid
BEGIN:DAYLIGHT
TZOFFSETFROM:+0100
TZOFFSETTO:+0200
TZNAME:CEST
DTSTART:20240331T010000
END:DAYLIGHT
BEGIN:STANDARD
TZOFFSETFROM:+0200
TZOFFSETTO:+0100
TZNAME:CET
DTSTART:20241027T010000
END:STANDARD
BEGIN:DAYLIGHT
TZOFFSETFROM:+0100
TZOFFSETTO:+0200
TZNAME:CEST
DTSTART:20250330T010000
END:DAYLIGHT
BEGIN:STANDARD
TZOFFSETFROM:+0200
TZOFFSETTO:+0100
TZNAME:CET
DTSTART:20251026T010000
END:STANDARD
BEGIN:DAYLIGHT
TZOFFSETFROM:+0100
TZOFFSETTO:+0200
TZNAME:CEST
DTSTART:20260329T010000
END:DAYLIGHT
BEGIN:STANDARD
TZOFFSETFROM:+0200
TZOFFSETTO:+0100
TZNAME:CET
DTSTART:20261025T010000
END:STANDARD
BEGIN:DAYLIGHT
TZOFFSETFROM:+0100
TZOFFSETTO:+0200
TZNAME:CEST
DTSTART:20270328T010000
END:DAYLIGHT
BEGIN:STANDARD
TZOFFSETFROM:+0200
TZOFFSETTO:+0100
TZNAME:CET
DTSTART:20271031T010000
END:STANDARD
END:VTIMEZONE
BEGIN:VEVENT
DTSTART;TZID=Europe/Madrid:20260305T190000
DTEND;TZID=Europe/Madrid:20260305T190000
DTSTAMP:20260424T102607
CREATED:20251120T150817Z
LAST-MODIFIED:20251120T215324Z
UID:57766-1772737200-1772737200@afocer.cat
SUMMARY:Veredicte concurs social digital i tema obligatori de març
DESCRIPTION:Veredicte concurs social digital i tema obligat de març\nAteneu de Cerdanyola – 19:00\nData límit presentació obres: 28 de febrer\ntema obligatori: Panoràmiques
URL:https://afocer.cat/event/veredicte-concurs-digital-i-tema-obligatori-de-marc/
LOCATION:Ateneu de Cerdanyola\, Indústria 38-40\, Cerdanyola del Vallès\, Barcelona\, 08290\, Spain
CATEGORIES:Concursos,Events
ORGANIZER;CN="Afocer concurs digital":MAILTO:socialdigital@afocer.cat
END:VEVENT
BEGIN:VEVENT
DTSTART;VALUE=DATE:20260302
DTEND;VALUE=DATE:20260401
DTSTAMP:20260424T102607
CREATED:20260223T102302Z
LAST-MODIFIED:20260312T215628Z
UID:58309-1772409600-1775001599@afocer.cat
SUMMARY:Exposició col·lectiva La feina de viure a l'Ateneu
DESCRIPTION:Exposició col·lectiva La feina de viure\nDones\, treball\, vida i resistència\nAteneu de Cerdanyola\nC/ Industria 38-40\, Cerdanyola del Vallès\ndel 2 al 31 de març de 2026\nInauguració dissabte 7 de març a les 18:30 a l’Ateneu
URL:https://afocer.cat/event/exposicio-col%c2%b7lectiva-la-feina-de-viure-a-lateneu/
LOCATION:Ateneu de Cerdanyola\, Indústria 38-40\, Cerdanyola del Vallès\, Barcelona\, 08290\, Spain
CATEGORIES:Exposicions
ORGANIZER;CN="Afocer exposicions":MAILTO:exposicions@afocer.cat
END:VEVENT
BEGIN:VEVENT
DTSTART;VALUE=DATE:20260302
DTEND;VALUE=DATE:20260401
DTSTAMP:20260424T102607
CREATED:20260102T184951Z
LAST-MODIFIED:20260312T215559Z
UID:58000-1772409600-1775001599@afocer.cat
SUMMARY:Exposició La feina de viure a la biblioteca de Ripollet
DESCRIPTION:Exposició \nBiblioteca de Ripollet\nC/ Estació 40\, Ripollet\nDel 2 al 31 de març de 2026
URL:https://afocer.cat/event/exposicio-a-la-biblioteca-de-ripollet/
LOCATION:Biblioteca de Ripollet\, Carretera de l'Estació 40\, Ripollet\, Barcelona\, 08291\, Spain
CATEGORIES:Exposicions
ORGANIZER;CN="Afocer exposicions":MAILTO:exposicions@afocer.cat
END:VEVENT
BEGIN:VEVENT
DTSTART;TZID=Europe/Madrid:20260228T173000
DTEND;TZID=Europe/Madrid:20260228T190000
DTSTAMP:20260424T102607
CREATED:20251120T213826Z
LAST-MODIFIED:20251120T213826Z
UID:57783-1772299800-1772305200@afocer.cat
SUMMARY:Veredicte concurs social color i monocrom de febrer
DESCRIPTION:Veredicte concurs social color i monocrom de febrer\nAteneu de Cerdanyola – 17:30\nData límit presentació obres: 26 de febrer
URL:https://afocer.cat/event/veredicte-concurs-social-color-i-monocrom-de-febrer-4/
LOCATION:Ateneu de Cerdanyola\, Indústria 38-40\, Cerdanyola del Vallès\, Barcelona\, 08290\, Spain
CATEGORIES:Concursos,Events
ORGANIZER;CN="Afocer concurs paper":MAILTO:socialpaper@afocer.cat
END:VEVENT
BEGIN:VEVENT
DTSTART;VALUE=DATE:20260227
DTEND;VALUE=DATE:20260303
DTSTAMP:20260424T102607
CREATED:20251126T115909Z
LAST-MODIFIED:20251126T120208Z
UID:57831-1772150400-1772495999@afocer.cat
SUMMARY:Viatge a Chefchauen
DESCRIPTION:Viatge socis Afocer a Chefchauen\namb Jesus Botaro (DestinoPhoto)\nDel 27 de febrer al 2 de març
URL:https://afocer.cat/event/viatge-a-chefchauen/
LOCATION:Barcelona
CATEGORIES:Activitats,Sortides
ORGANIZER;CN="Afocer activitats":MAILTO:activitats@afocer.cat
END:VEVENT
BEGIN:VEVENT
DTSTART;TZID=Europe/Madrid:20260226T190000
DTEND;TZID=Europe/Madrid:20260226T203000
DTSTAMP:20260424T102607
CREATED:20260129T054343Z
LAST-MODIFIED:20260129T183028Z
UID:58095-1772132400-1772137800@afocer.cat
SUMMARY:Xerrada del fotoperiodista Sergi Reboredo
DESCRIPTION:Xerrada del fotoperiodista Sergi Reboredo\nLocal social – Ateneu de Cerdanyola\nDijous 26 de febrer a les 19:00\nSergi Reboredo (Barcelona\, 1971) és un destacat fotoperiodista i fotògraf de viatges\, conegut pel seu treball documental i social.\nwww.sergireboredo.es
URL:https://afocer.cat/event/xerrada-del-fotoperiodista-sergi-reboredo/
LOCATION:Ateneu de Cerdanyola\, Indústria 38-40\, Cerdanyola del Vallès\, Barcelona\, 08290\, Spain
CATEGORIES:Activitats,Events,Formació
ORGANIZER;CN="Afocer formaci%C3%B3":MAILTO:formacio@afocer.cat
END:VEVENT
BEGIN:VEVENT
DTSTART;TZID=Europe/Madrid:20260221T210000
DTEND;TZID=Europe/Madrid:20260221T230000
DTSTAMP:20260424T102607
CREATED:20260207T165952Z
LAST-MODIFIED:20260208T060439Z
UID:58207-1771707600-1771714800@afocer.cat
SUMMARY:Sopar de germanor
DESCRIPTION:Sopar de germanor\nRestaurant Sandacos\nCarrer Padró 1\, Ripollet\nDissabte 21 a les 21:00
URL:https://afocer.cat/event/sopar-de-germanor-8/
LOCATION:Barcelona
CATEGORIES:Activitats,Events
ORGANIZER;CN="Afocer activitats":MAILTO:activitats@afocer.cat
END:VEVENT
BEGIN:VEVENT
DTSTART;TZID=Europe/Madrid:20260221T183000
DTEND;TZID=Europe/Madrid:20260221T193000
DTSTAMP:20260424T102607
CREATED:20260209T204754Z
LAST-MODIFIED:20260209T204754Z
UID:58227-1771698600-1771702200@afocer.cat
SUMMARY:Assemblea General Ordinària
DESCRIPTION:Assemblea General Ordinària 2026\nSala 22 – Ateneu de Cerdanyola\nDissabte 21 de febrer a les 18:30
URL:https://afocer.cat/event/assemblea-general-ordinaria/
LOCATION:Ateneu de Cerdanyola\, Indústria 38-40\, Cerdanyola del Vallès\, Barcelona\, 08290\, Spain
CATEGORIES:Events
ORGANIZER;CN="Afocer":MAILTO:activitats@afocer.cat
END:VEVENT
BEGIN:VEVENT
DTSTART;TZID=Europe/Madrid:20260206T183000
DTEND;TZID=Europe/Madrid:20260206T193000
DTSTAMP:20260424T102607
CREATED:20260109T152028Z
LAST-MODIFIED:20260122T103802Z
UID:58016-1770402600-1770406200@afocer.cat
SUMMARY:Inauguració exposició 50è concurs Aplec de Sant Iscle i 41è Pere Viltró 2025
DESCRIPTION:Inauguració exposició concurs Aplec de Sant Iscle i Pere Viltró 2025\nSala Elisa Arimany – Biblioteca Central de Cerdanyola\nDivendres 6 de febrer a les 18:30
URL:https://afocer.cat/event/inauguracio-exposicio-concurs-aplec-de-sant-iscle-i-pere-viltro-2025/
LOCATION:Sala Elisa Arimany – Biblioteca central de Cerdanyola\, Plaça Enric Granados 1\, Cerdanyola del Vallès\, Barcelona\, 08290\, Spain
CATEGORIES:Events,Exposicions
ORGANIZER;CN="Afocer exposicions":MAILTO:exposicions@afocer.cat
END:VEVENT
BEGIN:VEVENT
DTSTART;TZID=Europe/Madrid:20260205T190000
DTEND;TZID=Europe/Madrid:20260205T203000
DTSTAMP:20260424T102607
CREATED:20251120T150649Z
LAST-MODIFIED:20251120T215001Z
UID:57764-1770318000-1770323400@afocer.cat
SUMMARY:Veredicte concurs social digital i tema obligatori de febrer
DESCRIPTION:Veredicte concurs social digital i tema obligat de febrer\nAteneu de Cerdanyola – 19:00\nData límit presentació obres: 31 de gener\ntema obligatori: Nadal
URL:https://afocer.cat/event/veredicte-concurs-digital-i-tema-obligatori-de-febrer/
LOCATION:Ateneu de Cerdanyola\, Indústria 38-40\, Cerdanyola del Vallès\, Barcelona\, 08290\, Spain
CATEGORIES:Concursos,Events
ORGANIZER;CN="Afocer concurs digital":MAILTO:socialdigital@afocer.cat
END:VEVENT
BEGIN:VEVENT
DTSTART;TZID=Europe/Madrid:20260131T190000
DTEND;TZID=Europe/Madrid:20260131T203000
DTSTAMP:20260424T102607
CREATED:20260111T080351Z
LAST-MODIFIED:20260111T080351Z
UID:58026-1769886000-1769891400@afocer.cat
SUMMARY:Inauguració exposició Aotearoa de Josep Maria Oliver
DESCRIPTION:Inauguració exposició Aotearoa de Josep Maria Oliver\nLocal social – Ateneu de Cerdanyola\nDissabte 31 de gener a les 19:00
URL:https://afocer.cat/event/inauguracio-exposicio-aotearoa-de-josep-maria-oliver/
LOCATION:Ateneu de Cerdanyola\, Indústria 38-40\, Cerdanyola del Vallès\, Barcelona\, 08290\, Spain
CATEGORIES:Events,Exposicions
ORGANIZER;CN="Afocer concurs digital":MAILTO:socialdigital@afocer.cat
END:VEVENT
BEGIN:VEVENT
DTSTART;TZID=Europe/Madrid:20260131T173000
DTEND;TZID=Europe/Madrid:20260131T190000
DTSTAMP:20260424T102607
CREATED:20251119T212659Z
LAST-MODIFIED:20251119T212715Z
UID:57758-1769880600-1769886000@afocer.cat
SUMMARY:Veredicte concurs social color i monocrom de gener
DESCRIPTION:Veredicte concurs social color i monocrom de gener\nAteneu de Cerdanyola – 17:30\nData límit presentació obres: 29 de gener
URL:https://afocer.cat/event/veredicte-concurs-social-color-i-monocrom-de-gener-4/
LOCATION:Ateneu de Cerdanyola\, Indústria 38-40\, Cerdanyola del Vallès\, Barcelona\, 08290\, Spain
CATEGORIES:Concursos,Events
ORGANIZER;CN="Afocer concurs paper":MAILTO:socialpaper@afocer.cat
END:VEVENT
BEGIN:VEVENT
DTSTART;VALUE=DATE:20260131
DTEND;VALUE=DATE:20260228
DTSTAMP:20260424T102607
CREATED:20260111T080148Z
LAST-MODIFIED:20260111T080156Z
UID:58024-1769817600-1772236799@afocer.cat
SUMMARY:Exposició Aotearoa de Josep Maria Oliver
DESCRIPTION:Exposició Aotearoa\, Imatges de Nova Zelanda de Josep Maria Oliver\nLocal social – Ateneu de Cerdanyola\nDel 31 de gener al 27 de febrer
URL:https://afocer.cat/event/exposicio-aotearoa-de-josep-maria-oliver/
LOCATION:Ateneu de Cerdanyola\, Indústria 38-40\, Cerdanyola del Vallès\, Barcelona\, 08290\, Spain
CATEGORIES:Exposicions
ORGANIZER;CN="Afocer concurs digital":MAILTO:socialdigital@afocer.cat
END:VEVENT
BEGIN:VEVENT
DTSTART;TZID=Europe/Madrid:20260129T190000
DTEND;TZID=Europe/Madrid:20260129T200000
DTSTAMP:20260424T102607
CREATED:20260109T152417Z
LAST-MODIFIED:20260109T152417Z
UID:58018-1769713200-1769716800@afocer.cat
SUMMARY:Veredicte IV concurs Tres Tombs de Cerdanyola 2026
DESCRIPTION:Veredicte IV concurs Tres Tombs de Cerdanyola 2026\nLocal social – Ateneu de Cerdanyola\nDijous 29 de gener de 2026 – 19:00
URL:https://afocer.cat/event/veredicte-iv-concurs-tres-tombs-de-cerdanyola-2026/
LOCATION:Ateneu de Cerdanyola\, Indústria 38-40\, Cerdanyola del Vallès\, Barcelona\, 08290\, Spain
CATEGORIES:Concursos,Events
ORGANIZER;CN="Afocer concursos":MAILTO:concursos@afocer.cat
END:VEVENT
BEGIN:VEVENT
DTSTART;VALUE=DATE:20260126
DTEND;VALUE=DATE:20260301
DTSTAMP:20260424T102607
CREATED:20260109T151800Z
LAST-MODIFIED:20260122T103638Z
UID:58014-1769385600-1772323199@afocer.cat
SUMMARY:Exposició concurs Aplec de Sant Iscle i Pere Viltró 2025
DESCRIPTION:Exposició concurs 50è Aplec de Sant Iscle i 41è Pere Viltró 2025\nSala Elisa Arimany – Biblioteca Central de Cerdanyola\ndel 26 de gener al 28 de febrer de 2026
URL:https://afocer.cat/event/exposicio-concurs-aplec-de-sant-iscle-i-pere-viltro-2025/
LOCATION:Sala Elisa Arimany – Biblioteca central de Cerdanyola\, Plaça Enric Granados 1\, Cerdanyola del Vallès\, Barcelona\, 08290\, Spain
CATEGORIES:Exposicions
ORGANIZER;CN="Afocer exposicions":MAILTO:exposicions@afocer.cat
END:VEVENT
BEGIN:VEVENT
DTSTART;TZID=Europe/Madrid:20260123T183000
DTEND;TZID=Europe/Madrid:20260123T193000
DTSTAMP:20260424T102607
CREATED:20260107T063134Z
LAST-MODIFIED:20260112T145536Z
UID:58012-1769193000-1769196600@afocer.cat
SUMMARY:Inauguració exposició col·lectiva Romeria Fuente de Cantos
DESCRIPTION:Inauguració exposició col·lectiva Romeria Fuente de Cantos\nCentre Cultural de Ripollet\nDivendres 23 de gener a les 18:30
URL:https://afocer.cat/event/inauguracio-exposicio-col%c2%b7lectiva-romeria-fuente-de-cantos/
LOCATION:Centre cultural de Ripollet\, Rambla Sant Jordi 2-4\, Ripollet\, Barcelona\, Spain
CATEGORIES:Events,Exposicions
ORGANIZER;CN="Afocer exposicions":MAILTO:exposicions@afocer.cat
END:VEVENT
BEGIN:VEVENT
DTSTART;VALUE=DATE:20260119
DTEND;VALUE=DATE:20260216
DTSTAMP:20260424T102607
CREATED:20251130T150635Z
LAST-MODIFIED:20260112T145457Z
UID:57850-1768780800-1771199999@afocer.cat
SUMMARY:Exposició Romería Fuente de Cantos
DESCRIPTION:Exposició col·lectiva Romería Fuente de Cantos\nSala d’Art – Centre Cultural de Ripollet\nDel 19 de gener al 15 de febrer de 2026
URL:https://afocer.cat/event/exposicio-romeria-fuente-de-cantos/
LOCATION:Centre cultural de Ripollet\, Rambla Sant Jordi 2-4\, Ripollet\, Barcelona\, Spain
CATEGORIES:Exposicions
ORGANIZER;CN="Afocer exposicions":MAILTO:exposicions@afocer.cat
END:VEVENT
BEGIN:VEVENT
DTSTART;TZID=Europe/Madrid:20260115T190000
DTEND;TZID=Europe/Madrid:20260115T203000
DTSTAMP:20260424T102607
CREATED:20251119T212336Z
LAST-MODIFIED:20251120T214911Z
UID:57753-1768503600-1768509000@afocer.cat
SUMMARY:Veredicte concurs social digital i tema obligatori de gener
DESCRIPTION:Veredicte concurs social digital i tema obligat de gener\nAteneu de Cerdanyola – 19:00\nData límit presentació obres: 10 de gener\ntema obligatori: Aparadors
URL:https://afocer.cat/event/veredicte-concurs-social-digital-i-tema-obligat-de-gener-3/
LOCATION:Ateneu de Cerdanyola\, Indústria 38-40\, Cerdanyola del Vallès\, Barcelona\, 08290\, Spain
CATEGORIES:Concursos,Events
ORGANIZER;CN="Afocer concurs digital":MAILTO:socialdigital@afocer.cat
END:VEVENT
BEGIN:VEVENT
DTSTART;VALUE=DATE:20260110
DTEND;VALUE=DATE:20260112
DTSTAMP:20260424T102607
CREATED:20260101T081633Z
LAST-MODIFIED:20260110T205700Z
UID:57984-1768003200-1768175999@afocer.cat
SUMMARY:Tres tombs 2026 Cerdanyola
DESCRIPTION:Tres tombs 2026 Cerdanyola\n10 i 11 de gener de 2026\nINFORMACIÓ\nPROGRAMA\nBASES CONNCURS FOTOGRAFIA
URL:https://afocer.cat/event/tres-tombs-2026-cerdanyola/
LOCATION:Barcelona
CATEGORIES:Activitats,Concursos,Events
ORGANIZER;CN="Afocer concursos":MAILTO:concursos@afocer.cat
END:VEVENT
BEGIN:VEVENT
DTSTART;VALUE=DATE:20260101
DTEND;VALUE=DATE:20260201
DTSTAMP:20260424T102607
CREATED:20251215T071225Z
LAST-MODIFIED:20251215T071225Z
UID:57927-1767225600-1769903999@afocer.cat
SUMMARY:Exposició Ballem al Casal Barri Prosperitat
DESCRIPTION:Exposició col·lectiva «Ballem !!»\nCasal del Barri de la Prosperitat\nPlaça Àngel Pestaña\, 1\, Nou Barris\, BCN\nDel 1 al 31 de gener de 2026
URL:https://afocer.cat/event/exposicio-ballem-al-casal-barri-prosperitat/
LOCATION:Barcelona
CATEGORIES:Exposicions
ORGANIZER;CN="Afocer comissariat":MAILTO:comissariat@afocer.cat
END:VEVENT
BEGIN:VEVENT
DTSTART;TZID=Europe/Madrid:20251220T110000
DTEND;TZID=Europe/Madrid:20251220T180000
DTSTAMP:20260424T102607
CREATED:20251110T075527Z
LAST-MODIFIED:20251110T075527Z
UID:57551-1766228400-1766253600@afocer.cat
SUMMARY:Veredicte concurs Pere Viltró 2025
DESCRIPTION:Veredicte concurs Pere Viltró 2025\nAteneu de Cerdanyola\nDissabte 20 de desembre a les 11:00
URL:https://afocer.cat/event/veredicte-concurs-pere-viltro-2025/
LOCATION:Ateneu de Cerdanyola\, Indústria 38-40\, Cerdanyola del Vallès\, Barcelona\, 08290\, Spain
CATEGORIES:Concursos,Events
ORGANIZER;CN="Afocer concurs paper":MAILTO:socialpaper@afocer.cat
END:VEVENT
BEGIN:VEVENT
DTSTART;TZID=Europe/Madrid:20251218T183000
DTEND;TZID=Europe/Madrid:20251218T203000
DTSTAMP:20260424T102607
CREATED:20251213T212500Z
LAST-MODIFIED:20251213T212500Z
UID:57909-1766082600-1766089800@afocer.cat
SUMMARY:Celebració del Nadal i presentació del projecte Cromàtica
DESCRIPTION:Celebració del Nadal i presentació del projecte Cromàtica a càrrec de Pere López i Eva Campos\nMitjançant la fotografia i el vídeo\, Cromàtica proposa un viatge visual i emocional per la dansa contemporània a través de quatre ballarines i quatre colors: blau\, vermell\, groc i lila.\nUs convidem a portar\, per compartir entre totes i tots\, torrons\, cava\, neules\, polvorons\, mantecades\, quelcom per picar o allò que més us agradi. Podrem gaudir d’una bona estona entre fotografies\, vídeos i saborosos productes nadalencs.\nLocal social – Ateneu de Cerdanyola\nDijous 18 de desembre a les 18:30
URL:https://afocer.cat/event/celebracio-del-nadal-i-presentacio-del-projecte-cromatica/
LOCATION:Ateneu de Cerdanyola\, Indústria 38-40\, Cerdanyola del Vallès\, Barcelona\, 08290\, Spain
CATEGORIES:Activitats,Events
ORGANIZER;CN="Afocer":MAILTO:activitats@afocer.cat
END:VEVENT
BEGIN:VEVENT
DTSTART;TZID=Europe/Madrid:20251213T183000
DTEND;TZID=Europe/Madrid:20251213T200000
DTSTAMP:20260424T102607
CREATED:20251103T103644Z
LAST-MODIFIED:20251117T094645Z
UID:57545-1765650600-1765656000@afocer.cat
SUMMARY:Veredicte 50è concurs Aplec de Sant Iscle
DESCRIPTION:Veredicte 50è concurs Aplec de Sant Iscle\nData límit presentació obres: 3 de desembre\nDissabte 13 de desembre a les 18:30
URL:https://afocer.cat/event/veredicte-50e-concurs-aplec-de-sant-iscle/
LOCATION:Ateneu de Cerdanyola\, Indústria 38-40\, Cerdanyola del Vallès\, Barcelona\, 08290\, Spain
CATEGORIES:Concursos,Events
ORGANIZER;CN="Afocer concursos":MAILTO:concursos@afocer.cat
END:VEVENT
BEGIN:VEVENT
DTSTART;TZID=Europe/Madrid:20251129T190000
DTEND;TZID=Europe/Madrid:20251129T210000
DTSTAMP:20260424T102607
CREATED:20251121T214001Z
LAST-MODIFIED:20251123T211104Z
UID:57820-1764442800-1764450000@afocer.cat
SUMMARY:Inauguració exposició Fotografies en clau de sol de Pere López al local social
DESCRIPTION:Inauguració exposició Fotografies en clau de sol de Pere López al local social\nLocal social – Ateneu de Cerdanyola\nDissabte 29 de novembre a les 19:00
URL:https://afocer.cat/event/inauguracio-exposicio-de-pere-lopez-al-local-social/
LOCATION:Ateneu de Cerdanyola\, Indústria 38-40\, Cerdanyola del Vallès\, Barcelona\, 08290\, Spain
CATEGORIES:Events,Exposicions
ORGANIZER;CN="Afocer concurs digital":MAILTO:socialdigital@afocer.cat
END:VEVENT
BEGIN:VEVENT
DTSTART;TZID=Europe/Madrid:20251129T173000
DTEND;TZID=Europe/Madrid:20251129T190000
DTSTAMP:20260424T102607
CREATED:20241225T081247Z
LAST-MODIFIED:20241225T081248Z
UID:52330-1764437400-1764442800@afocer.cat
SUMMARY:Veredicto concurso social color y monocromo de noviembre
DESCRIPTION:Veredicto concurso social color y monocromo de noviembre\nAteneu de Cerdanyola\nFecha límite presentación obras: 27 de noviembre
URL:https://afocer.cat/event/veredicto-concurso-social-color-y-monocromo-de-noviembre/
LOCATION:Ateneu de Cerdanyola\, Indústria 38-40\, Cerdanyola del Vallès\, Barcelona\, 08290\, Spain
ORGANIZER;CN="Afocer concurs paper":MAILTO:socialpaper@afocer.cat
END:VEVENT
BEGIN:VEVENT
DTSTART;TZID=Europe/Madrid:20251129T173000
DTEND;TZID=Europe/Madrid:20251129T190000
DTSTAMP:20260424T102607
CREATED:20241225T075127Z
LAST-MODIFIED:20241225T075127Z
UID:52283-1764437400-1764442800@afocer.cat
SUMMARY:Veredicte concurs social color i monocrom de novembre
DESCRIPTION:Veredicte concurs social color i monocrom de novembre\nAteneu de Cerdanyola – 17:30\nData límit presentació obres: 27 de novembre
URL:https://afocer.cat/event/veredicte-concurs-social-color-i-monocrom-de-novembre-3/
LOCATION:Ateneu de Cerdanyola\, Indústria 38-40\, Cerdanyola del Vallès\, Barcelona\, 08290\, Spain
CATEGORIES:Concursos,Events
ORGANIZER;CN="Afocer concurs paper":MAILTO:socialpaper@afocer.cat
END:VEVENT
BEGIN:VEVENT
DTSTART;VALUE=DATE:20251129
DTEND;VALUE=DATE:20260131
DTSTAMP:20260424T102607
CREATED:20251123T211359Z
LAST-MODIFIED:20251123T211359Z
UID:57826-1764374400-1769817599@afocer.cat
SUMMARY:Exposició Fotografies en clau de sol de Pere López al local social
DESCRIPTION:Exposició Fotografies en clau de sol de Pere López\nLocal social – Ateneu de Cerdanyola\nDel 29 de novembre al 30 de gener de 2026
URL:https://afocer.cat/event/exposicio-fotografies-en-clau-de-sol-de-pere-lopez-al-local-social/
LOCATION:Ateneu de Cerdanyola\, Indústria 38-40\, Cerdanyola del Vallès\, Barcelona\, 08290\, Spain
CATEGORIES:Exposicions
ORGANIZER;CN="Afocer concurs digital":MAILTO:socialdigital@afocer.cat
END:VEVENT
BEGIN:VEVENT
DTSTART;TZID=Europe/Madrid:20251127T190000
DTEND;TZID=Europe/Madrid:20251127T200000
DTSTAMP:20260424T102607
CREATED:20251121T170718Z
LAST-MODIFIED:20251121T170718Z
UID:57818-1764270000-1764273600@afocer.cat
SUMMARY:Nicolás Roselló ens presenta el seu llibre Sea la luz
DESCRIPTION:Nicolás Roselló ens presenta el seu llibre Sea la luz\nLocal social – Ateneu de Cerdanyola\nDijous 27 de novembre a les 19:0\nEl fotògraf Nicolás Roselló (@nicorosellophoto)\nEns presentarà el seu llibre “Sea la Luz” “\, un recull de totes les fotografies que ha anat capturant de Barcelona des del 2016. En aquest projecte combina el seu entusiasme per la fotografia\, i la seva tècnica\, amb el coneixement filosòfic; una part personal d’en Nico molt important en la captura de les seves imatges.
URL:https://afocer.cat/event/nicolas-rosello-ens-presenta-el-seu-llibre-sea-la-luz/
LOCATION:Ateneu de Cerdanyola\, Indústria 38-40\, Cerdanyola del Vallès\, Barcelona\, 08290\, Spain
CATEGORIES:Activitats,Events
ORGANIZER;CN="Afocer formaci%C3%B3":MAILTO:formacio@afocer.cat
END:VEVENT
BEGIN:VEVENT
DTSTART;VALUE=DATE:20251122
DTEND;VALUE=DATE:20251216
DTSTAMP:20260424T102607
CREATED:20251110T081650Z
LAST-MODIFIED:20251110T081650Z
UID:57562-1763769600-1765843199@afocer.cat
SUMMARY:Exposició Albert Pueyo\, 50 tecles i un objectiu
DESCRIPTION:Exposició Albert Pueyo\, 50 tecles i un objectiu\nAteneu de Cerdanyola \ndel 22 de novembre al 15 de desembre
URL:https://afocer.cat/event/exposicio-albert-pueyo-50-tecles-i-un-objectiu/
LOCATION:Ateneu de Cerdanyola\, Indústria 38-40\, Cerdanyola del Vallès\, Barcelona\, 08290\, Spain
CATEGORIES:Exposicions
ORGANIZER;CN="Afocer":MAILTO:activitats@afocer.cat
END:VEVENT
BEGIN:VEVENT
DTSTART;VALUE=DATE:20251120
DTEND;VALUE=DATE:20251228
DTSTAMP:20260424T102607
CREATED:20251114T110017Z
LAST-MODIFIED:20251116T053237Z
UID:57683-1763596800-1766879999@afocer.cat
SUMMARY:Exposició DONES al Centre Cívic Can Cuiàs
DESCRIPTION:Exposició D.O.N.E.S. al Centre Cívic Can Cuiàs\nCarrer Geranis\, S/N – Montcada i Reixac\nDel 20 de novembre al 27 de desembre
URL:https://afocer.cat/event/exposicio-dones-al-centre-civic-can-cuias-2/
LOCATION:Barcelona
CATEGORIES:Exposicions
ORGANIZER;CN="Afocer comissariat":MAILTO:comissariat@afocer.cat
END:VEVENT
END:VCALENDAR