BEGIN:VCALENDAR
VERSION:2.0
PRODID:-//AFOCER - ECPv6.15.20//NONSGML v1.0//EN
CALSCALE:GREGORIAN
METHOD:PUBLISH
X-WR-CALNAME:AFOCER
X-ORIGINAL-URL:https://afocer.cat
X-WR-CALDESC:Eventos para AFOCER
REFRESH-INTERVAL;VALUE=DURATION:PT1H
X-Robots-Tag:noindex
X-PUBLISHED-TTL:PT1H
BEGIN:VTIMEZONE
TZID:Europe/Madrid
BEGIN:DAYLIGHT
TZOFFSETFROM:+0100
TZOFFSETTO:+0200
TZNAME:CEST
DTSTART:20240331T010000
END:DAYLIGHT
BEGIN:STANDARD
TZOFFSETFROM:+0200
TZOFFSETTO:+0100
TZNAME:CET
DTSTART:20241027T010000
END:STANDARD
BEGIN:DAYLIGHT
TZOFFSETFROM:+0100
TZOFFSETTO:+0200
TZNAME:CEST
DTSTART:20250330T010000
END:DAYLIGHT
BEGIN:STANDARD
TZOFFSETFROM:+0200
TZOFFSETTO:+0100
TZNAME:CET
DTSTART:20251026T010000
END:STANDARD
BEGIN:DAYLIGHT
TZOFFSETFROM:+0100
TZOFFSETTO:+0200
TZNAME:CEST
DTSTART:20260329T010000
END:DAYLIGHT
BEGIN:STANDARD
TZOFFSETFROM:+0200
TZOFFSETTO:+0100
TZNAME:CET
DTSTART:20261025T010000
END:STANDARD
END:VTIMEZONE
BEGIN:VEVENT
DTSTART;TZID=Europe/Madrid:20250403T180000
DTEND;TZID=Europe/Madrid:20250403T200000
DTSTAMP:20260426T060214
CREATED:20250316T083105Z
LAST-MODIFIED:20250316T083409Z
UID:54037-1743703200-1743710400@afocer.cat
SUMMARY:Taller de fotomuntatge creatiu amb Sergio Tello
DESCRIPTION:Taller de fotomuntatge creatiu amb Sergio Tello\nSala formació AFR\, Centre Cultural de Ripollet\nInici 3 d’abril\, durada 3 mesos – 50€/mes\nDijous de 18:00 a 20:00 (12 sessions)\nOrganitza AFR\, 3 places per socis/es Afocer\nInformació i inscripcions formacioafr@gmail.com
URL:https://afocer.cat/event/taller-de-fotomuntatge-creatiu-amb-sergio-tello/
LOCATION:Centre cultural de Ripollet\, Rambla Sant Jordi 2-4\, Ripollet\, Barcelona\, Spain
CATEGORIES:Curs,Formació
ORGANIZER;CN="Afocer formaci%C3%B3":MAILTO:formacio@afocer.cat
END:VEVENT
BEGIN:VEVENT
DTSTART;VALUE=DATE:20250401
DTEND;VALUE=DATE:20250601
DTSTAMP:20260426T060214
CREATED:20250316T055902Z
LAST-MODIFIED:20250316T055904Z
UID:54022-1743465600-1748735999@afocer.cat
SUMMARY:Exposición Ballem en la hemeroteca de la UAB
DESCRIPTION:Exposición colectiva Ballem !!\nBiblioteca comunicación y hemeroteca General UAB\ndel 1 de abril al 31 de mayo de 2025
URL:https://afocer.cat/event/exposicion-ballem-en-la-hemeroteca-de-la-uab/
LOCATION:Biblioteca comunicació UAB\, Edifici N Campus\, Edifici N\, Plaça Cívica\, s/n\, Cerdanyola del Vallès\, Barcelona\, 08193\, Spain
ORGANIZER;CN="Afocer comissariat":MAILTO:comissariat@afocer.cat
END:VEVENT
BEGIN:VEVENT
DTSTART;VALUE=DATE:20250401
DTEND;VALUE=DATE:20250601
DTSTAMP:20260426T060214
CREATED:20250316T055733Z
LAST-MODIFIED:20250316T055733Z
UID:54020-1743465600-1748735999@afocer.cat
SUMMARY:Exposició Ballem a la hemeroteca de la UAB
DESCRIPTION:Exposició col·lectiva Ballem !!\nBiblioteca comunicació i hemeroteca General UAB\ndel 1 d’abril al 31 de maig de 2025
URL:https://afocer.cat/event/exposicio-ballem-a-la-hemeroteca-de-la-uab/
LOCATION:Biblioteca comunicació UAB\, Edifici N Campus\, Edifici N\, Plaça Cívica\, s/n\, Cerdanyola del Vallès\, Barcelona\, 08193\, Spain
CATEGORIES:Exposicions
ORGANIZER;CN="Afocer comissariat":MAILTO:comissariat@afocer.cat
END:VEVENT
BEGIN:VEVENT
DTSTART;TZID=Europe/Madrid:20250329T190000
DTEND;TZID=Europe/Madrid:20250329T210000
DTSTAMP:20260426T060214
CREATED:20250128T161237Z
LAST-MODIFIED:20250327T184924Z
UID:53050-1743274800-1743282000@afocer.cat
SUMMARY:Inauguración exposición de Luis Fonseca en el local social
DESCRIPTION:Inauguración exposición «Vietnam: Pais de agua» de Luis Fonseca\nLocal social – Ateneu de Cerdanyola\nSábado 29 de marzo las 19:00
URL:https://afocer.cat/event/inauguracion-exposicion-de-luis-fonseca-en-el-local-social/
LOCATION:Ateneu de Cerdanyola\, Indústria 38-40\, Cerdanyola del Vallès\, Barcelona\, 08290\, Spain
ORGANIZER;CN="Afocer concurs digital":MAILTO:socialdigital@afocer.cat
END:VEVENT
BEGIN:VEVENT
DTSTART;TZID=Europe/Madrid:20250329T190000
DTEND;TZID=Europe/Madrid:20250329T210000
DTSTAMP:20260426T060214
CREATED:20250128T161057Z
LAST-MODIFIED:20250327T184846Z
UID:53048-1743274800-1743282000@afocer.cat
SUMMARY:Inauguració exposició de Luis Fonseca al local social
DESCRIPTION:Inauguració exposició «Vietnam: Pais de agua» de Luis Fonseca\nLocal social – Ateneu de Cerdanyola\nDissabte 29 de març les 19:00
URL:https://afocer.cat/event/inauguracio-exposicio-de-luis-fonseca-al-local-social/
LOCATION:Ateneu de Cerdanyola\, Indústria 38-40\, Cerdanyola del Vallès\, Barcelona\, 08290\, Spain
CATEGORIES:Events,Exposicions
ORGANIZER;CN="Afocer concurs digital":MAILTO:socialdigital@afocer.cat
END:VEVENT
BEGIN:VEVENT
DTSTART;TZID=Europe/Madrid:20250329T173000
DTEND;TZID=Europe/Madrid:20250329T190000
DTSTAMP:20260426T060214
CREATED:20241225T080542Z
LAST-MODIFIED:20241225T080542Z
UID:52312-1743269400-1743274800@afocer.cat
SUMMARY:Veredicto concursos social color y monocromo de marzo
DESCRIPTION:Veredicto concurso social color y monocromo de marzo\nAteneu de Cerdanyola\nFecha límite presentación obras: 27 de marzo
URL:https://afocer.cat/event/veredicto-concursos-social-color-y-monocromo-de-marzo/
LOCATION:Ateneu de Cerdanyola\, Indústria 38-40\, Cerdanyola del Vallès\, Barcelona\, 08290\, Spain
ORGANIZER;CN="Afocer concurs paper":MAILTO:socialpaper@afocer.cat
END:VEVENT
BEGIN:VEVENT
DTSTART;TZID=Europe/Madrid:20250329T173000
DTEND;TZID=Europe/Madrid:20250329T190000
DTSTAMP:20260426T060214
CREATED:20241224T185935Z
LAST-MODIFIED:20241224T190647Z
UID:52248-1743269400-1743274800@afocer.cat
SUMMARY:Veredicte concurs social color i monocrom de març
DESCRIPTION:Veredicte concurs social color i monocrom de març\nAteneu de Cerdanyola – 17:30\nData límit presentació obres: 27 de març
URL:https://afocer.cat/event/veredicte-concurs-social-color-i-monocrom-de-marc-3/
LOCATION:Ateneu de Cerdanyola\, Indústria 38-40\, Cerdanyola del Vallès\, Barcelona\, 08290\, Spain
CATEGORIES:Concursos,Events
ORGANIZER;CN="Afocer concurs paper":MAILTO:socialpaper@afocer.cat
END:VEVENT
BEGIN:VEVENT
DTSTART;VALUE=DATE:20250329
DTEND;VALUE=DATE:20250426
DTSTAMP:20260426T060214
CREATED:20250327T185210Z
LAST-MODIFIED:20250327T185341Z
UID:54268-1743206400-1745625599@afocer.cat
SUMMARY:Exposició Vietnam\, Pais de agua de Luis Fonseca al local social
DESCRIPTION:Exposició «Vietnam: Pais de agua» de Luis Fonseca\nLocal social – Ateneu de Cerdanyola \nDel 29 de març al 26 d’abril de 2025
URL:https://afocer.cat/event/exposicio-vietnam-pais-de-agua-de-luis-fonseca-al-local-social/
LOCATION:Ateneu de Cerdanyola\, Indústria 38-40\, Cerdanyola del Vallès\, Barcelona\, 08290\, Spain
CATEGORIES:Exposicions
ORGANIZER;CN="Afocer concurs digital":MAILTO:socialdigital@afocer.cat
END:VEVENT
BEGIN:VEVENT
DTSTART;TZID=Europe/Madrid:20250327T193000
DTEND;TZID=Europe/Madrid:20250327T210000
DTSTAMP:20260426T060214
CREATED:20250305T143701Z
LAST-MODIFIED:20250305T143702Z
UID:53981-1743103800-1743109200@afocer.cat
SUMMARY:Conferencia online CurArte de Tino Soriano
DESCRIPTION:Conferencia online CurArte de Tino Soriano\nLocal social Afocer – Ateneu de Cerdanyola – 19:30\nJueves 27 de marzo a las 19:30\nConferencia a las 20:00
URL:https://afocer.cat/event/conferencia-online-curarte-de-tino-soriano/
LOCATION:Ateneu de Cerdanyola\, Indústria 38-40\, Cerdanyola del Vallès\, Barcelona\, 08290\, Spain
ORGANIZER;CN="Afocer":MAILTO:activitats@afocer.cat
END:VEVENT
BEGIN:VEVENT
DTSTART;TZID=Europe/Madrid:20250327T193000
DTEND;TZID=Europe/Madrid:20250327T210000
DTSTAMP:20260426T060214
CREATED:20250305T143538Z
LAST-MODIFIED:20250305T143538Z
UID:53979-1743103800-1743109200@afocer.cat
SUMMARY:Conferència online CurArte de Tino Soriano
DESCRIPTION:Conferència online CurArte de Tino Soriano\nLocal social Afocer – Ateneu de Cerdanyola – 19:30\nDijous 27 de març a les 19:30\nConferència a les 20:00
URL:https://afocer.cat/event/conferencia-online-curarte-de-tino-soriano/
LOCATION:Ateneu de Cerdanyola\, Indústria 38-40\, Cerdanyola del Vallès\, Barcelona\, 08290\, Spain
CATEGORIES:Activitats,Events
ORGANIZER;CN="Afocer":MAILTO:activitats@afocer.cat
END:VEVENT
BEGIN:VEVENT
DTSTART;TZID=Europe/Madrid:20250322T100000
DTEND;TZID=Europe/Madrid:20250322T200000
DTSTAMP:20260426T060214
CREATED:20250210T184840Z
LAST-MODIFIED:20250210T184841Z
UID:53539-1742637600-1742673600@afocer.cat
SUMMARY:Taller de retrato en blanco y negro con Tino Guijarro
DESCRIPTION:Taller de retrato en blanco y negro impartido por Tino Guijarro compañero de Afosants.\nEste taller está organizado conjuntamente con AFR y se realizará en el salón de actos del\nCentro Cultural de Ripollet.\nFecha : 22.03.25  Horario : 10:00 ha 13:30 h\nSesión con modelo**\, donde Tino nos explicará diferentes esquemas de iluminación y cómo dirigir a una modelo.\nHace falta cámara reflejo.\nFecha: 22.03.25  Horario: 17:00h a 20:00h\nTino nos explicará su flujo de trabajo en la edición de fotografías de retrato en blanco y negro.\nMáximo 7 plazas para los socios de AFOCER\nPrecio: 30 € por asistente\, a pagar directamente el día del taller al Tino.\nEs necesaria inscripción previa en el correo: formacio@afocer.cat\, indicando nombre\, apellidos y número de socio.\nFecha límite de inscripción: 23 de febrero
URL:https://afocer.cat/event/taller-de-retrato-en-blanco-y-negro-con-tino-guijarro/
LOCATION:Centre cultural de Ripollet\, Rambla Sant Jordi 2-4\, Ripollet\, Barcelona\, Spain
ORGANIZER;CN="Afocer formaci%C3%B3":MAILTO:formacio@afocer.cat
END:VEVENT
BEGIN:VEVENT
DTSTART;TZID=Europe/Madrid:20250322T100000
DTEND;TZID=Europe/Madrid:20250322T200000
DTSTAMP:20260426T060214
CREATED:20250210T184708Z
LAST-MODIFIED:20250210T184857Z
UID:53537-1742637600-1742673600@afocer.cat
SUMMARY:Taller de retrat en blanc i negre amb Tino Guijarro
DESCRIPTION:Taller de retrat en blanc i negre   impartit per Tino Guijarro  company d’Afosants .\nAquest taller està organitzat conjuntament amb AFR i es realitzarà a la sala d´actes del\nCentre Cultural de Ripollet.\nDate : 22.03.25  Horari : 10:00 h a 13:30 h\nSessió amb model** \, on Tino ens explicarà diferents esquemes d’il·luminació i com dirigir a una model .\n Cal càmera reflex .\nDate : 22.03.25  Horari : 17:00h a  20:00h\nTino ens explicarà el seu flux de treball a l’edició de fotografies de retrat  en blanc i negre .\nMàxim  7 places per els socis d´AFOCER\nPreu : 30 € per assistent \, a pagar directament el  dia del taller al Tino .\nCal inscripció prèvia al correu : formacio@afocer.cat \, indicant  nom\,  cognoms i número de  soci .\nData límit d´inscripció :  23  de febrer
URL:https://afocer.cat/event/taller-de-retrat-en-blanc-i-negre-amb-tino-guijarro/
LOCATION:Centre cultural de Ripollet\, Rambla Sant Jordi 2-4\, Ripollet\, Barcelona\, Spain
CATEGORIES:Formació,Taller
ORGANIZER;CN="Afocer formaci%C3%B3":MAILTO:formacio@afocer.cat
END:VEVENT
BEGIN:VEVENT
DTSTART;TZID=Europe/Madrid:20250320T183000
DTEND;TZID=Europe/Madrid:20250320T200000
DTSTAMP:20260426T060214
CREATED:20250316T065013Z
LAST-MODIFIED:20250316T065014Z
UID:54030-1742495400-1742500800@afocer.cat
SUMMARY:Taller de fotografia panorámica
DESCRIPTION:Taller de fotografia panoràmia\n«Introducción: Presentación de fotografías panorámicas y técnicas»\nJordi Blasco\nLocal social – Ateneu de Cerdanyola \nJueves 20 de marzo a las 18:30
URL:https://afocer.cat/event/taller-de-fotografia-panoramica/
LOCATION:Ateneu de Cerdanyola\, Indústria 38-40\, Cerdanyola del Vallès\, Barcelona\, 08290\, Spain
ORGANIZER;CN="Afocer":MAILTO:activitats@afocer.cat
END:VEVENT
BEGIN:VEVENT
DTSTART;TZID=Europe/Madrid:20250320T183000
DTEND;TZID=Europe/Madrid:20250320T200000
DTSTAMP:20260426T060214
CREATED:20250316T064815Z
LAST-MODIFIED:20250316T065043Z
UID:54028-1742495400-1742500800@afocer.cat
SUMMARY:Taller de Fotografia panoràmica
DESCRIPTION:Taller de fotografia panoràmia\n«Introducció: Presentació de fotografies panoràmiques i tècniques»\namb Jordi Blasco\nLocal social – Ateneu de Cerdanyola \nDijous 20 de març a les 18:30
URL:https://afocer.cat/event/taller-de-fotografia-panoramica/
LOCATION:Ateneu de Cerdanyola\, Indústria 38-40\, Cerdanyola del Vallès\, Barcelona\, 08290\, Spain
CATEGORIES:Formació,Taller
ORGANIZER;CN="Afocer":MAILTO:activitats@afocer.cat
END:VEVENT
BEGIN:VEVENT
DTSTART;TZID=Europe/Madrid:20250315T070000
DTEND;TZID=Europe/Madrid:20250315T180000
DTSTAMP:20260426T060214
CREATED:20250308T210537Z
LAST-MODIFIED:20250308T210538Z
UID:53995-1742022000-1742061600@afocer.cat
SUMMARY:Salida a Aitona
DESCRIPTION:Salida fotográfica a Aitona\nMelocotoneros en flor\nSábado 15 de marzo\nSalida Ateneu de Cerdanyola – 07:00
URL:https://afocer.cat/event/salida-a-aitona/
LOCATION:Barcelona
ORGANIZER;CN="Afocer activitats":MAILTO:activitats@afocer.cat
END:VEVENT
BEGIN:VEVENT
DTSTART;TZID=Europe/Madrid:20250315T070000
DTEND;TZID=Europe/Madrid:20250315T180000
DTSTAMP:20260426T060214
CREATED:20250308T210404Z
LAST-MODIFIED:20250308T210404Z
UID:53993-1742022000-1742061600@afocer.cat
SUMMARY:Sortida a Aitona
DESCRIPTION:Sortida fotogràfica a Aitona\nPresseguers en flor\nDissabte 15 de març\nSortida Ateneu de Cerdanyola – 07:00
URL:https://afocer.cat/event/sortida-a-aitona/
LOCATION:Barcelona
CATEGORIES:Activitats,Sortides
ORGANIZER;CN="Afocer activitats":MAILTO:activitats@afocer.cat
END:VEVENT
BEGIN:VEVENT
DTSTART;TZID=Europe/Madrid:20250313T190000
DTEND;TZID=Europe/Madrid:20250313T200000
DTSTAMP:20260426T060214
CREATED:20250307T162614Z
LAST-MODIFIED:20250307T162614Z
UID:53989-1741892400-1741896000@afocer.cat
SUMMARY:Presentación proyecto "El niño que vendió el mundo" de Dom Fernandez
DESCRIPTION:Nuestro compañero Dom Fernandez nos presentará su  proyecto: “El niño que vendió el mundo”\,\nActualmente hace una campaña de Verkami para intentar publicar su proyecto en formato de fotolibro.Un ensayo sobre la infancia\, el crecimiento y la privacidad.\nJueves 13 de marzo a las 19:30 – Local Social Afocer
URL:https://afocer.cat/event/presentacion-proyecto-el-nino-que-vendio-el-mundo-de-dom-fernandez/
LOCATION:Ateneu de Cerdanyola\, Indústria 38-40\, Cerdanyola del Vallès\, Barcelona\, 08290\, Spain
ORGANIZER;CN="Afocer formaci%C3%B3":MAILTO:formacio@afocer.cat
END:VEVENT
BEGIN:VEVENT
DTSTART;TZID=Europe/Madrid:20250313T190000
DTEND;TZID=Europe/Madrid:20250313T200000
DTSTAMP:20260426T060214
CREATED:20250307T162452Z
LAST-MODIFIED:20250307T162452Z
UID:53987-1741892400-1741896000@afocer.cat
SUMMARY:Presentació projecte "El niño que vendió el mundo" de Dom Fernandez
DESCRIPTION:El nostre company Dom Fernandez ens presentarà el seu  projecte: “El niño que vendió el mundo”\,\nActualment fa una campanya de Verkami  per intentar publicar el seu  projecte en format de fotollibre.  Un assaig sobre la infancia\, el creixement i la privacitat.\nDijous 13 de març a les 19:30 – Local Social Afocer
URL:https://afocer.cat/event/presentacio-projecte-el-nino-que-vendio-el-mundo-de-dom-fernandez/
LOCATION:Ateneu de Cerdanyola\, Indústria 38-40\, Cerdanyola del Vallès\, Barcelona\, 08290\, Spain
CATEGORIES:Activitats,Events
ORGANIZER;CN="Afocer formaci%C3%B3":MAILTO:formacio@afocer.cat
END:VEVENT
BEGIN:VEVENT
DTSTART;TZID=Europe/Madrid:20250306T193000
DTEND;TZID=Europe/Madrid:20250306T210000
DTSTAMP:20260426T060214
CREATED:20241217T182305Z
LAST-MODIFIED:20241225T080039Z
UID:52059-1741289400-1741294800@afocer.cat
SUMMARY:Veredicto concurso social digital/tema obligado de marzo
DESCRIPTION:Veredicto concurso social digital/tema obligado de marzo\nAteneu de Cerdanyola\nFecha límite presentación obras: 1 de marzo
URL:https://afocer.cat/event/veredicto-concurso-social-digital-tema-obligado-de-marzo/
LOCATION:Ateneu de Cerdanyola\, Indústria 38-40\, Cerdanyola del Vallès\, Barcelona\, 08290\, Spain
ORGANIZER;CN="Afocer concurs digital":MAILTO:socialdigital@afocer.cat
END:VEVENT
BEGIN:VEVENT
DTSTART;TZID=Europe/Madrid:20250306T193000
DTEND;TZID=Europe/Madrid:20250306T210000
DTSTAMP:20260426T060214
CREATED:20241217T180416Z
LAST-MODIFIED:20241224T191359Z
UID:51299-1741289400-1741294800@afocer.cat
SUMMARY:Veredicte concurs social digital/tema obligat de març
DESCRIPTION:Veredicte concurs social digital i tema obligat de març\nAteneu de Cerdanyola – 19:30\nData límit presentació obres: 1 de març
URL:https://afocer.cat/event/veredicte-concurs-social-digital-tema-obligat-de-marc-3/
LOCATION:Ateneu de Cerdanyola\, Indústria 38-40\, Cerdanyola del Vallès\, Barcelona\, 08290\, Spain
CATEGORIES:Concursos,Events
ORGANIZER;CN="Afocer concurs digital":MAILTO:socialdigital@afocer.cat
END:VEVENT
BEGIN:VEVENT
DTSTART;TZID=Europe/Madrid:20250302T100000
DTEND;TZID=Europe/Madrid:20250302T133000
DTSTAMP:20260426T060214
CREATED:20250118T180145Z
LAST-MODIFIED:20250118T180146Z
UID:52774-1740909600-1740922200@afocer.cat
SUMMARY:Taller de iluminación avanzado con Santi Bravo
DESCRIPTION:Taller de iluminación avanzado con Santi Bravo\n2 de marzo\n10:00-13:30\nEstudio Ripollet ( Centro Cultural Ripollet )\n18 €
URL:https://afocer.cat/event/taller-de-iluminacion-avanzado-con-santi-bravo/
LOCATION:Centre cultural de Ripollet\, Rambla Sant Jordi 2-4\, Ripollet\, Barcelona\, Spain
ORGANIZER;CN="Afocer formaci%C3%B3":MAILTO:formacio@afocer.cat
END:VEVENT
BEGIN:VEVENT
DTSTART;TZID=Europe/Madrid:20250302T100000
DTEND;TZID=Europe/Madrid:20250302T133000
DTSTAMP:20260426T060214
CREATED:20250118T180013Z
LAST-MODIFIED:20250118T180207Z
UID:52772-1740909600-1740922200@afocer.cat
SUMMARY:Taller de il.luminació avançat amb Santi Bravo
DESCRIPTION:Taller de il.luminació avançat amb Santi Bravo\n2 de març\n10:00-13:30\nEstudi Ripollet ( Centre Cultural Ripollet )\n18 €
URL:https://afocer.cat/event/taller-de-iluminacio-avancat-amb-santi-bravo/
LOCATION:Centre cultural de Ripollet\, Rambla Sant Jordi 2-4\, Ripollet\, Barcelona\, Spain
CATEGORIES:Formació,Taller
ORGANIZER;CN="Afocer formaci%C3%B3":MAILTO:formacio@afocer.cat
END:VEVENT
BEGIN:VEVENT
DTSTART;TZID=Europe/Madrid:20250301T100000
DTEND;TZID=Europe/Madrid:20250301T130000
DTSTAMP:20260426T060214
CREATED:20250215T062700Z
LAST-MODIFIED:20250215T062702Z
UID:53556-1740823200-1740834000@afocer.cat
SUMMARY:Taller de fotografía con el móvil con Toni Marin
DESCRIPTION:Taller de fotografía con el móvil con Toni Marin\nTaller de la UOC – Gratuito\nCentre Cultural de Ripollet\nSábado 1 de marzo por la mañana – 10:00\nINFORMACIÓN
URL:https://afocer.cat/event/taller-de-fotografia-con-el-movil-con-toni-marin/
LOCATION:Centre cultural de Ripollet\, Rambla Sant Jordi 2-4\, Ripollet\, Barcelona\, Spain
ORGANIZER;CN="Afocer formaci%C3%B3":MAILTO:formacio@afocer.cat
END:VEVENT
BEGIN:VEVENT
DTSTART;TZID=Europe/Madrid:20250301T100000
DTEND;TZID=Europe/Madrid:20250301T130000
DTSTAMP:20260426T060215
CREATED:20250215T062453Z
LAST-MODIFIED:20250215T062453Z
UID:53553-1740823200-1740834000@afocer.cat
SUMMARY:Taller de fotografia amb el mòbil amb el Toni Marin
DESCRIPTION:Taller de fotografia amb el mòbil amb el Toni Marin\nTaller de la UOC – Gratuït\nCentre Cultural de Ripollet\nDissabte 1 de març al matí – 10:00\nINFORMACIÓ
URL:https://afocer.cat/event/taller-de-fotografia-amb-el-mobil-amb-el-toni-marin/
LOCATION:Centre cultural de Ripollet\, Rambla Sant Jordi 2-4\, Ripollet\, Barcelona\, Spain
CATEGORIES:Formació,Taller
ORGANIZER;CN="Afocer formaci%C3%B3":MAILTO:formacio@afocer.cat
END:VEVENT
BEGIN:VEVENT
DTSTART;VALUE=DATE:20250301
DTEND;VALUE=DATE:20250401
DTSTAMP:20260426T060215
CREATED:20250217T205255Z
LAST-MODIFIED:20250217T205256Z
UID:53668-1740787200-1743465599@afocer.cat
SUMMARY:Exposición "El niño que vendió el mundo" en la Torre de la Sagrera
DESCRIPTION:Exposición «El niño que vendió el mundo» de Dom Fernández\nTorre de la Sagrera\nBerenguer de Palou 64-66\, Barcelona\ndel 1 al 31 de marzo
URL:https://afocer.cat/event/exposicion-el-nino-que-vendio-el-mundo-en-la-torre-de-la-sagrera/
LOCATION:Barcelona
ORGANIZER;CN="Afocer comissariat":MAILTO:comissariat@afocer.cat
END:VEVENT
BEGIN:VEVENT
DTSTART;VALUE=DATE:20250301
DTEND;VALUE=DATE:20250401
DTSTAMP:20260426T060215
CREATED:20250217T205138Z
LAST-MODIFIED:20250217T205138Z
UID:53666-1740787200-1743465599@afocer.cat
SUMMARY:Exposició "El niño que vendió el mundo" a Torre de la Sagrera
DESCRIPTION:Exposició «El niño que vendió el mundo» de Dom Fernández\nTorre de la Sagrera\nBerenguer de Palou 64-66\, Barcelona\ndel 1 al 31 de març
URL:https://afocer.cat/event/exposicio-el-nino-que-vendio-el-mundo-a-torre-de-la-sagrera/
LOCATION:Barcelona
CATEGORIES:Exposicions
ORGANIZER;CN="Afocer comissariat":MAILTO:comissariat@afocer.cat
END:VEVENT
BEGIN:VEVENT
DTSTART;VALUE=DATE:20250301
DTEND;VALUE=DATE:20250401
DTSTAMP:20260426T060215
CREATED:20250204T155422Z
LAST-MODIFIED:20250204T155423Z
UID:53471-1740787200-1743465599@afocer.cat
SUMMARY:Exposición de fotografías de la 3ª bienal ripollet Image en la biblioteca de Ripollet
DESCRIPTION:Exposición fotografías de la 3ª bienal Ripollet Image\nBiblioteca de Ripollet\nDel 1 al 31 de marzo de 2025
URL:https://afocer.cat/event/exposicion-de-fotografias-de-la-3a-bienal-ripollet-image-en-la-biblioteca-de-ripollet/
LOCATION:Biblioteca de Ripollet\, Carretera de l'Estació 40\, Ripollet\, Barcelona\, 08291\, Spain
ORGANIZER;CN="Afocer exposicions":MAILTO:exposicions@afocer.cat
END:VEVENT
BEGIN:VEVENT
DTSTART;VALUE=DATE:20250301
DTEND;VALUE=DATE:20250401
DTSTAMP:20260426T060215
CREATED:20250204T155254Z
LAST-MODIFIED:20250204T155254Z
UID:53469-1740787200-1743465599@afocer.cat
SUMMARY:Exposició fotografies de la 3ª biennal Ripollet Image a la biblioteca de Ripollet
DESCRIPTION:Exposició fotografies de la 3ª biennal Ripollet Image\nBiblioteca de Ripollet\nDel 1 al 31 de març de 2025
URL:https://afocer.cat/event/exposicio-fotografies-de-la-3a-biennal-ripollet-image-a-la-biblioteca-de-ripollet/
LOCATION:Biblioteca de Ripollet\, Carretera de l'Estació 40\, Ripollet\, Barcelona\, 08291\, Spain
CATEGORIES:Exposicions
ORGANIZER;CN="Afocer exposicions":MAILTO:exposicions@afocer.cat
END:VEVENT
BEGIN:VEVENT
DTSTART;TZID=Europe/Madrid:20250225T190000
DTEND;TZID=Europe/Madrid:20250225T203000
DTSTAMP:20260426T060215
CREATED:20241206T063928Z
LAST-MODIFIED:20241206T063929Z
UID:50792-1740510000-1740515400@afocer.cat
SUMMARY:Taller Nuevas maneras de trabajar con Photoshop y la IA
DESCRIPTION:Nuevas Maneras de trabajar con Photoshop y la IA\n11/02/25 – 18/02/25 – 25/02/25 de 19:00 a 20:30\nPre-inscripción hasta el 22/12/24 en formacio@afocer.cat\nPrecio: 30€
URL:https://afocer.cat/event/taller-nuevas-maneras-de-trabajar-con-photoshop-y-la-ia/
LOCATION:Ateneu de Cerdanyola\, Indústria 38-40\, Cerdanyola del Vallès\, Barcelona\, 08290\, Spain
ORGANIZER;CN="Afocer":MAILTO:activitats@afocer.cat
END:VEVENT
BEGIN:VEVENT
DTSTART;TZID=Europe/Madrid:20250225T190000
DTEND;TZID=Europe/Madrid:20250225T203000
DTSTAMP:20260426T060215
CREATED:20241206T063844Z
LAST-MODIFIED:20241206T063844Z
UID:50790-1740510000-1740515400@afocer.cat
SUMMARY:Taller Noves Maneres de treballar amb Photoshop i la IA
DESCRIPTION:Noves Maneres de treballar amb Photoshop i la IA\n11/02/25 – 18/02/25 – 25/02/25 de 19:00 a 20:30\nPre-inscripció fins a 22/12/24 a formacio@afocer.cat\nPreu: 30€
URL:https://afocer.cat/event/taller-noves-maneres-de-treballar-amb-photoshop-i-la-ia-3/
LOCATION:Ateneu de Cerdanyola\, Indústria 38-40\, Cerdanyola del Vallès\, Barcelona\, 08290\, Spain
CATEGORIES:Formació,Taller
ORGANIZER;CN="Afocer":MAILTO:activitats@afocer.cat
END:VEVENT
END:VCALENDAR