BEGIN:VCALENDAR
VERSION:2.0
PRODID:-//AFOCER - ECPv6.15.20//NONSGML v1.0//EN
CALSCALE:GREGORIAN
METHOD:PUBLISH
X-WR-CALNAME:AFOCER
X-ORIGINAL-URL:https://afocer.cat
X-WR-CALDESC:Eventos para AFOCER
REFRESH-INTERVAL;VALUE=DURATION:PT1H
X-Robots-Tag:noindex
X-PUBLISHED-TTL:PT1H
BEGIN:VTIMEZONE
TZID:Europe/Madrid
BEGIN:DAYLIGHT
TZOFFSETFROM:+0100
TZOFFSETTO:+0200
TZNAME:CEST
DTSTART:20240331T010000
END:DAYLIGHT
BEGIN:STANDARD
TZOFFSETFROM:+0200
TZOFFSETTO:+0100
TZNAME:CET
DTSTART:20241027T010000
END:STANDARD
BEGIN:DAYLIGHT
TZOFFSETFROM:+0100
TZOFFSETTO:+0200
TZNAME:CEST
DTSTART:20250330T010000
END:DAYLIGHT
BEGIN:STANDARD
TZOFFSETFROM:+0200
TZOFFSETTO:+0100
TZNAME:CET
DTSTART:20251026T010000
END:STANDARD
BEGIN:DAYLIGHT
TZOFFSETFROM:+0100
TZOFFSETTO:+0200
TZNAME:CEST
DTSTART:20260329T010000
END:DAYLIGHT
BEGIN:STANDARD
TZOFFSETFROM:+0200
TZOFFSETTO:+0100
TZNAME:CET
DTSTART:20261025T010000
END:STANDARD
END:VTIMEZONE
BEGIN:VEVENT
DTSTART;TZID=Europe/Madrid:20251116T080000
DTEND;TZID=Europe/Madrid:20251116T160000
DTSTAMP:20260424T182014
CREATED:20251108T154016Z
LAST-MODIFIED:20251108T154016Z
UID:57547-1763280000-1763308800@afocer.cat
SUMMARY:Aplec de Sant Iscle 2025
DESCRIPTION:Aplec de Sant Iscle\nEsplanada Sant Iscle de les Feixes\nDiumenge 16 de novembre matí\nINFORMACIÓ\nBASES CONCURS
URL:https://afocer.cat/event/aplec-de-sant-iscle-2025/
LOCATION:Sant Iscle\, Esglèsia de Sant Iscle\, Cerdanyola del Vallès\, Cerdanyola del Vallès\, Barcelona\, 08290\, Spain
CATEGORIES:Activitats,Events,Sortides
ORGANIZER;CN="Afocer activitats":MAILTO:activitats@afocer.cat
END:VEVENT
BEGIN:VEVENT
DTSTART;TZID=Europe/Madrid:20251115T163000
DTEND;TZID=Europe/Madrid:20251115T173000
DTSTAMP:20260424T182014
CREATED:20251110T081205Z
LAST-MODIFIED:20251110T081205Z
UID:57557-1763224200-1763227800@afocer.cat
SUMMARY:Estrena documental Albert Pueyo\, 50 tecles i un objectiu
DESCRIPTION:Estrena documental Albert Pueyo\, 50 tecles i un objectiu\nTeatre de l’Ateneu de Cerdanyola\nDissabte 15 de novembre a les 16:30\nTRAILER
URL:https://afocer.cat/event/estrena-documental-albert-pueyo-50-tecles-i-un-objectiu/
LOCATION:Ateneu de Cerdanyola\, Indústria 38-40\, Cerdanyola del Vallès\, Barcelona\, 08290\, Spain
CATEGORIES:Cinema,Events
END:VEVENT
BEGIN:VEVENT
DTSTART;TZID=Europe/Madrid:20251109T080000
DTEND;TZID=Europe/Madrid:20251109T140000
DTSTAMP:20260424T182014
CREATED:20251017T090755Z
LAST-MODIFIED:20251017T090849Z
UID:57344-1762675200-1762696800@afocer.cat
SUMMARY:10è Cerdanyola Street Motor Show
DESCRIPTION:10è Cerdanyola Street Motor Show\nParc del Turonet – Cerdanyola del Vallès\nDiumenge 9 de novembre – matí\nSi voleu col·laborar en el reportatge fotogràfic confirmeu a activitats@afocer.cat
URL:https://afocer.cat/event/10e-cerdanyola-street-motor-show/
LOCATION:Barcelona
CATEGORIES:Activitats,Events
ORGANIZER;CN="Afocer activitats":MAILTO:activitats@afocer.cat
END:VEVENT
BEGIN:VEVENT
DTSTART;TZID=Europe/Madrid:20251107T183000
DTEND;TZID=Europe/Madrid:20251107T193000
DTSTAMP:20260424T182014
CREATED:20251022T202216Z
LAST-MODIFIED:20251022T202216Z
UID:57380-1762540200-1762543800@afocer.cat
SUMMARY:Inauguració exposició Ellas\, Elles\, They... de Katy Gómez al Centre Cultural del Ripollet
DESCRIPTION:Inauguració exposició Ellas\, Elles\, They… de Katy Gómez al Centre Cultural del Ripollet\nSala d’Art – Centre Cultural de Ripollet\nDivendres 7 de novembre a les 18:30
URL:https://afocer.cat/event/inauguracio-exposicio-ellas-elles-they-de-katy-gomez-al-centre-cultural-del-ripollet/
LOCATION:Centre cultural de Ripollet\, Rambla Sant Jordi 2-4\, Ripollet\, Barcelona\, Spain
CATEGORIES:Events,Exposicions
ORGANIZER;CN="Afocer exposicions":MAILTO:exposicions@afocer.cat
END:VEVENT
BEGIN:VEVENT
DTSTART;TZID=Europe/Madrid:20251106T193000
DTEND;TZID=Europe/Madrid:20251106T210000
DTSTAMP:20260424T182014
CREATED:20241217T181457Z
LAST-MODIFIED:20241225T075648Z
UID:51320-1762457400-1762462800@afocer.cat
SUMMARY:Veredicto concurso social digital/tema obligado de noviembre
DESCRIPTION:Veredicto concurso social digital/tema obligado de noviembre\nAteneu de Cerdanyola\nFecha límite presentación obras: 1 de noviembre
URL:https://afocer.cat/event/veredicto-concurso-social-digital-tema-obligado-de-noviembre/
LOCATION:Ateneu de Cerdanyola\, Indústria 38-40\, Cerdanyola del Vallès\, Barcelona\, 08290\, Spain
ORGANIZER;CN="Afocer concurs digital":MAILTO:socialdigital@afocer.cat
END:VEVENT
BEGIN:VEVENT
DTSTART;TZID=Europe/Madrid:20251106T193000
DTEND;TZID=Europe/Madrid:20251106T210000
DTSTAMP:20260424T182014
CREATED:20241217T181050Z
LAST-MODIFIED:20241224T191759Z
UID:51317-1762457400-1762462800@afocer.cat
SUMMARY:Veredicte concurs social digital/tema obligat de novembre
DESCRIPTION:Veredicte concurs social digital i tema obligat de novembre\nAteneu de Cerdanyola – 19:30\nData límit presentació obres: 1 de novembre
URL:https://afocer.cat/event/veredicte-concurs-social-digital-tema-obligat-de-novembre-3/
LOCATION:Ateneu de Cerdanyola\, Indústria 38-40\, Cerdanyola del Vallès\, Barcelona\, 08290\, Spain
CATEGORIES:Concursos,Events
ORGANIZER;CN="Afocer concurs digital":MAILTO:socialdigital@afocer.cat
END:VEVENT
BEGIN:VEVENT
DTSTART;VALUE=DATE:20251103
DTEND;VALUE=DATE:20260101
DTSTAMP:20260424T182014
CREATED:20251009T144224Z
LAST-MODIFIED:20251009T144225Z
UID:57326-1762128000-1767225599@afocer.cat
SUMMARY:Exposición l'Altra Ciutat de Vicenç Semper en la UAB
DESCRIPTION:Exposición l’Altra Ciutat de Vicenç Semper en la UAB\nBiblioteca de Comunicación y Hemeroteca General\nUniversitat Autònoma de Barcelona\nPlaza Cívica s/n\, edificio N\ndel 3 de noviembre al 31 de diciembre
URL:https://afocer.cat/event/exposicion-laltra-ciutat-de-vicenc-semper-en-la-uab/
LOCATION:Biblioteca comunicació UAB\, Edifici N Campus\, Edifici N\, Plaça Cívica\, s/n\, Cerdanyola del Vallès\, Barcelona\, 08193\, Spain
ORGANIZER;CN="Afocer comissariat":MAILTO:comissariat@afocer.cat
END:VEVENT
BEGIN:VEVENT
DTSTART;VALUE=DATE:20251103
DTEND;VALUE=DATE:20260101
DTSTAMP:20260424T182014
CREATED:20251009T144027Z
LAST-MODIFIED:20251009T144027Z
UID:57324-1762128000-1767225599@afocer.cat
SUMMARY:Exposició l'Altra Ciutat de Vicenç Semper a la UAB
DESCRIPTION:Exposició l’Altra Ciutat de Vicenç Semper a la UAB\nBiblioteca de Comunicació i Hemeroteca General\nUniversitat Autònoma de Barcelona\nPlaça Cívica s/n\, edifici N\ndel 3 de novembre al 31 de desembre
URL:https://afocer.cat/event/exposicio-laltra-ciutat-de-vicenc-semper-a-la-uab/
LOCATION:Biblioteca comunicació UAB\, Edifici N Campus\, Edifici N\, Plaça Cívica\, s/n\, Cerdanyola del Vallès\, Barcelona\, 08193\, Spain
CATEGORIES:Exposicions
ORGANIZER;CN="Afocer comissariat":MAILTO:comissariat@afocer.cat
END:VEVENT
BEGIN:VEVENT
DTSTART;VALUE=DATE:20251103
DTEND;VALUE=DATE:20251201
DTSTAMP:20260424T182014
CREATED:20251011T133324Z
LAST-MODIFIED:20251011T133324Z
UID:57332-1762128000-1764547199@afocer.cat
SUMMARY:Exposición No volveran a tener la comodidad de nuestro silencio en Ripollet
DESCRIPTION:Exposición No volveran a tener la comodidad de nuestro silencio\nBiblioteca de Ripollet\nCtra. Estació\, 40\, Ripollet\nDel 3 al 30 de noviembre
URL:https://afocer.cat/event/exposicion-no-volveran-a-tener-la-comodidad-de-nuestro-silencio-en-ripollet/
LOCATION:Biblioteca de Ripollet\, Carretera de l'Estació 40\, Ripollet\, Barcelona\, 08291\, Spain
ORGANIZER;CN="Afocer concursos":MAILTO:concursos@afocer.cat
END:VEVENT
BEGIN:VEVENT
DTSTART;VALUE=DATE:20251103
DTEND;VALUE=DATE:20251201
DTSTAMP:20260424T182014
CREATED:20251011T133055Z
LAST-MODIFIED:20251011T133055Z
UID:57329-1762128000-1764547199@afocer.cat
SUMMARY:Exposició No tornaran a tenir la comoditat del nostre silenci a Ripollet
DESCRIPTION:Exposició No tornaran a tenir la comoditat del nostre silenci\nBiblioteca de Ripollet\nCtra. Estació\, 40\, Ripollet\nDel 3 al 30 de novembre
URL:https://afocer.cat/event/exposicio-no-tornaran-a-tenir-la-comoditat-del-nostre-silenci-a-ripollet/
LOCATION:Biblioteca de Ripollet\, Carretera de l'Estació 40\, Ripollet\, Barcelona\, 08291\, Spain
CATEGORIES:Exposicions
ORGANIZER;CN="Afocer exposicions":MAILTO:exposicions@afocer.cat
END:VEVENT
BEGIN:VEVENT
DTSTART;VALUE=DATE:20251101
DTEND;VALUE=DATE:20251202
DTSTAMP:20260424T182014
CREATED:20251023T152750Z
LAST-MODIFIED:20251023T152750Z
UID:57388-1761955200-1764633599@afocer.cat
SUMMARY:Exposició El niño que vendió el mundo de Dom Fernandez a la UAB
DESCRIPTION:Exposició El niño que vendió el mundo de Dom Fernández\nBiblioteca de Ciències Socials – Universitat Autònoma de Barcelona\ndel 1 de novembre al 1 de desembre de 2025
URL:https://afocer.cat/event/exposicio-el-nino-que-vendio-el-mundo-de-dom-fernandez-a-la-uab/
LOCATION:Barcelona
CATEGORIES:Exposicions
END:VEVENT
BEGIN:VEVENT
DTSTART;VALUE=DATE:20251101
DTEND;VALUE=DATE:20251201
DTSTAMP:20260424T182014
CREATED:20251022T202713Z
LAST-MODIFIED:20251022T202713Z
UID:57382-1761955200-1764547199@afocer.cat
SUMMARY:Exposició Violència 0 al Casal de Barri de Prosperitat
DESCRIPTION:Exposició Violència 0\nCasal de Barri Prosperitat\nPlaça Àngel Pestaña\, Nou Barris\, Barcelona\nDilluns a divendres\, de 9:00 a 14:00 i 17:00 a 22:00h\nDissabtes\, de 11:00 a 15:00 i de 17:00 a 24:00h\nDel 1 al 30 de novembre
URL:https://afocer.cat/event/exposicio-violencia-0-al-casal-de-barri-de-prosperitat/
LOCATION:Barcelona
CATEGORIES:Exposicions
ORGANIZER;CN="Afocer comissariat":MAILTO:comissariat@afocer.cat
END:VEVENT
BEGIN:VEVENT
DTSTART;VALUE=DATE:20251101
DTEND;VALUE=DATE:20251201
DTSTAMP:20260424T182014
CREATED:20251022T201548Z
LAST-MODIFIED:20251030T144814Z
UID:57376-1761955200-1764547199@afocer.cat
SUMMARY:Exposició Ellas\, Elles\, They... de Katy Gómez al Centre Cultural de Ripollet
DESCRIPTION:Exposició Ellas\, Elles\, They… de Katy Gómez al Centre Cultural de Ripollet\nSala d’Art – Centre Cultural de Ripollet\nRambla Sant Jordi\, 4 Ripollet\nDel 1 al 30 de novembre de 2025
URL:https://afocer.cat/event/exposicio-ellas-elles-they-de-katy-gomez-al-centre-cultural-de-ripollet/
LOCATION:Centre cultural de Ripollet\, Rambla Sant Jordi 2-4\, Ripollet\, Barcelona\, Spain
CATEGORIES:Exposicions
ORGANIZER;CN="Afocer exposicions":MAILTO:exposicions@afocer.cat
END:VEVENT
BEGIN:VEVENT
DTSTART;TZID=Europe/Madrid:20251030T190000
DTEND;TZID=Europe/Madrid:20251030T210000
DTSTAMP:20260424T182014
CREATED:20250913T132229Z
LAST-MODIFIED:20250913T132230Z
UID:57156-1761850800-1761858000@afocer.cat
SUMMARY:Comparte fotos de tu vacaciones
DESCRIPTION:Comparte fotos de les tus vacaciones\nya sean en el mar\, la montaña\, ciudades\, islas\, cruceros\,…\nCualquier formato es válido\nConfirma a formacio@afocer.cat\nLocal social – Ateneu de Cerdanyola\nJueves 30 de octubre – 19:00 a 21:00
URL:https://afocer.cat/event/comparte-fotos-de-tu-vacaciones/
LOCATION:Ateneu de Cerdanyola\, Indústria 38-40\, Cerdanyola del Vallès\, Barcelona\, 08290\, Spain
ORGANIZER;CN="Afocer formaci%C3%B3":MAILTO:formacio@afocer.cat
END:VEVENT
BEGIN:VEVENT
DTSTART;TZID=Europe/Madrid:20251030T190000
DTEND;TZID=Europe/Madrid:20251030T210000
DTSTAMP:20260424T182014
CREATED:20250913T131945Z
LAST-MODIFIED:20251026T062437Z
UID:57154-1761850800-1761858000@afocer.cat
SUMMARY:Comparteix fotos de les teves vacances i celebrem la castanyada
DESCRIPTION:Comparteix fotos de les teves vacances\nja sigui al mar \, la muntanya \, ciutats \, illes \, creuers …\nQualsevol format és vàlid\nComfirma a formacio@afocer.cat\nDesprés de veure les fotos celebrarem la castanyada tots plegats i per endavant . Per això us animem a que porteu algun producte típic d’aquestes dates per compartir :  panellets\, moniatos\, castanyes \,moscatell …\nLocal social – Ateneu de Cerdanyola\nDijous 30 d’octubre – 19:00 a 21:00
URL:https://afocer.cat/event/comparteix-fotos-de-les-teves-vacances/
LOCATION:Ateneu de Cerdanyola\, Indústria 38-40\, Cerdanyola del Vallès\, Barcelona\, 08290\, Spain
CATEGORIES:Activitats,Events
ORGANIZER;CN="Afocer formaci%C3%B3":MAILTO:formacio@afocer.cat
END:VEVENT
BEGIN:VEVENT
DTSTART;TZID=Europe/Madrid:20251025T190000
DTEND;TZID=Europe/Madrid:20251025T210000
DTSTAMP:20260424T182014
CREATED:20251017T054914Z
LAST-MODIFIED:20251017T054915Z
UID:57338-1761418800-1761426000@afocer.cat
SUMMARY:Inauguración exposición de Toni Marin en el local social
DESCRIPTION:Inauguración exposición de Toni Marin en el local social\nLocal social – Ateneu de Cerdanyola\nSábado 25 de octubre a las 19:00
URL:https://afocer.cat/event/inauguracion-exposicion-de-toni-marin-en-el-local-social/
LOCATION:Ateneu de Cerdanyola\, Indústria 38-40\, Cerdanyola del Vallès\, Barcelona\, 08290\, Spain
ORGANIZER;CN="Afocer concurs digital":MAILTO:socialdigital@afocer.cat
END:VEVENT
BEGIN:VEVENT
DTSTART;TZID=Europe/Madrid:20251025T190000
DTEND;TZID=Europe/Madrid:20251025T210000
DTSTAMP:20260424T182014
CREATED:20251017T054723Z
LAST-MODIFIED:20251022T200358Z
UID:57336-1761418800-1761426000@afocer.cat
SUMMARY:Inauguració exposició de Toni Marin al local social
DESCRIPTION:Inauguració exposició Uoquis a Barcelona de Toni Marin al local social\nLocal social – Ateneu de Cerdanyola\nDissabte 25 d’octubre a les 19:00
URL:https://afocer.cat/event/inauguracio-exposicio-de-toni-marin-al-local-social/
LOCATION:Ateneu de Cerdanyola\, Indústria 38-40\, Cerdanyola del Vallès\, Barcelona\, 08290\, Spain
CATEGORIES:Events,Exposicions
ORGANIZER;CN="Afocer concurs digital":MAILTO:socialdigital@afocer.cat
END:VEVENT
BEGIN:VEVENT
DTSTART;TZID=Europe/Madrid:20251025T173000
DTEND;TZID=Europe/Madrid:20251025T190000
DTSTAMP:20260424T182014
CREATED:20241225T081134Z
LAST-MODIFIED:20241225T081135Z
UID:52327-1761413400-1761418800@afocer.cat
SUMMARY:Veredicto concurso social color y monocromo de octubre
DESCRIPTION:Veredicto concurso social color y monocromo de octubre\nAteneu de Cerdanyola\nFecha límite presentación obras: 23 de octubre
URL:https://afocer.cat/event/veredicto-concurso-social-color-y-monocromo-de-octubre/
LOCATION:Ateneu de Cerdanyola\, Indústria 38-40\, Cerdanyola del Vallès\, Barcelona\, 08290\, Spain
ORGANIZER;CN="Afocer concurs paper":MAILTO:socialpaper@afocer.cat
END:VEVENT
BEGIN:VEVENT
DTSTART;TZID=Europe/Madrid:20251025T173000
DTEND;TZID=Europe/Madrid:20251025T190000
DTSTAMP:20260424T182014
CREATED:20241225T075026Z
LAST-MODIFIED:20241225T075026Z
UID:52281-1761413400-1761418800@afocer.cat
SUMMARY:Veredicte concurs social color i monocrom d'octubre
DESCRIPTION:Veredicte concurs social color i monocrom d’octubre\nAteneu de Cerdanyola – 17:30\nData límit presentació obres: 23 d’octubre
URL:https://afocer.cat/event/veredicte-concurs-social-color-i-monocrom-doctubre-3/
LOCATION:Ateneu de Cerdanyola\, Indústria 38-40\, Cerdanyola del Vallès\, Barcelona\, 08290\, Spain
CATEGORIES:Concursos,Events
ORGANIZER;CN="Afocer concurs paper":MAILTO:socialpaper@afocer.cat
END:VEVENT
BEGIN:VEVENT
DTSTART;VALUE=DATE:20251025
DTEND;VALUE=DATE:20251129
DTSTAMP:20260424T182014
CREATED:20251022T201000Z
LAST-MODIFIED:20251022T201000Z
UID:57373-1761350400-1764374399@afocer.cat
SUMMARY:Exposició Uoquis a Barcelona de Toni Marin al local social
DESCRIPTION:Exposició Uoquis a Barcelona de Toni Marin\nLocal social – Ateneu de Cerdanyola\nDel 25 d’octubre al 28 de novembre de 2025
URL:https://afocer.cat/event/exposicio-uoquis-a-barcelona-de-toni-marin-al-local-social/
LOCATION:Ateneu de Cerdanyola\, Indústria 38-40\, Cerdanyola del Vallès\, Barcelona\, 08290\, Spain
CATEGORIES:Exposicions
ORGANIZER;CN="Afocer concurs digital":MAILTO:socialdigital@afocer.cat
END:VEVENT
BEGIN:VEVENT
DTSTART;TZID=Europe/Madrid:20251017T190000
DTEND;TZID=Europe/Madrid:20251017T200000
DTSTAMP:20260424T182014
CREATED:20251009T142745Z
LAST-MODIFIED:20251009T142746Z
UID:57310-1760727600-1760731200@afocer.cat
SUMMARY:Entrega premios y inauguració exposición 50o aniversario Aplec de la Sardana
DESCRIPTION:Inauguración exposición y entrega de premios 50º aniversario Aplec de la Sardana\nSala 22 – Ateneu de Cerdanyola \nViernes 17 de octubre a las 19:00
URL:https://afocer.cat/event/entrega-premios-y-inauguracio-exposicion-50o-aniversario-aplec-de-la-sardana/
LOCATION:Ateneu de Cerdanyola\, Indústria 38-40\, Cerdanyola del Vallès\, Barcelona\, 08290\, Spain
ORGANIZER;CN="Afocer exposicions":MAILTO:exposicions@afocer.cat
END:VEVENT
BEGIN:VEVENT
DTSTART;TZID=Europe/Madrid:20251017T190000
DTEND;TZID=Europe/Madrid:20251017T200000
DTSTAMP:20260424T182014
CREATED:20251009T142548Z
LAST-MODIFIED:20251009T142548Z
UID:57308-1760727600-1760731200@afocer.cat
SUMMARY:Lliurament premis i inauguració exposició 50è aniversari Aplec de la Sardana
DESCRIPTION:Inauguració exposició i lliurament premis 50è aniversari Aplec de la Sardana\nSala 22 – Ateneu de Cerdanyola \nDivendres 17 d’octubre a les 19:00
URL:https://afocer.cat/event/lliurament-premis-i-inauguracio-exposicio-50e-aniversari-aplec-de-la-sardana/
LOCATION:Ateneu de Cerdanyola\, Indústria 38-40\, Cerdanyola del Vallès\, Barcelona\, 08290\, Spain
CATEGORIES:Concursos,Events,Exposicions
ORGANIZER;CN="Afocer exposicions":MAILTO:exposicions@afocer.cat
END:VEVENT
BEGIN:VEVENT
DTSTART;VALUE=DATE:20251017
DTEND;VALUE=DATE:20251118
DTSTAMP:20260424T182014
CREATED:20251009T143210Z
LAST-MODIFIED:20251009T143211Z
UID:57315-1760659200-1763423999@afocer.cat
SUMMARY:Exposición fotos concurso 50º aniversario Aplec de la Sardana
DESCRIPTION:Exposición fotografías concurso 50º aniversario Aplec de la Sardana\nSala  22 – Ateneu de Cerdanyola \nDel 17 de octubre al 17 de noviembre
URL:https://afocer.cat/event/exposicion-fotos-concurso-50o-aniversario-aplec-de-la-sardana/
LOCATION:Ateneu de Cerdanyola\, Indústria 38-40\, Cerdanyola del Vallès\, Barcelona\, 08290\, Spain
ORGANIZER;CN="Afocer exposicions":MAILTO:exposicions@afocer.cat
END:VEVENT
BEGIN:VEVENT
DTSTART;VALUE=DATE:20251017
DTEND;VALUE=DATE:20251118
DTSTAMP:20260424T182014
CREATED:20251009T142945Z
LAST-MODIFIED:20251009T142945Z
UID:57313-1760659200-1763423999@afocer.cat
SUMMARY:Exposició fotografies concurs 50è aniversari Aplec de la Sardana
DESCRIPTION:Exposició fotografies concurs 50è aniversari Aplec de la Sardana\nSala  22 – Ateneu de Cerdanyola \nDel 17 d’octubre al 17 de novembre
URL:https://afocer.cat/event/exposicio-fotografies-concurs-50e-aniversari-aplec-de-la-sardana/
LOCATION:Ateneu de Cerdanyola\, Indústria 38-40\, Cerdanyola del Vallès\, Barcelona\, 08290\, Spain
CATEGORIES:Exposicions
ORGANIZER;CN="Afocer exposicions":MAILTO:exposicions@afocer.cat
END:VEVENT
BEGIN:VEVENT
DTSTART;TZID=Europe/Madrid:20251010T190000
DTEND;TZID=Europe/Madrid:20251010T210000
DTSTAMP:20260424T182014
CREATED:20250918T065752Z
LAST-MODIFIED:20250918T065753Z
UID:57185-1760122800-1760130000@afocer.cat
SUMMARY:Charla de Arquitectura Fine Art con Rosa Maria Navarro y Maria Jovell
DESCRIPTION:Charla de arquitectura Fine Art con Rosa Maria Navarro i Maria Jovell\nCentre Cultural de Ripollet\nViernes 10 de octubre de 19:00 a 21:00\nOrganizado por AFR
URL:https://afocer.cat/event/charla-de-arquitectura-fine-art-con-rosa-maria-navarro-y-maria-jovell/
LOCATION:Centre cultural de Ripollet\, Rambla Sant Jordi 2-4\, Ripollet\, Barcelona\, Spain
END:VEVENT
BEGIN:VEVENT
DTSTART;TZID=Europe/Madrid:20251010T190000
DTEND;TZID=Europe/Madrid:20251010T210000
DTSTAMP:20260424T182014
CREATED:20250918T065554Z
LAST-MODIFIED:20250918T065554Z
UID:57183-1760122800-1760130000@afocer.cat
SUMMARY:Xerrada d'arquitectura Fine Art amb Rosa Maria Navarro i Maria Jovell
DESCRIPTION:Xerrada d’arquitectura Fine Art amb Rosa Maria Navarro i Maria Jovell\nCentre Cultural de Ripollet\nDivendres 10 d’octubre de 19:00 a 21:00\nOrganitzat per AFR
URL:https://afocer.cat/event/xerrada-darquitectura-fine-art-amb-rosa-maria-navarro-i-maria-jovell/
LOCATION:Centre cultural de Ripollet\, Rambla Sant Jordi 2-4\, Ripollet\, Barcelona\, Spain
CATEGORIES:Activitats,Events
END:VEVENT
BEGIN:VEVENT
DTSTART;TZID=Europe/Madrid:20251009T193000
DTEND;TZID=Europe/Madrid:20251009T210000
DTSTAMP:20260424T182014
CREATED:20241217T181643Z
LAST-MODIFIED:20241225T075727Z
UID:51324-1760038200-1760043600@afocer.cat
SUMMARY:Veredicto concurso social digital/tema obligado de octubre
DESCRIPTION:Veredicto concurso social digital/tema obligado de octubre\nAteneu de Cerdanyola\nFecha límite presentación obras: 4 de octubre
URL:https://afocer.cat/event/veredicto-concurso-social-digital-tema-obligado-de-octubre/
LOCATION:Ateneu de Cerdanyola\, Indústria 38-40\, Cerdanyola del Vallès\, Barcelona\, 08290\, Spain
ORGANIZER;CN="Afocer concurs digital":MAILTO:socialdigital@afocer.cat
END:VEVENT
BEGIN:VEVENT
DTSTART;TZID=Europe/Madrid:20251009T193000
DTEND;TZID=Europe/Madrid:20251009T210000
DTSTAMP:20260424T182014
CREATED:20241217T180946Z
LAST-MODIFIED:20241224T191723Z
UID:51314-1760038200-1760043600@afocer.cat
SUMMARY:Veredicte concurs social digital/tema obligat d'octubre
DESCRIPTION:Veredicte concurs social digital i tema obligat d’octubre\nAteneu de Cerdanyola – 19:30\nData límit presentació obres: 4 d’octubre
URL:https://afocer.cat/event/veredicte-concurs-social-digital-tema-obligat-doctubre-3/
LOCATION:Ateneu de Cerdanyola\, Indústria 38-40\, Cerdanyola del Vallès\, Barcelona\, 08290\, Spain
CATEGORIES:Concursos,Events
ORGANIZER;CN="Afocer concurs digital":MAILTO:socialdigital@afocer.cat
END:VEVENT
BEGIN:VEVENT
DTSTART;VALUE=DATE:20250927
DTEND;VALUE=DATE:20250928
DTSTAMP:20260424T182014
CREATED:20250921T052614Z
LAST-MODIFIED:20250921T052615Z
UID:57269-1758931200-1759017599@afocer.cat
SUMMARY:Carrera SomVallèsTrail
DESCRIPTION:Carrera SomVallèsTrail\nCerdanyola\, Sabadell\, Castellar\, Matadepera\, Sant Quirze\nSábado 27 de septiembre\nhttps://somvallestrail.cat
URL:https://afocer.cat/event/carrera-somvallestrail/
LOCATION:Barcelona
END:VEVENT
BEGIN:VEVENT
DTSTART;VALUE=DATE:20250927
DTEND;VALUE=DATE:20250928
DTSTAMP:20260424T182014
CREATED:20250921T052458Z
LAST-MODIFIED:20250921T052458Z
UID:57267-1758931200-1759017599@afocer.cat
SUMMARY:Cursa SomVallèsTrail
DESCRIPTION:Cursa SomVallèsTrail\nCerdanyola\, Sabadell\, Castellar\, Matadepera\, Sant Quirze\nDissabte 27 de setembre\nhttps://somvallestrail.cat
URL:https://afocer.cat/event/cursa-somvallestrail/
LOCATION:Barcelona
CATEGORIES:Activitats,Events,Sortides
END:VEVENT
END:VCALENDAR