BEGIN:VCALENDAR
VERSION:2.0
PRODID:-//AFOCER - ECPv6.15.20//NONSGML v1.0//EN
CALSCALE:GREGORIAN
METHOD:PUBLISH
X-ORIGINAL-URL:https://afocer.cat
X-WR-CALDESC:Eventos para AFOCER
REFRESH-INTERVAL;VALUE=DURATION:PT1H
X-Robots-Tag:noindex
X-PUBLISHED-TTL:PT1H
BEGIN:VTIMEZONE
TZID:Europe/Madrid
BEGIN:DAYLIGHT
TZOFFSETFROM:+0100
TZOFFSETTO:+0200
TZNAME:CEST
DTSTART:20230326T010000
END:DAYLIGHT
BEGIN:STANDARD
TZOFFSETFROM:+0200
TZOFFSETTO:+0100
TZNAME:CET
DTSTART:20231029T010000
END:STANDARD
BEGIN:DAYLIGHT
TZOFFSETFROM:+0100
TZOFFSETTO:+0200
TZNAME:CEST
DTSTART:20240331T010000
END:DAYLIGHT
BEGIN:STANDARD
TZOFFSETFROM:+0200
TZOFFSETTO:+0100
TZNAME:CET
DTSTART:20241027T010000
END:STANDARD
BEGIN:DAYLIGHT
TZOFFSETFROM:+0100
TZOFFSETTO:+0200
TZNAME:CEST
DTSTART:20250330T010000
END:DAYLIGHT
BEGIN:STANDARD
TZOFFSETFROM:+0200
TZOFFSETTO:+0100
TZNAME:CET
DTSTART:20251026T010000
END:STANDARD
END:VTIMEZONE
BEGIN:VEVENT
DTSTART;VALUE=DATE:20240426
DTEND;VALUE=DATE:20240928
DTSTAMP:20260424T084135
CREATED:20240316T101611Z
LAST-MODIFIED:20240411T160107Z
UID:44651-1714089600-1727481599@afocer.cat
SUMMARY:Exposició Escala 5 planta 4 de Carme Aldana a l'Hospital Clínic
DESCRIPTION:Exposició Escala 5 planta 4 de Carme Aldana\nHospital Clínic de Barcelona\ndel 26 d’abril al 27 de setembre de 2024
URL:https://afocer.cat/event/exposicio-escala-5-planta-4-de-carme-aldana-a-lhospital-clinic/
CATEGORIES:Exposicions
ORGANIZER;CN="Afocer comissariat":MAILTO:comissariat@afocer.cat
END:VEVENT
BEGIN:VEVENT
DTSTART;VALUE=DATE:20240426
DTEND;VALUE=DATE:20240928
DTSTAMP:20260424T084135
CREATED:20240316T101611Z
LAST-MODIFIED:20240411T160207Z
UID:44653-1714089600-1727481599@afocer.cat
SUMMARY:Exposición Escala 5 planta 4 de Carme Aldana en el Hospital Clínic
DESCRIPTION:Exposición Escala 5 planta 4 de Carme Aldana\nHospital Clínic de Barcelona\ndel 26 de abril al 27 de setembre de 2024
URL:https://afocer.cat/event/exposicio-escala-5-planta-4-de-carme-aldana-a-lhospital-clinic/
ORGANIZER;CN="Afocer comissariat":MAILTO:comissariat@afocer.cat
END:VEVENT
BEGIN:VEVENT
DTSTART;VALUE=DATE:20240629
DTEND;VALUE=DATE:20240928
DTSTAMP:20260424T084135
CREATED:20240629T140541Z
LAST-MODIFIED:20240629T140541Z
UID:46878-1719619200-1727481599@afocer.cat
SUMMARY:Exposició Imatges de Nova York de Diego Gonzalez
DESCRIPTION:Exposició Imatges de Nova York de Diego Gonzalez\nLocal social – Ateneu de Cerdanyola\nDel 29 de juny al28 de setembre
URL:https://afocer.cat/event/exposicio-imatges-de-nova-york-de-diego-gonzalez/
LOCATION:Ateneu de Cerdanyola\, Indústria 38-40\, Cerdanyola del Vallès\, Barcelona\, 08290\, Spain
CATEGORIES:Exposicions
ORGANIZER;CN="Afocer exposicions":MAILTO:exposicions@afocer.cat
END:VEVENT
BEGIN:VEVENT
DTSTART;VALUE=DATE:20240629
DTEND;VALUE=DATE:20240928
DTSTAMP:20260424T084135
CREATED:20240629T140723Z
LAST-MODIFIED:20240629T140724Z
UID:46880-1719619200-1727481599@afocer.cat
SUMMARY:Exposición Imágenes de Nueva York de Diego Gonzalez
DESCRIPTION:Exposición Imágenes de Nueva York de Diego Gonzalez\nLocal social – Ateneu de Cerdanyola\nDel 29 de junio al28 de septiembre
URL:https://afocer.cat/event/exposicion-imagenes-de-nueva-york-de-diego-gonzalez/
LOCATION:Ateneu de Cerdanyola\, Indústria 38-40\, Cerdanyola del Vallès\, Barcelona\, 08290\, Spain
ORGANIZER;CN="Afocer exposicions":MAILTO:exposicions@afocer.cat
END:VEVENT
BEGIN:VEVENT
DTSTART;VALUE=DATE:20240824
DTEND;VALUE=DATE:20240826
DTSTAMP:20260424T084135
CREATED:20240721T111303Z
LAST-MODIFIED:20240721T111303Z
UID:47530-1724457600-1724630399@afocer.cat
SUMMARY:Taller infantil de fotografia de la Festa Major de Ripollet
DESCRIPTION:Taller infantil de fotografia de la Festa Major de Ripollet\nDissabte 24 i diumenge 25 d’agost de 9 a 13\nNens i nenes de 8 a 12 anys – gratuït\ninscripció prèvia a tito@afocer.cat
URL:https://afocer.cat/event/taller-infantil-de-fotografia-de-la-festa-major-de-ripollet/
LOCATION:Centre cultural de Ripollet\, Rambla Sant Jordi 2-4\, Ripollet\, Barcelona\, Spain
CATEGORIES:Sortides,Taller
ORGANIZER;CN="Afocer":MAILTO:activitats@afocer.cat
END:VEVENT
BEGIN:VEVENT
DTSTART;VALUE=DATE:20240824
DTEND;VALUE=DATE:20240826
DTSTAMP:20260424T084135
CREATED:20240721T111457Z
LAST-MODIFIED:20240721T111458Z
UID:47532-1724457600-1724630399@afocer.cat
SUMMARY:Taller infantil de fotografia de la Fiesta Mayor de Ripollet
DESCRIPTION:Taller infantil de fotografía de la Festa Major de Ripollet\nSábado 24 y domingo 25 de agosto de 9 a 13\nNiños y niñas de 8 a 12 años – gratuito\ninscripción previa a tito@afocer.cat
URL:https://afocer.cat/event/taller-infantil-de-fotografia-de-la-fiesta-mayor-de-ripollet/
LOCATION:Centre cultural de Ripollet\, Rambla Sant Jordi 2-4\, Ripollet\, Barcelona\, Spain
ORGANIZER;CN="Afocer":MAILTO:activitats@afocer.cat
END:VEVENT
BEGIN:VEVENT
DTSTART;VALUE=DATE:20240831
DTEND;VALUE=DATE:20240916
DTSTAMP:20260424T084135
CREATED:20240708T173041Z
LAST-MODIFIED:20240708T173048Z
UID:47188-1725062400-1726444799@afocer.cat
SUMMARY:Exposició Aphotoreporter 2023 al Visa Off
DESCRIPTION:Exposició Aphotoreporter al Visa Off de Perpignan\nDel 31 d’agost al 15 de setembre\, de 10:30 a 18:30\nCentre d’Art Contemporain\nPlaça del Pont d’en Vestit\nPerpignan
URL:https://afocer.cat/event/exposicio-aphotoreporter-2023-al-visa-off/
CATEGORIES:Exposicions
ORGANIZER;CN="Afocer exposicions":MAILTO:exposicions@afocer.cat
END:VEVENT
BEGIN:VEVENT
DTSTART;VALUE=DATE:20240831
DTEND;VALUE=DATE:20240916
DTSTAMP:20260424T084135
CREATED:20240708T173241Z
LAST-MODIFIED:20240708T173242Z
UID:47190-1725062400-1726444799@afocer.cat
SUMMARY:Exposición Aphotoreporter en el Visa Off
DESCRIPTION:Exposición Aphotoreporter en el Visa Off de Perpignan\nDel 31 de agosto al 15 de septiembre\, de 10:30 a 18:30\nCentre d’Art Contemporain\nPlaça del Pont d’en Vestit\nPerpignan
URL:https://afocer.cat/event/exposicion-aphotoreporter-en-el-visa-off/
ORGANIZER;CN="Afocer exposicions":MAILTO:exposicions@afocer.cat
END:VEVENT
BEGIN:VEVENT
DTSTART;VALUE=DATE:20240831
DTEND;VALUE=DATE:20240929
DTSTAMP:20260424T084135
CREATED:20240721T165739Z
LAST-MODIFIED:20240721T170619Z
UID:47553-1725062400-1727567999@afocer.cat
SUMMARY:Exposició Blues Visions a 7 de música de Vic
DESCRIPTION:Exposició Blues Visions\n7 de música – Vic\nDel 31 d’agost al 28 de setembre\nMuseu de l’Art de la Pell\nArquebisbe Alemany\, 5 Vic\nINFORMACIÓ\n7 de Música
URL:https://afocer.cat/event/exposicio-blues-visions-a-7-de-musica-de-vic/
LOCATION:Museu d’Art de la Pell de Vic\, Arquebisbe Alemany 5\, Vic\, Barcelona\, España
CATEGORIES:Exposicions
ORGANIZER;CN="Afocer exposicions":MAILTO:exposicions@afocer.cat
END:VEVENT
BEGIN:VEVENT
DTSTART;VALUE=DATE:20240831
DTEND;VALUE=DATE:20240929
DTSTAMP:20260424T084135
CREATED:20240721T170009Z
LAST-MODIFIED:20240721T170011Z
UID:47558-1725062400-1727567999@afocer.cat
SUMMARY:Exposición Blues Visions en 7 de música de Vic
DESCRIPTION:Exposición Blues Visions\n7 de música – Vic\nDel 31 de agosto al 28 de septiembre\nMuseu de l’Art de la Pell\nArquebisbe Alemany\, 5 Vic\nINFORMACIÓN\n7 de Música
URL:https://afocer.cat/event/exposicion-blues-visions-en-7-de-musica-de-vic/
LOCATION:Museu d’Art de la Pell de Vic\, Arquebisbe Alemany 5\, Vic\, Barcelona\, España
ORGANIZER;CN="Afocer exposicions":MAILTO:exposicions@afocer.cat
END:VEVENT
END:VCALENDAR