BEGIN:VCALENDAR
VERSION:2.0
PRODID:-//AFOCER - ECPv6.15.20//NONSGML v1.0//EN
CALSCALE:GREGORIAN
METHOD:PUBLISH
X-WR-CALNAME:AFOCER
X-ORIGINAL-URL:https://afocer.cat
X-WR-CALDESC:Eventos para AFOCER
REFRESH-INTERVAL;VALUE=DURATION:PT1H
X-Robots-Tag:noindex
X-PUBLISHED-TTL:PT1H
BEGIN:VTIMEZONE
TZID:Europe/Madrid
BEGIN:DAYLIGHT
TZOFFSETFROM:+0100
TZOFFSETTO:+0200
TZNAME:CEST
DTSTART:20250330T010000
END:DAYLIGHT
BEGIN:STANDARD
TZOFFSETFROM:+0200
TZOFFSETTO:+0100
TZNAME:CET
DTSTART:20251026T010000
END:STANDARD
BEGIN:DAYLIGHT
TZOFFSETFROM:+0100
TZOFFSETTO:+0200
TZNAME:CEST
DTSTART:20260329T010000
END:DAYLIGHT
BEGIN:STANDARD
TZOFFSETFROM:+0200
TZOFFSETTO:+0100
TZNAME:CET
DTSTART:20261025T010000
END:STANDARD
BEGIN:DAYLIGHT
TZOFFSETFROM:+0100
TZOFFSETTO:+0200
TZNAME:CEST
DTSTART:20270328T010000
END:DAYLIGHT
BEGIN:STANDARD
TZOFFSETFROM:+0200
TZOFFSETTO:+0100
TZNAME:CET
DTSTART:20271031T010000
END:STANDARD
END:VTIMEZONE
BEGIN:VEVENT
DTSTART;VALUE=DATE:20260302
DTEND;VALUE=DATE:20260501
DTSTAMP:20260422T153032
CREATED:20260205T095707Z
LAST-MODIFIED:20260205T095802Z
UID:58203-1772409600-1777593599@afocer.cat
SUMMARY:Exposició de MariAngeles Benitez a la UAB
DESCRIPTION:Exposició «No volveran a tener la comodidad de nuestro silencio» de MariAngeles Benítez\nBiblioteca de Comunicació i Hemeroteca General de la UAB\nEdifici N\, Plaça Cívica\, Campus UAB\nCerdanyola del Vallès\ndel 2 de març al 30 d’abril de 2026\ntema obligatori: Aparadors\nINFORMACIÓ
URL:https://afocer.cat/event/exposicio-de-mariangeles-benitez-a-la-uab/
LOCATION:Biblioteca comunicació UAB\, Edifici N Campus\, Edifici N\, Plaça Cívica\, s/n\, Cerdanyola del Vallès\, Barcelona\, 08193\, Spain
CATEGORIES:Exposicions
ORGANIZER;CN="Afocer comissariat":MAILTO:comissariat@afocer.cat
END:VEVENT
BEGIN:VEVENT
DTSTART;VALUE=DATE:20260321
DTEND;VALUE=DATE:20260425
DTSTAMP:20260422T153032
CREATED:20260322T052820Z
LAST-MODIFIED:20260322T052820Z
UID:58545-1774051200-1777075199@afocer.cat
SUMMARY:Exposició Covid 19 de Joan Mimó al local social
DESCRIPTION:Exposició Covid 19 de Joan Mimó\nLocal social – Ateneu de Cerdanyola\nDel 21 de març al 24 d’abril de 2026
URL:https://afocer.cat/event/exposicio-covid-19-de-joan-mimo-al-local-social/
LOCATION:Ateneu de Cerdanyola\, Indústria 38-40\, Cerdanyola del Vallès\, Barcelona\, 08290\, Spain
CATEGORIES:Exposicions
ORGANIZER;CN="Afocer concurs digital":MAILTO:socialdigital@afocer.cat
END:VEVENT
BEGIN:VEVENT
DTSTART;VALUE=DATE:20260425
DTEND;VALUE=DATE:20260530
DTSTAMP:20260422T153032
CREATED:20260419T155157Z
LAST-MODIFIED:20260419T155157Z
UID:58688-1777075200-1780099199@afocer.cat
SUMMARY:Exposició Delta de l'Ebre 2014-2024 de Paco Archs
DESCRIPTION:Exposició Delta de l’Ebre 2014-2024 de Paco Archs\nLocal social – Ateneu de Cerdanyola\nDel 25 d’abril al 29 de maig de 2026
URL:https://afocer.cat/event/exposicio-delta-de-lebre-2014-2024-de-paco-archs/
LOCATION:Ateneu de Cerdanyola\, Indústria 38-40\, Cerdanyola del Vallès\, Barcelona\, 08290\, Spain
CATEGORIES:Exposicions
ORGANIZER;CN="Afocer concurs digital":MAILTO:socialdigital@afocer.cat
END:VEVENT
BEGIN:VEVENT
DTSTART;TZID=Europe/Madrid:20260425T173000
DTEND;TZID=Europe/Madrid:20260425T190000
DTSTAMP:20260422T153032
CREATED:20251120T214050Z
LAST-MODIFIED:20251120T214050Z
UID:57787-1777138200-1777143600@afocer.cat
SUMMARY:Veredicte concurs social color i monocrom d'abril
DESCRIPTION:Veredicte concurs social color i monocrom d’abril\nAteneu de Cerdanyola – 17:30\nData límit presentació obres: 23 d’abril
URL:https://afocer.cat/event/veredicte-concurs-social-color-i-monocrom-dabril-4/
LOCATION:Ateneu de Cerdanyola\, Indústria 38-40\, Cerdanyola del Vallès\, Barcelona\, 08290\, Spain
CATEGORIES:Concursos,Events
ORGANIZER;CN="Afocer concurs paper":MAILTO:socialpaper@afocer.cat
END:VEVENT
BEGIN:VEVENT
DTSTART;TZID=Europe/Madrid:20260425T190000
DTEND;TZID=Europe/Madrid:20260425T203000
DTSTAMP:20260422T153032
CREATED:20260419T155341Z
LAST-MODIFIED:20260419T155341Z
UID:58690-1777143600-1777149000@afocer.cat
SUMMARY:Inauguració exposició Delta de l'Ebre 2014-2024 de Paco Archs
DESCRIPTION:Inauguració exposició Delta de l’Ebre 2014-2024 de Paco Archs\nLocal social – Ateneu de Cerdanyola\nDissabte 25 d’abril a les 19:00
URL:https://afocer.cat/event/inauguracio-exposicio-delta-de-lebre-2014-2024-de-paco-archs/
LOCATION:Ateneu de Cerdanyola\, Indústria 38-40\, Cerdanyola del Vallès\, Barcelona\, 08290\, Spain
CATEGORIES:Events,Exposicions
ORGANIZER;CN="Afocer concurs digital":MAILTO:socialdigital@afocer.cat
END:VEVENT
BEGIN:VEVENT
DTSTART;VALUE=DATE:20260426
DTEND;VALUE=DATE:20260427
DTSTAMP:20260422T153032
CREATED:20260323T084842Z
LAST-MODIFIED:20260323T084842Z
UID:58591-1777161600-1777247999@afocer.cat
SUMMARY:Festa de la fotografia 2026
DESCRIPTION:41ª Festa de la fotografia 2026\nFàbrica Llobet-Guri\, Calella\nDiumenge 26 d’abril\nINFORMACIÓ
URL:https://afocer.cat/event/festa-de-la-fotografia-2026/
CATEGORIES:Activitats,Events,Sortides
END:VEVENT
END:VCALENDAR